BEGIN:VCALENDAR
VERSION:2.0
PRODID:-//Our Lady of Grace Church - ECPv6.15.17//NONSGML v1.0//EN
CALSCALE:GREGORIAN
METHOD:PUBLISH
X-WR-CALNAME:Our Lady of Grace Church
X-ORIGINAL-URL:https://ourladyofgracechurch.com
X-WR-CALDESC:Events for Our Lady of Grace Church
REFRESH-INTERVAL;VALUE=DURATION:PT1H
X-Robots-Tag:noindex
X-PUBLISHED-TTL:PT1H
BEGIN:VTIMEZONE
TZID:America/New_York
BEGIN:DAYLIGHT
TZOFFSETFROM:-0500
TZOFFSETTO:-0400
TZNAME:EDT
DTSTART:20250309T070000
END:DAYLIGHT
BEGIN:STANDARD
TZOFFSETFROM:-0400
TZOFFSETTO:-0500
TZNAME:EST
DTSTART:20251102T060000
END:STANDARD
BEGIN:DAYLIGHT
TZOFFSETFROM:-0500
TZOFFSETTO:-0400
TZNAME:EDT
DTSTART:20260308T070000
END:DAYLIGHT
BEGIN:STANDARD
TZOFFSETFROM:-0400
TZOFFSETTO:-0500
TZNAME:EST
DTSTART:20261101T060000
END:STANDARD
BEGIN:DAYLIGHT
TZOFFSETFROM:-0500
TZOFFSETTO:-0400
TZNAME:EDT
DTSTART:20270314T070000
END:DAYLIGHT
BEGIN:STANDARD
TZOFFSETFROM:-0400
TZOFFSETTO:-0500
TZNAME:EST
DTSTART:20271107T060000
END:STANDARD
END:VTIMEZONE
BEGIN:VEVENT
DTSTART;TZID=America/New_York:20260426T130000
DTEND;TZID=America/New_York:20260426T140000
DTSTAMP:20260421T065327
CREATED:20230817T200520Z
LAST-MODIFIED:20260311T035411Z
UID:10004053-1777208400-1777212000@ourladyofgracechurch.com
SUMMARY:Misa de Pascua en Español (Mass in English)
DESCRIPTION:
URL:https://ourladyofgracechurch.com/event/misa-en-espanol-mass-in-english/2026-04-26/
LOCATION:Our Lady of Grace Catholic Church\, 300 Malabar Rd\, Palm Bay\, 32907\, United States
ATTACH;FMTTYPE=image/png:https://ourladyofgracechurch.com/wp-content/uploads/2023/08/Untitled-design-6.png
END:VEVENT
BEGIN:VEVENT
DTSTART;TZID=America/New_York:20260503T130000
DTEND;TZID=America/New_York:20260503T140000
DTSTAMP:20260421T065327
CREATED:20230817T200520Z
LAST-MODIFIED:20260311T035411Z
UID:10004054-1777813200-1777816800@ourladyofgracechurch.com
SUMMARY:Misa de Pascua en Español (Mass in English)
DESCRIPTION:
URL:https://ourladyofgracechurch.com/event/misa-en-espanol-mass-in-english/2026-05-03/
LOCATION:Our Lady of Grace Catholic Church\, 300 Malabar Rd\, Palm Bay\, 32907\, United States
ATTACH;FMTTYPE=image/png:https://ourladyofgracechurch.com/wp-content/uploads/2023/08/Untitled-design-6.png
END:VEVENT
BEGIN:VEVENT
DTSTART;TZID=America/New_York:20260510T130000
DTEND;TZID=America/New_York:20260510T140000
DTSTAMP:20260421T065327
CREATED:20230817T200520Z
LAST-MODIFIED:20260311T035411Z
UID:10004055-1778418000-1778421600@ourladyofgracechurch.com
SUMMARY:Misa de Pascua en Español (Mass in English)
DESCRIPTION:
URL:https://ourladyofgracechurch.com/event/misa-en-espanol-mass-in-english/2026-05-10/
LOCATION:Our Lady of Grace Catholic Church\, 300 Malabar Rd\, Palm Bay\, 32907\, United States
ATTACH;FMTTYPE=image/png:https://ourladyofgracechurch.com/wp-content/uploads/2023/08/Untitled-design-6.png
END:VEVENT
BEGIN:VEVENT
DTSTART;TZID=America/New_York:20260517T130000
DTEND;TZID=America/New_York:20260517T140000
DTSTAMP:20260421T065327
CREATED:20230817T200520Z
LAST-MODIFIED:20260311T035411Z
UID:10004056-1779022800-1779026400@ourladyofgracechurch.com
SUMMARY:Misa de Pascua en Español (Mass in English)
DESCRIPTION:
URL:https://ourladyofgracechurch.com/event/misa-en-espanol-mass-in-english/2026-05-17/
LOCATION:Our Lady of Grace Catholic Church\, 300 Malabar Rd\, Palm Bay\, 32907\, United States
ATTACH;FMTTYPE=image/png:https://ourladyofgracechurch.com/wp-content/uploads/2023/08/Untitled-design-6.png
END:VEVENT
BEGIN:VEVENT
DTSTART;TZID=America/New_York:20260524T130000
DTEND;TZID=America/New_York:20260524T140000
DTSTAMP:20260421T065327
CREATED:20230817T200520Z
LAST-MODIFIED:20260311T035411Z
UID:10004057-1779627600-1779631200@ourladyofgracechurch.com
SUMMARY:Misa de Pascua en Español (Mass in English)
DESCRIPTION:
URL:https://ourladyofgracechurch.com/event/misa-en-espanol-mass-in-english/2026-05-24/
LOCATION:Our Lady of Grace Catholic Church\, 300 Malabar Rd\, Palm Bay\, 32907\, United States
ATTACH;FMTTYPE=image/png:https://ourladyofgracechurch.com/wp-content/uploads/2023/08/Untitled-design-6.png
END:VEVENT
BEGIN:VEVENT
DTSTART;TZID=America/New_York:20260531T130000
DTEND;TZID=America/New_York:20260531T140000
DTSTAMP:20260421T065327
CREATED:20230817T200520Z
LAST-MODIFIED:20260311T035411Z
UID:10004058-1780232400-1780236000@ourladyofgracechurch.com
SUMMARY:Misa de Pascua en Español (Mass in English)
DESCRIPTION:
URL:https://ourladyofgracechurch.com/event/misa-en-espanol-mass-in-english/2026-05-31/
LOCATION:Our Lady of Grace Catholic Church\, 300 Malabar Rd\, Palm Bay\, 32907\, United States
ATTACH;FMTTYPE=image/png:https://ourladyofgracechurch.com/wp-content/uploads/2023/08/Untitled-design-6.png
END:VEVENT
BEGIN:VEVENT
DTSTART;TZID=America/New_York:20260607T130000
DTEND;TZID=America/New_York:20260607T140000
DTSTAMP:20260421T065327
CREATED:20230817T200520Z
LAST-MODIFIED:20260311T035411Z
UID:10004059-1780837200-1780840800@ourladyofgracechurch.com
SUMMARY:Misa de Pascua en Español (Mass in English)
DESCRIPTION:
URL:https://ourladyofgracechurch.com/event/misa-en-espanol-mass-in-english/2026-06-07/
LOCATION:Our Lady of Grace Catholic Church\, 300 Malabar Rd\, Palm Bay\, 32907\, United States
ATTACH;FMTTYPE=image/png:https://ourladyofgracechurch.com/wp-content/uploads/2023/08/Untitled-design-6.png
END:VEVENT
BEGIN:VEVENT
DTSTART;TZID=America/New_York:20260614T130000
DTEND;TZID=America/New_York:20260614T140000
DTSTAMP:20260421T065327
CREATED:20230817T200520Z
LAST-MODIFIED:20260311T035411Z
UID:10004060-1781442000-1781445600@ourladyofgracechurch.com
SUMMARY:Misa de Pascua en Español (Mass in English)
DESCRIPTION:
URL:https://ourladyofgracechurch.com/event/misa-en-espanol-mass-in-english/2026-06-14/
LOCATION:Our Lady of Grace Catholic Church\, 300 Malabar Rd\, Palm Bay\, 32907\, United States
ATTACH;FMTTYPE=image/png:https://ourladyofgracechurch.com/wp-content/uploads/2023/08/Untitled-design-6.png
END:VEVENT
BEGIN:VEVENT
DTSTART;TZID=America/New_York:20260621T130000
DTEND;TZID=America/New_York:20260621T140000
DTSTAMP:20260421T065327
CREATED:20230817T200520Z
LAST-MODIFIED:20260311T035411Z
UID:10004061-1782046800-1782050400@ourladyofgracechurch.com
SUMMARY:Misa de Pascua en Español (Mass in English)
DESCRIPTION:
URL:https://ourladyofgracechurch.com/event/misa-en-espanol-mass-in-english/2026-06-21/
LOCATION:Our Lady of Grace Catholic Church\, 300 Malabar Rd\, Palm Bay\, 32907\, United States
ATTACH;FMTTYPE=image/png:https://ourladyofgracechurch.com/wp-content/uploads/2023/08/Untitled-design-6.png
END:VEVENT
BEGIN:VEVENT
DTSTART;TZID=America/New_York:20260628T130000
DTEND;TZID=America/New_York:20260628T140000
DTSTAMP:20260421T065327
CREATED:20230817T200520Z
LAST-MODIFIED:20260311T035411Z
UID:10004062-1782651600-1782655200@ourladyofgracechurch.com
SUMMARY:Misa de Pascua en Español (Mass in English)
DESCRIPTION:
URL:https://ourladyofgracechurch.com/event/misa-en-espanol-mass-in-english/2026-06-28/
LOCATION:Our Lady of Grace Catholic Church\, 300 Malabar Rd\, Palm Bay\, 32907\, United States
ATTACH;FMTTYPE=image/png:https://ourladyofgracechurch.com/wp-content/uploads/2023/08/Untitled-design-6.png
END:VEVENT
BEGIN:VEVENT
DTSTART;TZID=America/New_York:20260705T130000
DTEND;TZID=America/New_York:20260705T140000
DTSTAMP:20260421T065327
CREATED:20230817T200520Z
LAST-MODIFIED:20260311T035411Z
UID:10004063-1783256400-1783260000@ourladyofgracechurch.com
SUMMARY:Misa de Pascua en Español (Mass in English)
DESCRIPTION:
URL:https://ourladyofgracechurch.com/event/misa-en-espanol-mass-in-english/2026-07-05/
LOCATION:Our Lady of Grace Catholic Church\, 300 Malabar Rd\, Palm Bay\, 32907\, United States
ATTACH;FMTTYPE=image/png:https://ourladyofgracechurch.com/wp-content/uploads/2023/08/Untitled-design-6.png
END:VEVENT
BEGIN:VEVENT
DTSTART;TZID=America/New_York:20260712T130000
DTEND;TZID=America/New_York:20260712T140000
DTSTAMP:20260421T065327
CREATED:20230817T200520Z
LAST-MODIFIED:20260311T035411Z
UID:10004064-1783861200-1783864800@ourladyofgracechurch.com
SUMMARY:Misa de Pascua en Español (Mass in English)
DESCRIPTION:
URL:https://ourladyofgracechurch.com/event/misa-en-espanol-mass-in-english/2026-07-12/
LOCATION:Our Lady of Grace Catholic Church\, 300 Malabar Rd\, Palm Bay\, 32907\, United States
ATTACH;FMTTYPE=image/png:https://ourladyofgracechurch.com/wp-content/uploads/2023/08/Untitled-design-6.png
END:VEVENT
BEGIN:VEVENT
DTSTART;TZID=America/New_York:20260719T130000
DTEND;TZID=America/New_York:20260719T140000
DTSTAMP:20260421T065327
CREATED:20230817T200520Z
LAST-MODIFIED:20260311T035411Z
UID:10004065-1784466000-1784469600@ourladyofgracechurch.com
SUMMARY:Misa de Pascua en Español (Mass in English)
DESCRIPTION:
URL:https://ourladyofgracechurch.com/event/misa-en-espanol-mass-in-english/2026-07-19/
LOCATION:Our Lady of Grace Catholic Church\, 300 Malabar Rd\, Palm Bay\, 32907\, United States
ATTACH;FMTTYPE=image/png:https://ourladyofgracechurch.com/wp-content/uploads/2023/08/Untitled-design-6.png
END:VEVENT
BEGIN:VEVENT
DTSTART;TZID=America/New_York:20260726T130000
DTEND;TZID=America/New_York:20260726T140000
DTSTAMP:20260421T065327
CREATED:20230817T200520Z
LAST-MODIFIED:20260311T035411Z
UID:10004066-1785070800-1785074400@ourladyofgracechurch.com
SUMMARY:Misa de Pascua en Español (Mass in English)
DESCRIPTION:
URL:https://ourladyofgracechurch.com/event/misa-en-espanol-mass-in-english/2026-07-26/
LOCATION:Our Lady of Grace Catholic Church\, 300 Malabar Rd\, Palm Bay\, 32907\, United States
ATTACH;FMTTYPE=image/png:https://ourladyofgracechurch.com/wp-content/uploads/2023/08/Untitled-design-6.png
END:VEVENT
BEGIN:VEVENT
DTSTART;TZID=America/New_York:20260802T130000
DTEND;TZID=America/New_York:20260802T140000
DTSTAMP:20260421T065327
CREATED:20230817T200520Z
LAST-MODIFIED:20260311T035411Z
UID:10004067-1785675600-1785679200@ourladyofgracechurch.com
SUMMARY:Misa de Pascua en Español (Mass in English)
DESCRIPTION:
URL:https://ourladyofgracechurch.com/event/misa-en-espanol-mass-in-english/2026-08-02/
LOCATION:Our Lady of Grace Catholic Church\, 300 Malabar Rd\, Palm Bay\, 32907\, United States
ATTACH;FMTTYPE=image/png:https://ourladyofgracechurch.com/wp-content/uploads/2023/08/Untitled-design-6.png
END:VEVENT
BEGIN:VEVENT
DTSTART;TZID=America/New_York:20260809T130000
DTEND;TZID=America/New_York:20260809T140000
DTSTAMP:20260421T065327
CREATED:20230817T200520Z
LAST-MODIFIED:20260311T035411Z
UID:10004068-1786280400-1786284000@ourladyofgracechurch.com
SUMMARY:Misa de Pascua en Español (Mass in English)
DESCRIPTION:
URL:https://ourladyofgracechurch.com/event/misa-en-espanol-mass-in-english/2026-08-09/
LOCATION:Our Lady of Grace Catholic Church\, 300 Malabar Rd\, Palm Bay\, 32907\, United States
ATTACH;FMTTYPE=image/png:https://ourladyofgracechurch.com/wp-content/uploads/2023/08/Untitled-design-6.png
END:VEVENT
BEGIN:VEVENT
DTSTART;TZID=America/New_York:20260816T130000
DTEND;TZID=America/New_York:20260816T140000
DTSTAMP:20260421T065327
CREATED:20230817T200520Z
LAST-MODIFIED:20260311T035411Z
UID:10004069-1786885200-1786888800@ourladyofgracechurch.com
SUMMARY:Misa de Pascua en Español (Mass in English)
DESCRIPTION:
URL:https://ourladyofgracechurch.com/event/misa-en-espanol-mass-in-english/2026-08-16/
LOCATION:Our Lady of Grace Catholic Church\, 300 Malabar Rd\, Palm Bay\, 32907\, United States
ATTACH;FMTTYPE=image/png:https://ourladyofgracechurch.com/wp-content/uploads/2023/08/Untitled-design-6.png
END:VEVENT
BEGIN:VEVENT
DTSTART;TZID=America/New_York:20260823T130000
DTEND;TZID=America/New_York:20260823T140000
DTSTAMP:20260421T065327
CREATED:20230817T200520Z
LAST-MODIFIED:20260311T035411Z
UID:10004070-1787490000-1787493600@ourladyofgracechurch.com
SUMMARY:Misa de Pascua en Español (Mass in English)
DESCRIPTION:
URL:https://ourladyofgracechurch.com/event/misa-en-espanol-mass-in-english/2026-08-23/
LOCATION:Our Lady of Grace Catholic Church\, 300 Malabar Rd\, Palm Bay\, 32907\, United States
ATTACH;FMTTYPE=image/png:https://ourladyofgracechurch.com/wp-content/uploads/2023/08/Untitled-design-6.png
END:VEVENT
BEGIN:VEVENT
DTSTART;TZID=America/New_York:20260830T130000
DTEND;TZID=America/New_York:20260830T140000
DTSTAMP:20260421T065327
CREATED:20230817T200520Z
LAST-MODIFIED:20260311T035411Z
UID:10004071-1788094800-1788098400@ourladyofgracechurch.com
SUMMARY:Misa de Pascua en Español (Mass in English)
DESCRIPTION:
URL:https://ourladyofgracechurch.com/event/misa-en-espanol-mass-in-english/2026-08-30/
LOCATION:Our Lady of Grace Catholic Church\, 300 Malabar Rd\, Palm Bay\, 32907\, United States
ATTACH;FMTTYPE=image/png:https://ourladyofgracechurch.com/wp-content/uploads/2023/08/Untitled-design-6.png
END:VEVENT
BEGIN:VEVENT
DTSTART;TZID=America/New_York:20260906T130000
DTEND;TZID=America/New_York:20260906T140000
DTSTAMP:20260421T065327
CREATED:20230817T200520Z
LAST-MODIFIED:20260311T035411Z
UID:10004072-1788699600-1788703200@ourladyofgracechurch.com
SUMMARY:Misa de Pascua en Español (Mass in English)
DESCRIPTION:
URL:https://ourladyofgracechurch.com/event/misa-en-espanol-mass-in-english/2026-09-06/
LOCATION:Our Lady of Grace Catholic Church\, 300 Malabar Rd\, Palm Bay\, 32907\, United States
ATTACH;FMTTYPE=image/png:https://ourladyofgracechurch.com/wp-content/uploads/2023/08/Untitled-design-6.png
END:VEVENT
BEGIN:VEVENT
DTSTART;TZID=America/New_York:20260913T130000
DTEND;TZID=America/New_York:20260913T140000
DTSTAMP:20260421T065327
CREATED:20230817T200520Z
LAST-MODIFIED:20260311T035411Z
UID:10004073-1789304400-1789308000@ourladyofgracechurch.com
SUMMARY:Misa de Pascua en Español (Mass in English)
DESCRIPTION:
URL:https://ourladyofgracechurch.com/event/misa-en-espanol-mass-in-english/2026-09-13/
LOCATION:Our Lady of Grace Catholic Church\, 300 Malabar Rd\, Palm Bay\, 32907\, United States
ATTACH;FMTTYPE=image/png:https://ourladyofgracechurch.com/wp-content/uploads/2023/08/Untitled-design-6.png
END:VEVENT
BEGIN:VEVENT
DTSTART;TZID=America/New_York:20260920T130000
DTEND;TZID=America/New_York:20260920T140000
DTSTAMP:20260421T065327
CREATED:20230817T200520Z
LAST-MODIFIED:20260311T035411Z
UID:10004074-1789909200-1789912800@ourladyofgracechurch.com
SUMMARY:Misa de Pascua en Español (Mass in English)
DESCRIPTION:
URL:https://ourladyofgracechurch.com/event/misa-en-espanol-mass-in-english/2026-09-20/
LOCATION:Our Lady of Grace Catholic Church\, 300 Malabar Rd\, Palm Bay\, 32907\, United States
ATTACH;FMTTYPE=image/png:https://ourladyofgracechurch.com/wp-content/uploads/2023/08/Untitled-design-6.png
END:VEVENT
BEGIN:VEVENT
DTSTART;TZID=America/New_York:20260927T130000
DTEND;TZID=America/New_York:20260927T140000
DTSTAMP:20260421T065327
CREATED:20230817T200520Z
LAST-MODIFIED:20260311T035411Z
UID:10004075-1790514000-1790517600@ourladyofgracechurch.com
SUMMARY:Misa de Pascua en Español (Mass in English)
DESCRIPTION:
URL:https://ourladyofgracechurch.com/event/misa-en-espanol-mass-in-english/2026-09-27/
LOCATION:Our Lady of Grace Catholic Church\, 300 Malabar Rd\, Palm Bay\, 32907\, United States
ATTACH;FMTTYPE=image/png:https://ourladyofgracechurch.com/wp-content/uploads/2023/08/Untitled-design-6.png
END:VEVENT
BEGIN:VEVENT
DTSTART;TZID=America/New_York:20261004T130000
DTEND;TZID=America/New_York:20261004T140000
DTSTAMP:20260421T065327
CREATED:20230817T200520Z
LAST-MODIFIED:20260311T035411Z
UID:10004076-1791118800-1791122400@ourladyofgracechurch.com
SUMMARY:Misa de Pascua en Español (Mass in English)
DESCRIPTION:
URL:https://ourladyofgracechurch.com/event/misa-en-espanol-mass-in-english/2026-10-04/
LOCATION:Our Lady of Grace Catholic Church\, 300 Malabar Rd\, Palm Bay\, 32907\, United States
ATTACH;FMTTYPE=image/png:https://ourladyofgracechurch.com/wp-content/uploads/2023/08/Untitled-design-6.png
END:VEVENT
BEGIN:VEVENT
DTSTART;TZID=America/New_York:20261011T130000
DTEND;TZID=America/New_York:20261011T140000
DTSTAMP:20260421T065327
CREATED:20230817T200520Z
LAST-MODIFIED:20260311T035411Z
UID:10004077-1791723600-1791727200@ourladyofgracechurch.com
SUMMARY:Misa de Pascua en Español (Mass in English)
DESCRIPTION:
URL:https://ourladyofgracechurch.com/event/misa-en-espanol-mass-in-english/2026-10-11/
LOCATION:Our Lady of Grace Catholic Church\, 300 Malabar Rd\, Palm Bay\, 32907\, United States
ATTACH;FMTTYPE=image/png:https://ourladyofgracechurch.com/wp-content/uploads/2023/08/Untitled-design-6.png
END:VEVENT
BEGIN:VEVENT
DTSTART;TZID=America/New_York:20261018T130000
DTEND;TZID=America/New_York:20261018T140000
DTSTAMP:20260421T065327
CREATED:20230817T200520Z
LAST-MODIFIED:20260311T035411Z
UID:10004078-1792328400-1792332000@ourladyofgracechurch.com
SUMMARY:Misa de Pascua en Español (Mass in English)
DESCRIPTION:
URL:https://ourladyofgracechurch.com/event/misa-en-espanol-mass-in-english/2026-10-18/
LOCATION:Our Lady of Grace Catholic Church\, 300 Malabar Rd\, Palm Bay\, 32907\, United States
ATTACH;FMTTYPE=image/png:https://ourladyofgracechurch.com/wp-content/uploads/2023/08/Untitled-design-6.png
END:VEVENT
BEGIN:VEVENT
DTSTART;TZID=America/New_York:20261025T130000
DTEND;TZID=America/New_York:20261025T140000
DTSTAMP:20260421T065327
CREATED:20230817T200520Z
LAST-MODIFIED:20260311T035411Z
UID:10004079-1792933200-1792936800@ourladyofgracechurch.com
SUMMARY:Misa de Pascua en Español (Mass in English)
DESCRIPTION:
URL:https://ourladyofgracechurch.com/event/misa-en-espanol-mass-in-english/2026-10-25/
LOCATION:Our Lady of Grace Catholic Church\, 300 Malabar Rd\, Palm Bay\, 32907\, United States
ATTACH;FMTTYPE=image/png:https://ourladyofgracechurch.com/wp-content/uploads/2023/08/Untitled-design-6.png
END:VEVENT
BEGIN:VEVENT
DTSTART;TZID=America/New_York:20261101T130000
DTEND;TZID=America/New_York:20261101T140000
DTSTAMP:20260421T065327
CREATED:20230817T200520Z
LAST-MODIFIED:20260311T035411Z
UID:10004080-1793538000-1793541600@ourladyofgracechurch.com
SUMMARY:Misa de Pascua en Español (Mass in English)
DESCRIPTION:
URL:https://ourladyofgracechurch.com/event/misa-en-espanol-mass-in-english/2026-11-01/
LOCATION:Our Lady of Grace Catholic Church\, 300 Malabar Rd\, Palm Bay\, 32907\, United States
ATTACH;FMTTYPE=image/png:https://ourladyofgracechurch.com/wp-content/uploads/2023/08/Untitled-design-6.png
END:VEVENT
BEGIN:VEVENT
DTSTART;TZID=America/New_York:20261108T130000
DTEND;TZID=America/New_York:20261108T140000
DTSTAMP:20260421T065327
CREATED:20230817T200520Z
LAST-MODIFIED:20260311T035411Z
UID:10004081-1794142800-1794146400@ourladyofgracechurch.com
SUMMARY:Misa de Pascua en Español (Mass in English)
DESCRIPTION:
URL:https://ourladyofgracechurch.com/event/misa-en-espanol-mass-in-english/2026-11-08/
LOCATION:Our Lady of Grace Catholic Church\, 300 Malabar Rd\, Palm Bay\, 32907\, United States
ATTACH;FMTTYPE=image/png:https://ourladyofgracechurch.com/wp-content/uploads/2023/08/Untitled-design-6.png
END:VEVENT
BEGIN:VEVENT
DTSTART;TZID=America/New_York:20261115T130000
DTEND;TZID=America/New_York:20261115T140000
DTSTAMP:20260421T065328
CREATED:20230817T200520Z
LAST-MODIFIED:20260311T035411Z
UID:10004082-1794747600-1794751200@ourladyofgracechurch.com
SUMMARY:Misa de Pascua en Español (Mass in English)
DESCRIPTION:
URL:https://ourladyofgracechurch.com/event/misa-en-espanol-mass-in-english/2026-11-15/
LOCATION:Our Lady of Grace Catholic Church\, 300 Malabar Rd\, Palm Bay\, 32907\, United States
ATTACH;FMTTYPE=image/png:https://ourladyofgracechurch.com/wp-content/uploads/2023/08/Untitled-design-6.png
END:VEVENT
END:VCALENDAR