BEGIN:VCALENDAR
VERSION:2.0
PRODID:-//Our Lady of Grace Church - ECPv6.15.17//NONSGML v1.0//EN
CALSCALE:GREGORIAN
METHOD:PUBLISH
X-WR-CALNAME:Our Lady of Grace Church
X-ORIGINAL-URL:https://ourladyofgracechurch.com
X-WR-CALDESC:Events for Our Lady of Grace Church
REFRESH-INTERVAL;VALUE=DURATION:PT1H
X-Robots-Tag:noindex
X-PUBLISHED-TTL:PT1H
BEGIN:VTIMEZONE
TZID:America/New_York
BEGIN:DAYLIGHT
TZOFFSETFROM:-0500
TZOFFSETTO:-0400
TZNAME:EDT
DTSTART:20260308T070000
END:DAYLIGHT
BEGIN:STANDARD
TZOFFSETFROM:-0400
TZOFFSETTO:-0500
TZNAME:EST
DTSTART:20261101T060000
END:STANDARD
BEGIN:DAYLIGHT
TZOFFSETFROM:-0500
TZOFFSETTO:-0400
TZNAME:EDT
DTSTART:20270314T070000
END:DAYLIGHT
BEGIN:STANDARD
TZOFFSETFROM:-0400
TZOFFSETTO:-0500
TZNAME:EST
DTSTART:20271107T060000
END:STANDARD
BEGIN:DAYLIGHT
TZOFFSETFROM:-0500
TZOFFSETTO:-0400
TZNAME:EDT
DTSTART:20280312T070000
END:DAYLIGHT
BEGIN:STANDARD
TZOFFSETFROM:-0400
TZOFFSETTO:-0500
TZNAME:EST
DTSTART:20281105T060000
END:STANDARD
END:VTIMEZONE
BEGIN:VEVENT
DTSTART;TZID=America/New_York:20270502T090000
DTEND;TZID=America/New_York:20270502T100000
DTSTAMP:20260422T084702
CREATED:20230817T192942Z
LAST-MODIFIED:20230818T164120Z
UID:10003584-1809248400-1809252000@ourladyofgracechurch.com
SUMMARY:Mass in English
DESCRIPTION:
URL:https://ourladyofgracechurch.com/event/mass-in-english-4/2027-05-02/
LOCATION:Our Lady of Grace Catholic Church\, 300 Malabar Rd\, Palm Bay\, 32907\, United States
ATTACH;FMTTYPE=image/png:https://ourladyofgracechurch.com/wp-content/uploads/2023/08/Untitled-design-6.png
END:VEVENT
BEGIN:VEVENT
DTSTART;TZID=America/New_York:20270502T104500
DTEND;TZID=America/New_York:20270502T110000
DTSTAMP:20260422T084702
CREATED:20230817T200348Z
LAST-MODIFIED:20240203T132047Z
UID:10003845-1809254700-1809255600@ourladyofgracechurch.com
SUMMARY:Mass in French/Creole
DESCRIPTION:
URL:https://ourladyofgracechurch.com/event/mass-in-french-creole-2/2027-05-02/
LOCATION:Our Lady of Grace Catholic Church\, 300 Malabar Rd\, Palm Bay\, 32907\, United States
ATTACH;FMTTYPE=image/png:https://ourladyofgracechurch.com/wp-content/uploads/2023/08/Untitled-design-6.png
END:VEVENT
BEGIN:VEVENT
DTSTART;TZID=America/New_York:20270502T170000
DTEND;TZID=America/New_York:20270502T180000
DTSTAMP:20260422T084702
CREATED:20230817T200627Z
LAST-MODIFIED:20250405T013234Z
UID:10004367-1809277200-1809280800@ourladyofgracechurch.com
SUMMARY:Mass in English
DESCRIPTION:
URL:https://ourladyofgracechurch.com/event/mass-in-english-5/2027-05-02/
LOCATION:Our Lady of Grace Catholic Church\, 300 Malabar Rd\, Palm Bay\, 32907\, United States
ATTACH;FMTTYPE=image/png:https://ourladyofgracechurch.com/wp-content/uploads/2023/08/Untitled-design-6.png
END:VEVENT
BEGIN:VEVENT
DTSTART;TZID=America/New_York:20270509T090000
DTEND;TZID=America/New_York:20270509T100000
DTSTAMP:20260422T084702
CREATED:20230817T192942Z
LAST-MODIFIED:20230818T164120Z
UID:10003585-1809853200-1809856800@ourladyofgracechurch.com
SUMMARY:Mass in English
DESCRIPTION:
URL:https://ourladyofgracechurch.com/event/mass-in-english-4/2027-05-09/
LOCATION:Our Lady of Grace Catholic Church\, 300 Malabar Rd\, Palm Bay\, 32907\, United States
ATTACH;FMTTYPE=image/png:https://ourladyofgracechurch.com/wp-content/uploads/2023/08/Untitled-design-6.png
END:VEVENT
BEGIN:VEVENT
DTSTART;TZID=America/New_York:20270509T104500
DTEND;TZID=America/New_York:20270509T110000
DTSTAMP:20260422T084702
CREATED:20230817T200348Z
LAST-MODIFIED:20240203T132047Z
UID:10003846-1809859500-1809860400@ourladyofgracechurch.com
SUMMARY:Mass in French/Creole
DESCRIPTION:
URL:https://ourladyofgracechurch.com/event/mass-in-french-creole-2/2027-05-09/
LOCATION:Our Lady of Grace Catholic Church\, 300 Malabar Rd\, Palm Bay\, 32907\, United States
ATTACH;FMTTYPE=image/png:https://ourladyofgracechurch.com/wp-content/uploads/2023/08/Untitled-design-6.png
END:VEVENT
BEGIN:VEVENT
DTSTART;TZID=America/New_York:20270509T170000
DTEND;TZID=America/New_York:20270509T180000
DTSTAMP:20260422T084702
CREATED:20230817T200627Z
LAST-MODIFIED:20250405T013234Z
UID:10004368-1809882000-1809885600@ourladyofgracechurch.com
SUMMARY:Mass in English
DESCRIPTION:
URL:https://ourladyofgracechurch.com/event/mass-in-english-5/2027-05-09/
LOCATION:Our Lady of Grace Catholic Church\, 300 Malabar Rd\, Palm Bay\, 32907\, United States
ATTACH;FMTTYPE=image/png:https://ourladyofgracechurch.com/wp-content/uploads/2023/08/Untitled-design-6.png
END:VEVENT
BEGIN:VEVENT
DTSTART;TZID=America/New_York:20270516T090000
DTEND;TZID=America/New_York:20270516T100000
DTSTAMP:20260422T084702
CREATED:20230817T192942Z
LAST-MODIFIED:20230818T164120Z
UID:10003586-1810458000-1810461600@ourladyofgracechurch.com
SUMMARY:Mass in English
DESCRIPTION:
URL:https://ourladyofgracechurch.com/event/mass-in-english-4/2027-05-16/
LOCATION:Our Lady of Grace Catholic Church\, 300 Malabar Rd\, Palm Bay\, 32907\, United States
ATTACH;FMTTYPE=image/png:https://ourladyofgracechurch.com/wp-content/uploads/2023/08/Untitled-design-6.png
END:VEVENT
BEGIN:VEVENT
DTSTART;TZID=America/New_York:20270516T104500
DTEND;TZID=America/New_York:20270516T110000
DTSTAMP:20260422T084702
CREATED:20230817T200348Z
LAST-MODIFIED:20240203T132047Z
UID:10003847-1810464300-1810465200@ourladyofgracechurch.com
SUMMARY:Mass in French/Creole
DESCRIPTION:
URL:https://ourladyofgracechurch.com/event/mass-in-french-creole-2/2027-05-16/
LOCATION:Our Lady of Grace Catholic Church\, 300 Malabar Rd\, Palm Bay\, 32907\, United States
ATTACH;FMTTYPE=image/png:https://ourladyofgracechurch.com/wp-content/uploads/2023/08/Untitled-design-6.png
END:VEVENT
BEGIN:VEVENT
DTSTART;TZID=America/New_York:20270516T170000
DTEND;TZID=America/New_York:20270516T180000
DTSTAMP:20260422T084702
CREATED:20230817T200627Z
LAST-MODIFIED:20250405T013234Z
UID:10004369-1810486800-1810490400@ourladyofgracechurch.com
SUMMARY:Mass in English
DESCRIPTION:
URL:https://ourladyofgracechurch.com/event/mass-in-english-5/2027-05-16/
LOCATION:Our Lady of Grace Catholic Church\, 300 Malabar Rd\, Palm Bay\, 32907\, United States
ATTACH;FMTTYPE=image/png:https://ourladyofgracechurch.com/wp-content/uploads/2023/08/Untitled-design-6.png
END:VEVENT
BEGIN:VEVENT
DTSTART;TZID=America/New_York:20270523T090000
DTEND;TZID=America/New_York:20270523T100000
DTSTAMP:20260422T084702
CREATED:20230817T192942Z
LAST-MODIFIED:20230818T164120Z
UID:10003587-1811062800-1811066400@ourladyofgracechurch.com
SUMMARY:Mass in English
DESCRIPTION:
URL:https://ourladyofgracechurch.com/event/mass-in-english-4/2027-05-23/
LOCATION:Our Lady of Grace Catholic Church\, 300 Malabar Rd\, Palm Bay\, 32907\, United States
ATTACH;FMTTYPE=image/png:https://ourladyofgracechurch.com/wp-content/uploads/2023/08/Untitled-design-6.png
END:VEVENT
BEGIN:VEVENT
DTSTART;TZID=America/New_York:20270523T104500
DTEND;TZID=America/New_York:20270523T110000
DTSTAMP:20260422T084702
CREATED:20230817T200348Z
LAST-MODIFIED:20240203T132047Z
UID:10003848-1811069100-1811070000@ourladyofgracechurch.com
SUMMARY:Mass in French/Creole
DESCRIPTION:
URL:https://ourladyofgracechurch.com/event/mass-in-french-creole-2/2027-05-23/
LOCATION:Our Lady of Grace Catholic Church\, 300 Malabar Rd\, Palm Bay\, 32907\, United States
ATTACH;FMTTYPE=image/png:https://ourladyofgracechurch.com/wp-content/uploads/2023/08/Untitled-design-6.png
END:VEVENT
BEGIN:VEVENT
DTSTART;TZID=America/New_York:20270523T170000
DTEND;TZID=America/New_York:20270523T180000
DTSTAMP:20260422T084702
CREATED:20230817T200627Z
LAST-MODIFIED:20250405T013234Z
UID:10004370-1811091600-1811095200@ourladyofgracechurch.com
SUMMARY:Mass in English
DESCRIPTION:
URL:https://ourladyofgracechurch.com/event/mass-in-english-5/2027-05-23/
LOCATION:Our Lady of Grace Catholic Church\, 300 Malabar Rd\, Palm Bay\, 32907\, United States
ATTACH;FMTTYPE=image/png:https://ourladyofgracechurch.com/wp-content/uploads/2023/08/Untitled-design-6.png
END:VEVENT
BEGIN:VEVENT
DTSTART;TZID=America/New_York:20270530T090000
DTEND;TZID=America/New_York:20270530T100000
DTSTAMP:20260422T084702
CREATED:20230817T192942Z
LAST-MODIFIED:20230818T164120Z
UID:10003588-1811667600-1811671200@ourladyofgracechurch.com
SUMMARY:Mass in English
DESCRIPTION:
URL:https://ourladyofgracechurch.com/event/mass-in-english-4/2027-05-30/
LOCATION:Our Lady of Grace Catholic Church\, 300 Malabar Rd\, Palm Bay\, 32907\, United States
ATTACH;FMTTYPE=image/png:https://ourladyofgracechurch.com/wp-content/uploads/2023/08/Untitled-design-6.png
END:VEVENT
BEGIN:VEVENT
DTSTART;TZID=America/New_York:20270530T104500
DTEND;TZID=America/New_York:20270530T110000
DTSTAMP:20260422T084702
CREATED:20230817T200348Z
LAST-MODIFIED:20240203T132047Z
UID:10003849-1811673900-1811674800@ourladyofgracechurch.com
SUMMARY:Mass in French/Creole
DESCRIPTION:
URL:https://ourladyofgracechurch.com/event/mass-in-french-creole-2/2027-05-30/
LOCATION:Our Lady of Grace Catholic Church\, 300 Malabar Rd\, Palm Bay\, 32907\, United States
ATTACH;FMTTYPE=image/png:https://ourladyofgracechurch.com/wp-content/uploads/2023/08/Untitled-design-6.png
END:VEVENT
BEGIN:VEVENT
DTSTART;TZID=America/New_York:20270530T170000
DTEND;TZID=America/New_York:20270530T180000
DTSTAMP:20260422T084702
CREATED:20230817T200627Z
LAST-MODIFIED:20250405T013234Z
UID:10004371-1811696400-1811700000@ourladyofgracechurch.com
SUMMARY:Mass in English
DESCRIPTION:
URL:https://ourladyofgracechurch.com/event/mass-in-english-5/2027-05-30/
LOCATION:Our Lady of Grace Catholic Church\, 300 Malabar Rd\, Palm Bay\, 32907\, United States
ATTACH;FMTTYPE=image/png:https://ourladyofgracechurch.com/wp-content/uploads/2023/08/Untitled-design-6.png
END:VEVENT
END:VCALENDAR