BEGIN:VCALENDAR
VERSION:2.0
PRODID:-//Our Lady of Grace Church - ECPv6.15.17//NONSGML v1.0//EN
CALSCALE:GREGORIAN
METHOD:PUBLISH
X-ORIGINAL-URL:https://ourladyofgracechurch.com
X-WR-CALDESC:Events for Our Lady of Grace Church
REFRESH-INTERVAL;VALUE=DURATION:PT1H
X-Robots-Tag:noindex
X-PUBLISHED-TTL:PT1H
BEGIN:VTIMEZONE
TZID:America/New_York
BEGIN:DAYLIGHT
TZOFFSETFROM:-0500
TZOFFSETTO:-0400
TZNAME:EDT
DTSTART:20260308T070000
END:DAYLIGHT
BEGIN:STANDARD
TZOFFSETFROM:-0400
TZOFFSETTO:-0500
TZNAME:EST
DTSTART:20261101T060000
END:STANDARD
BEGIN:DAYLIGHT
TZOFFSETFROM:-0500
TZOFFSETTO:-0400
TZNAME:EDT
DTSTART:20270314T070000
END:DAYLIGHT
BEGIN:STANDARD
TZOFFSETFROM:-0400
TZOFFSETTO:-0500
TZNAME:EST
DTSTART:20271107T060000
END:STANDARD
BEGIN:DAYLIGHT
TZOFFSETFROM:-0500
TZOFFSETTO:-0400
TZNAME:EDT
DTSTART:20280312T070000
END:DAYLIGHT
BEGIN:STANDARD
TZOFFSETFROM:-0400
TZOFFSETTO:-0500
TZNAME:EST
DTSTART:20281105T060000
END:STANDARD
END:VTIMEZONE
BEGIN:VEVENT
DTSTART;TZID=America/New_York:20270404T090000
DTEND;TZID=America/New_York:20270404T100000
DTSTAMP:20260422T065926
CREATED:20230817T192942Z
LAST-MODIFIED:20230818T164120Z
UID:10003580-1806829200-1806832800@ourladyofgracechurch.com
SUMMARY:Mass in English
DESCRIPTION:
URL:https://ourladyofgracechurch.com/event/mass-in-english-4/2027-04-04/
LOCATION:Our Lady of Grace Catholic Church\, 300 Malabar Rd\, Palm Bay\, 32907\, United States
ATTACH;FMTTYPE=image/png:https://ourladyofgracechurch.com/wp-content/uploads/2023/08/Untitled-design-6.png
END:VEVENT
BEGIN:VEVENT
DTSTART;TZID=America/New_York:20270404T104500
DTEND;TZID=America/New_York:20270404T110000
DTSTAMP:20260422T065927
CREATED:20230817T200348Z
LAST-MODIFIED:20240203T132047Z
UID:10003841-1806835500-1806836400@ourladyofgracechurch.com
SUMMARY:Mass in French/Creole
DESCRIPTION:
URL:https://ourladyofgracechurch.com/event/mass-in-french-creole-2/2027-04-04/
LOCATION:Our Lady of Grace Catholic Church\, 300 Malabar Rd\, Palm Bay\, 32907\, United States
ATTACH;FMTTYPE=image/png:https://ourladyofgracechurch.com/wp-content/uploads/2023/08/Untitled-design-6.png
END:VEVENT
BEGIN:VEVENT
DTSTART;TZID=America/New_York:20270404T170000
DTEND;TZID=America/New_York:20270404T180000
DTSTAMP:20260422T065927
CREATED:20230817T200627Z
LAST-MODIFIED:20250405T013234Z
UID:10004363-1806858000-1806861600@ourladyofgracechurch.com
SUMMARY:Mass in English
DESCRIPTION:
URL:https://ourladyofgracechurch.com/event/mass-in-english-5/2027-04-04/
LOCATION:Our Lady of Grace Catholic Church\, 300 Malabar Rd\, Palm Bay\, 32907\, United States
ATTACH;FMTTYPE=image/png:https://ourladyofgracechurch.com/wp-content/uploads/2023/08/Untitled-design-6.png
END:VEVENT
BEGIN:VEVENT
DTSTART;TZID=America/New_York:20270411T090000
DTEND;TZID=America/New_York:20270411T100000
DTSTAMP:20260422T065927
CREATED:20230817T192942Z
LAST-MODIFIED:20230818T164120Z
UID:10003581-1807434000-1807437600@ourladyofgracechurch.com
SUMMARY:Mass in English
DESCRIPTION:
URL:https://ourladyofgracechurch.com/event/mass-in-english-4/2027-04-11/
LOCATION:Our Lady of Grace Catholic Church\, 300 Malabar Rd\, Palm Bay\, 32907\, United States
ATTACH;FMTTYPE=image/png:https://ourladyofgracechurch.com/wp-content/uploads/2023/08/Untitled-design-6.png
END:VEVENT
BEGIN:VEVENT
DTSTART;TZID=America/New_York:20270411T104500
DTEND;TZID=America/New_York:20270411T110000
DTSTAMP:20260422T065927
CREATED:20230817T200348Z
LAST-MODIFIED:20240203T132047Z
UID:10003842-1807440300-1807441200@ourladyofgracechurch.com
SUMMARY:Mass in French/Creole
DESCRIPTION:
URL:https://ourladyofgracechurch.com/event/mass-in-french-creole-2/2027-04-11/
LOCATION:Our Lady of Grace Catholic Church\, 300 Malabar Rd\, Palm Bay\, 32907\, United States
ATTACH;FMTTYPE=image/png:https://ourladyofgracechurch.com/wp-content/uploads/2023/08/Untitled-design-6.png
END:VEVENT
BEGIN:VEVENT
DTSTART;TZID=America/New_York:20270411T170000
DTEND;TZID=America/New_York:20270411T180000
DTSTAMP:20260422T065927
CREATED:20230817T200627Z
LAST-MODIFIED:20250405T013234Z
UID:10004364-1807462800-1807466400@ourladyofgracechurch.com
SUMMARY:Mass in English
DESCRIPTION:
URL:https://ourladyofgracechurch.com/event/mass-in-english-5/2027-04-11/
LOCATION:Our Lady of Grace Catholic Church\, 300 Malabar Rd\, Palm Bay\, 32907\, United States
ATTACH;FMTTYPE=image/png:https://ourladyofgracechurch.com/wp-content/uploads/2023/08/Untitled-design-6.png
END:VEVENT
BEGIN:VEVENT
DTSTART;TZID=America/New_York:20270418T090000
DTEND;TZID=America/New_York:20270418T100000
DTSTAMP:20260422T065927
CREATED:20230817T192942Z
LAST-MODIFIED:20230818T164120Z
UID:10003582-1808038800-1808042400@ourladyofgracechurch.com
SUMMARY:Mass in English
DESCRIPTION:
URL:https://ourladyofgracechurch.com/event/mass-in-english-4/2027-04-18/
LOCATION:Our Lady of Grace Catholic Church\, 300 Malabar Rd\, Palm Bay\, 32907\, United States
ATTACH;FMTTYPE=image/png:https://ourladyofgracechurch.com/wp-content/uploads/2023/08/Untitled-design-6.png
END:VEVENT
BEGIN:VEVENT
DTSTART;TZID=America/New_York:20270418T104500
DTEND;TZID=America/New_York:20270418T110000
DTSTAMP:20260422T065927
CREATED:20230817T200348Z
LAST-MODIFIED:20240203T132047Z
UID:10003843-1808045100-1808046000@ourladyofgracechurch.com
SUMMARY:Mass in French/Creole
DESCRIPTION:
URL:https://ourladyofgracechurch.com/event/mass-in-french-creole-2/2027-04-18/
LOCATION:Our Lady of Grace Catholic Church\, 300 Malabar Rd\, Palm Bay\, 32907\, United States
ATTACH;FMTTYPE=image/png:https://ourladyofgracechurch.com/wp-content/uploads/2023/08/Untitled-design-6.png
END:VEVENT
BEGIN:VEVENT
DTSTART;TZID=America/New_York:20270418T170000
DTEND;TZID=America/New_York:20270418T180000
DTSTAMP:20260422T065927
CREATED:20230817T200627Z
LAST-MODIFIED:20250405T013234Z
UID:10004365-1808067600-1808071200@ourladyofgracechurch.com
SUMMARY:Mass in English
DESCRIPTION:
URL:https://ourladyofgracechurch.com/event/mass-in-english-5/2027-04-18/
LOCATION:Our Lady of Grace Catholic Church\, 300 Malabar Rd\, Palm Bay\, 32907\, United States
ATTACH;FMTTYPE=image/png:https://ourladyofgracechurch.com/wp-content/uploads/2023/08/Untitled-design-6.png
END:VEVENT
BEGIN:VEVENT
DTSTART;TZID=America/New_York:20270425T090000
DTEND;TZID=America/New_York:20270425T100000
DTSTAMP:20260422T065927
CREATED:20230817T192942Z
LAST-MODIFIED:20230818T164120Z
UID:10003583-1808643600-1808647200@ourladyofgracechurch.com
SUMMARY:Mass in English
DESCRIPTION:
URL:https://ourladyofgracechurch.com/event/mass-in-english-4/2027-04-25/
LOCATION:Our Lady of Grace Catholic Church\, 300 Malabar Rd\, Palm Bay\, 32907\, United States
ATTACH;FMTTYPE=image/png:https://ourladyofgracechurch.com/wp-content/uploads/2023/08/Untitled-design-6.png
END:VEVENT
BEGIN:VEVENT
DTSTART;TZID=America/New_York:20270425T104500
DTEND;TZID=America/New_York:20270425T110000
DTSTAMP:20260422T065927
CREATED:20230817T200348Z
LAST-MODIFIED:20240203T132047Z
UID:10003844-1808649900-1808650800@ourladyofgracechurch.com
SUMMARY:Mass in French/Creole
DESCRIPTION:
URL:https://ourladyofgracechurch.com/event/mass-in-french-creole-2/2027-04-25/
LOCATION:Our Lady of Grace Catholic Church\, 300 Malabar Rd\, Palm Bay\, 32907\, United States
ATTACH;FMTTYPE=image/png:https://ourladyofgracechurch.com/wp-content/uploads/2023/08/Untitled-design-6.png
END:VEVENT
BEGIN:VEVENT
DTSTART;TZID=America/New_York:20270425T170000
DTEND;TZID=America/New_York:20270425T180000
DTSTAMP:20260422T065927
CREATED:20230817T200627Z
LAST-MODIFIED:20250405T013234Z
UID:10004366-1808672400-1808676000@ourladyofgracechurch.com
SUMMARY:Mass in English
DESCRIPTION:
URL:https://ourladyofgracechurch.com/event/mass-in-english-5/2027-04-25/
LOCATION:Our Lady of Grace Catholic Church\, 300 Malabar Rd\, Palm Bay\, 32907\, United States
ATTACH;FMTTYPE=image/png:https://ourladyofgracechurch.com/wp-content/uploads/2023/08/Untitled-design-6.png
END:VEVENT
END:VCALENDAR