BEGIN:VCALENDAR
VERSION:2.0
PRODID:-//Our Lady of Grace Church - ECPv6.15.17//NONSGML v1.0//EN
CALSCALE:GREGORIAN
METHOD:PUBLISH
X-ORIGINAL-URL:https://ourladyofgracechurch.com
X-WR-CALDESC:Events for Our Lady of Grace Church
REFRESH-INTERVAL;VALUE=DURATION:PT1H
X-Robots-Tag:noindex
X-PUBLISHED-TTL:PT1H
BEGIN:VTIMEZONE
TZID:America/New_York
BEGIN:DAYLIGHT
TZOFFSETFROM:-0500
TZOFFSETTO:-0400
TZNAME:EDT
DTSTART:20260308T070000
END:DAYLIGHT
BEGIN:STANDARD
TZOFFSETFROM:-0400
TZOFFSETTO:-0500
TZNAME:EST
DTSTART:20261101T060000
END:STANDARD
BEGIN:DAYLIGHT
TZOFFSETFROM:-0500
TZOFFSETTO:-0400
TZNAME:EDT
DTSTART:20270314T070000
END:DAYLIGHT
BEGIN:STANDARD
TZOFFSETFROM:-0400
TZOFFSETTO:-0500
TZNAME:EST
DTSTART:20271107T060000
END:STANDARD
BEGIN:DAYLIGHT
TZOFFSETFROM:-0500
TZOFFSETTO:-0400
TZNAME:EDT
DTSTART:20280312T070000
END:DAYLIGHT
BEGIN:STANDARD
TZOFFSETFROM:-0400
TZOFFSETTO:-0500
TZNAME:EST
DTSTART:20281105T060000
END:STANDARD
END:VTIMEZONE
BEGIN:VEVENT
DTSTART;TZID=America/New_York:20270307T090000
DTEND;TZID=America/New_York:20270307T100000
DTSTAMP:20260420T063226
CREATED:20230817T192942Z
LAST-MODIFIED:20230818T164120Z
UID:10003576-1804410000-1804413600@ourladyofgracechurch.com
SUMMARY:Mass in English
DESCRIPTION:
URL:https://ourladyofgracechurch.com/event/mass-in-english-4/2027-03-07/
LOCATION:Our Lady of Grace Catholic Church\, 300 Malabar Rd\, Palm Bay\, 32907\, United States
ATTACH;FMTTYPE=image/png:https://ourladyofgracechurch.com/wp-content/uploads/2023/08/Untitled-design-6.png
END:VEVENT
BEGIN:VEVENT
DTSTART;TZID=America/New_York:20270307T104500
DTEND;TZID=America/New_York:20270307T110000
DTSTAMP:20260420T063226
CREATED:20230817T200348Z
LAST-MODIFIED:20240203T132047Z
UID:10003837-1804416300-1804417200@ourladyofgracechurch.com
SUMMARY:Mass in French/Creole
DESCRIPTION:
URL:https://ourladyofgracechurch.com/event/mass-in-french-creole-2/2027-03-07/
LOCATION:Our Lady of Grace Catholic Church\, 300 Malabar Rd\, Palm Bay\, 32907\, United States
ATTACH;FMTTYPE=image/png:https://ourladyofgracechurch.com/wp-content/uploads/2023/08/Untitled-design-6.png
END:VEVENT
BEGIN:VEVENT
DTSTART;TZID=America/New_York:20270307T170000
DTEND;TZID=America/New_York:20270307T180000
DTSTAMP:20260420T063226
CREATED:20230817T200627Z
LAST-MODIFIED:20250405T013234Z
UID:10004359-1804438800-1804442400@ourladyofgracechurch.com
SUMMARY:Mass in English
DESCRIPTION:
URL:https://ourladyofgracechurch.com/event/mass-in-english-5/2027-03-07/
LOCATION:Our Lady of Grace Catholic Church\, 300 Malabar Rd\, Palm Bay\, 32907\, United States
ATTACH;FMTTYPE=image/png:https://ourladyofgracechurch.com/wp-content/uploads/2023/08/Untitled-design-6.png
END:VEVENT
BEGIN:VEVENT
DTSTART;TZID=America/New_York:20270314T090000
DTEND;TZID=America/New_York:20270314T100000
DTSTAMP:20260420T063226
CREATED:20230817T192942Z
LAST-MODIFIED:20230818T164120Z
UID:10003577-1805014800-1805018400@ourladyofgracechurch.com
SUMMARY:Mass in English
DESCRIPTION:
URL:https://ourladyofgracechurch.com/event/mass-in-english-4/2027-03-14/
LOCATION:Our Lady of Grace Catholic Church\, 300 Malabar Rd\, Palm Bay\, 32907\, United States
ATTACH;FMTTYPE=image/png:https://ourladyofgracechurch.com/wp-content/uploads/2023/08/Untitled-design-6.png
END:VEVENT
BEGIN:VEVENT
DTSTART;TZID=America/New_York:20270314T104500
DTEND;TZID=America/New_York:20270314T110000
DTSTAMP:20260420T063226
CREATED:20230817T200348Z
LAST-MODIFIED:20240203T132047Z
UID:10003838-1805021100-1805022000@ourladyofgracechurch.com
SUMMARY:Mass in French/Creole
DESCRIPTION:
URL:https://ourladyofgracechurch.com/event/mass-in-french-creole-2/2027-03-14/
LOCATION:Our Lady of Grace Catholic Church\, 300 Malabar Rd\, Palm Bay\, 32907\, United States
ATTACH;FMTTYPE=image/png:https://ourladyofgracechurch.com/wp-content/uploads/2023/08/Untitled-design-6.png
END:VEVENT
BEGIN:VEVENT
DTSTART;TZID=America/New_York:20270314T170000
DTEND;TZID=America/New_York:20270314T180000
DTSTAMP:20260420T063226
CREATED:20230817T200627Z
LAST-MODIFIED:20250405T013234Z
UID:10004360-1805043600-1805047200@ourladyofgracechurch.com
SUMMARY:Mass in English
DESCRIPTION:
URL:https://ourladyofgracechurch.com/event/mass-in-english-5/2027-03-14/
LOCATION:Our Lady of Grace Catholic Church\, 300 Malabar Rd\, Palm Bay\, 32907\, United States
ATTACH;FMTTYPE=image/png:https://ourladyofgracechurch.com/wp-content/uploads/2023/08/Untitled-design-6.png
END:VEVENT
BEGIN:VEVENT
DTSTART;TZID=America/New_York:20270321T090000
DTEND;TZID=America/New_York:20270321T100000
DTSTAMP:20260420T063227
CREATED:20230817T192942Z
LAST-MODIFIED:20230818T164120Z
UID:10003578-1805619600-1805623200@ourladyofgracechurch.com
SUMMARY:Mass in English
DESCRIPTION:
URL:https://ourladyofgracechurch.com/event/mass-in-english-4/2027-03-21/
LOCATION:Our Lady of Grace Catholic Church\, 300 Malabar Rd\, Palm Bay\, 32907\, United States
ATTACH;FMTTYPE=image/png:https://ourladyofgracechurch.com/wp-content/uploads/2023/08/Untitled-design-6.png
END:VEVENT
BEGIN:VEVENT
DTSTART;TZID=America/New_York:20270321T104500
DTEND;TZID=America/New_York:20270321T110000
DTSTAMP:20260420T063227
CREATED:20230817T200348Z
LAST-MODIFIED:20240203T132047Z
UID:10003839-1805625900-1805626800@ourladyofgracechurch.com
SUMMARY:Mass in French/Creole
DESCRIPTION:
URL:https://ourladyofgracechurch.com/event/mass-in-french-creole-2/2027-03-21/
LOCATION:Our Lady of Grace Catholic Church\, 300 Malabar Rd\, Palm Bay\, 32907\, United States
ATTACH;FMTTYPE=image/png:https://ourladyofgracechurch.com/wp-content/uploads/2023/08/Untitled-design-6.png
END:VEVENT
BEGIN:VEVENT
DTSTART;TZID=America/New_York:20270321T170000
DTEND;TZID=America/New_York:20270321T180000
DTSTAMP:20260420T063227
CREATED:20230817T200627Z
LAST-MODIFIED:20250405T013234Z
UID:10004361-1805648400-1805652000@ourladyofgracechurch.com
SUMMARY:Mass in English
DESCRIPTION:
URL:https://ourladyofgracechurch.com/event/mass-in-english-5/2027-03-21/
LOCATION:Our Lady of Grace Catholic Church\, 300 Malabar Rd\, Palm Bay\, 32907\, United States
ATTACH;FMTTYPE=image/png:https://ourladyofgracechurch.com/wp-content/uploads/2023/08/Untitled-design-6.png
END:VEVENT
BEGIN:VEVENT
DTSTART;TZID=America/New_York:20270328T090000
DTEND;TZID=America/New_York:20270328T100000
DTSTAMP:20260420T063227
CREATED:20230817T192942Z
LAST-MODIFIED:20230818T164120Z
UID:10003579-1806224400-1806228000@ourladyofgracechurch.com
SUMMARY:Mass in English
DESCRIPTION:
URL:https://ourladyofgracechurch.com/event/mass-in-english-4/2027-03-28/
LOCATION:Our Lady of Grace Catholic Church\, 300 Malabar Rd\, Palm Bay\, 32907\, United States
ATTACH;FMTTYPE=image/png:https://ourladyofgracechurch.com/wp-content/uploads/2023/08/Untitled-design-6.png
END:VEVENT
BEGIN:VEVENT
DTSTART;TZID=America/New_York:20270328T104500
DTEND;TZID=America/New_York:20270328T110000
DTSTAMP:20260420T063227
CREATED:20230817T200348Z
LAST-MODIFIED:20240203T132047Z
UID:10003840-1806230700-1806231600@ourladyofgracechurch.com
SUMMARY:Mass in French/Creole
DESCRIPTION:
URL:https://ourladyofgracechurch.com/event/mass-in-french-creole-2/2027-03-28/
LOCATION:Our Lady of Grace Catholic Church\, 300 Malabar Rd\, Palm Bay\, 32907\, United States
ATTACH;FMTTYPE=image/png:https://ourladyofgracechurch.com/wp-content/uploads/2023/08/Untitled-design-6.png
END:VEVENT
BEGIN:VEVENT
DTSTART;TZID=America/New_York:20270328T170000
DTEND;TZID=America/New_York:20270328T180000
DTSTAMP:20260420T063227
CREATED:20230817T200627Z
LAST-MODIFIED:20250405T013234Z
UID:10004362-1806253200-1806256800@ourladyofgracechurch.com
SUMMARY:Mass in English
DESCRIPTION:
URL:https://ourladyofgracechurch.com/event/mass-in-english-5/2027-03-28/
LOCATION:Our Lady of Grace Catholic Church\, 300 Malabar Rd\, Palm Bay\, 32907\, United States
ATTACH;FMTTYPE=image/png:https://ourladyofgracechurch.com/wp-content/uploads/2023/08/Untitled-design-6.png
END:VEVENT
END:VCALENDAR