BEGIN:VCALENDAR
VERSION:2.0
PRODID:-//Our Lady of Grace Church - ECPv6.15.17//NONSGML v1.0//EN
CALSCALE:GREGORIAN
METHOD:PUBLISH
X-WR-CALNAME:Our Lady of Grace Church
X-ORIGINAL-URL:https://ourladyofgracechurch.com
X-WR-CALDESC:Events for Our Lady of Grace Church
REFRESH-INTERVAL;VALUE=DURATION:PT1H
X-Robots-Tag:noindex
X-PUBLISHED-TTL:PT1H
BEGIN:VTIMEZONE
TZID:America/New_York
BEGIN:DAYLIGHT
TZOFFSETFROM:-0500
TZOFFSETTO:-0400
TZNAME:EDT
DTSTART:20230312T070000
END:DAYLIGHT
BEGIN:STANDARD
TZOFFSETFROM:-0400
TZOFFSETTO:-0500
TZNAME:EST
DTSTART:20231105T060000
END:STANDARD
BEGIN:DAYLIGHT
TZOFFSETFROM:-0500
TZOFFSETTO:-0400
TZNAME:EDT
DTSTART:20240310T070000
END:DAYLIGHT
BEGIN:STANDARD
TZOFFSETFROM:-0400
TZOFFSETTO:-0500
TZNAME:EST
DTSTART:20241103T060000
END:STANDARD
BEGIN:DAYLIGHT
TZOFFSETFROM:-0500
TZOFFSETTO:-0400
TZNAME:EDT
DTSTART:20250309T070000
END:DAYLIGHT
BEGIN:STANDARD
TZOFFSETFROM:-0400
TZOFFSETTO:-0500
TZNAME:EST
DTSTART:20251102T060000
END:STANDARD
END:VTIMEZONE
BEGIN:VEVENT
DTSTART;TZID=America/New_York:20240329T200000
DTEND;TZID=America/New_York:20240329T223000
DTSTAMP:20260421T214854
CREATED:20240301T235351Z
LAST-MODIFIED:20240301T235351Z
UID:10008910-1711742400-1711751400@ourladyofgracechurch.com
SUMMARY:Living Station of the Cross
DESCRIPTION:
URL:https://ourladyofgracechurch.com/event/living-station-of-the-cross/
LOCATION:Our Lady of Grace Catholic Church\, 300 Malabar Rd\, Palm Bay\, 32907\, United States
END:VEVENT
END:VCALENDAR