BEGIN:VCALENDAR
VERSION:2.0
PRODID:-//Our Lady of Grace Church - ECPv6.15.17//NONSGML v1.0//EN
CALSCALE:GREGORIAN
METHOD:PUBLISH
X-ORIGINAL-URL:https://ourladyofgracechurch.com
X-WR-CALDESC:Events for Our Lady of Grace Church
REFRESH-INTERVAL;VALUE=DURATION:PT1H
X-Robots-Tag:noindex
X-PUBLISHED-TTL:PT1H
BEGIN:VTIMEZONE
TZID:America/New_York
BEGIN:DAYLIGHT
TZOFFSETFROM:-0500
TZOFFSETTO:-0400
TZNAME:EDT
DTSTART:20280312T070000
END:DAYLIGHT
BEGIN:STANDARD
TZOFFSETFROM:-0400
TZOFFSETTO:-0500
TZNAME:EST
DTSTART:20281105T060000
END:STANDARD
BEGIN:DAYLIGHT
TZOFFSETFROM:-0500
TZOFFSETTO:-0400
TZNAME:EDT
DTSTART:20290311T070000
END:DAYLIGHT
BEGIN:STANDARD
TZOFFSETFROM:-0400
TZOFFSETTO:-0500
TZNAME:EST
DTSTART:20291104T060000
END:STANDARD
BEGIN:DAYLIGHT
TZOFFSETFROM:-0500
TZOFFSETTO:-0400
TZNAME:EDT
DTSTART:20300310T070000
END:DAYLIGHT
BEGIN:STANDARD
TZOFFSETFROM:-0400
TZOFFSETTO:-0500
TZNAME:EST
DTSTART:20301103T060000
END:STANDARD
BEGIN:DAYLIGHT
TZOFFSETFROM:-0500
TZOFFSETTO:-0400
TZNAME:EDT
DTSTART:20310309T070000
END:DAYLIGHT
BEGIN:STANDARD
TZOFFSETFROM:-0400
TZOFFSETTO:-0500
TZNAME:EST
DTSTART:20311102T060000
END:STANDARD
END:VTIMEZONE
BEGIN:VEVENT
DTSTART;TZID=America/New_York:20291003T183000
DTEND;TZID=America/New_York:20291003T203000
DTSTAMP:20260419T210327
CREATED:20240205T201550Z
LAST-MODIFIED:20251230T190202Z
UID:10012284-1885746600-1885753800@ourladyofgracechurch.com
SUMMARY:Choir Rehearsal for 9 AM & 4 PM Mass - Church
DESCRIPTION:Please call the church for more information about joining the Music Ministry.
URL:https://ourladyofgracechurch.com/event/choir-rehearsal-for-9-am-4-pm-mass-church/2029-10-03/
LOCATION:Our Lady of Grace Catholic Church\, 300 Malabar Rd\, Palm Bay\, 32907\, United States
END:VEVENT
BEGIN:VEVENT
DTSTART;TZID=America/New_York:20291010T183000
DTEND;TZID=America/New_York:20291010T203000
DTSTAMP:20260419T210327
CREATED:20240205T201550Z
LAST-MODIFIED:20251230T190202Z
UID:10012285-1886351400-1886358600@ourladyofgracechurch.com
SUMMARY:Choir Rehearsal for 9 AM & 4 PM Mass - Church
DESCRIPTION:Please call the church for more information about joining the Music Ministry.
URL:https://ourladyofgracechurch.com/event/choir-rehearsal-for-9-am-4-pm-mass-church/2029-10-10/
LOCATION:Our Lady of Grace Catholic Church\, 300 Malabar Rd\, Palm Bay\, 32907\, United States
END:VEVENT
BEGIN:VEVENT
DTSTART;TZID=America/New_York:20291017T183000
DTEND;TZID=America/New_York:20291017T203000
DTSTAMP:20260419T210327
CREATED:20240205T201550Z
LAST-MODIFIED:20251230T190202Z
UID:10012286-1886956200-1886963400@ourladyofgracechurch.com
SUMMARY:Choir Rehearsal for 9 AM & 4 PM Mass - Church
DESCRIPTION:Please call the church for more information about joining the Music Ministry.
URL:https://ourladyofgracechurch.com/event/choir-rehearsal-for-9-am-4-pm-mass-church/2029-10-17/
LOCATION:Our Lady of Grace Catholic Church\, 300 Malabar Rd\, Palm Bay\, 32907\, United States
END:VEVENT
BEGIN:VEVENT
DTSTART;TZID=America/New_York:20291024T183000
DTEND;TZID=America/New_York:20291024T203000
DTSTAMP:20260419T210327
CREATED:20240205T201550Z
LAST-MODIFIED:20251230T190202Z
UID:10012287-1887561000-1887568200@ourladyofgracechurch.com
SUMMARY:Choir Rehearsal for 9 AM & 4 PM Mass - Church
DESCRIPTION:Please call the church for more information about joining the Music Ministry.
URL:https://ourladyofgracechurch.com/event/choir-rehearsal-for-9-am-4-pm-mass-church/2029-10-24/
LOCATION:Our Lady of Grace Catholic Church\, 300 Malabar Rd\, Palm Bay\, 32907\, United States
END:VEVENT
BEGIN:VEVENT
DTSTART;TZID=America/New_York:20291031T183000
DTEND;TZID=America/New_York:20291031T203000
DTSTAMP:20260419T210327
CREATED:20240205T201550Z
LAST-MODIFIED:20251230T190202Z
UID:10012288-1888165800-1888173000@ourladyofgracechurch.com
SUMMARY:Choir Rehearsal for 9 AM & 4 PM Mass - Church
DESCRIPTION:Please call the church for more information about joining the Music Ministry.
URL:https://ourladyofgracechurch.com/event/choir-rehearsal-for-9-am-4-pm-mass-church/2029-10-31/
LOCATION:Our Lady of Grace Catholic Church\, 300 Malabar Rd\, Palm Bay\, 32907\, United States
END:VEVENT
BEGIN:VEVENT
DTSTART;TZID=America/New_York:20291107T183000
DTEND;TZID=America/New_York:20291107T203000
DTSTAMP:20260419T210327
CREATED:20240205T201550Z
LAST-MODIFIED:20251230T190202Z
UID:10012289-1888770600-1888777800@ourladyofgracechurch.com
SUMMARY:Choir Rehearsal for 9 AM & 4 PM Mass - Church
DESCRIPTION:Please call the church for more information about joining the Music Ministry.
URL:https://ourladyofgracechurch.com/event/choir-rehearsal-for-9-am-4-pm-mass-church/2029-11-07/
LOCATION:Our Lady of Grace Catholic Church\, 300 Malabar Rd\, Palm Bay\, 32907\, United States
END:VEVENT
BEGIN:VEVENT
DTSTART;TZID=America/New_York:20291114T183000
DTEND;TZID=America/New_York:20291114T203000
DTSTAMP:20260419T210327
CREATED:20240205T201550Z
LAST-MODIFIED:20251230T190202Z
UID:10016001-1889375400-1889382600@ourladyofgracechurch.com
SUMMARY:Choir Rehearsal for 9 AM & 4 PM Mass - Church
DESCRIPTION:Please call the church for more information about joining the Music Ministry.
URL:https://ourladyofgracechurch.com/event/choir-rehearsal-for-9-am-4-pm-mass-church/2029-11-14/
LOCATION:Our Lady of Grace Catholic Church\, 300 Malabar Rd\, Palm Bay\, 32907\, United States
END:VEVENT
BEGIN:VEVENT
DTSTART;TZID=America/New_York:20291121T183000
DTEND;TZID=America/New_York:20291121T203000
DTSTAMP:20260419T210327
CREATED:20240205T201550Z
LAST-MODIFIED:20251230T190202Z
UID:10016002-1889980200-1889987400@ourladyofgracechurch.com
SUMMARY:Choir Rehearsal for 9 AM & 4 PM Mass - Church
DESCRIPTION:Please call the church for more information about joining the Music Ministry.
URL:https://ourladyofgracechurch.com/event/choir-rehearsal-for-9-am-4-pm-mass-church/2029-11-21/
LOCATION:Our Lady of Grace Catholic Church\, 300 Malabar Rd\, Palm Bay\, 32907\, United States
END:VEVENT
BEGIN:VEVENT
DTSTART;TZID=America/New_York:20291128T183000
DTEND;TZID=America/New_York:20291128T203000
DTSTAMP:20260419T210327
CREATED:20240205T201550Z
LAST-MODIFIED:20251230T190202Z
UID:10016003-1890585000-1890592200@ourladyofgracechurch.com
SUMMARY:Choir Rehearsal for 9 AM & 4 PM Mass - Church
DESCRIPTION:Please call the church for more information about joining the Music Ministry.
URL:https://ourladyofgracechurch.com/event/choir-rehearsal-for-9-am-4-pm-mass-church/2029-11-28/
LOCATION:Our Lady of Grace Catholic Church\, 300 Malabar Rd\, Palm Bay\, 32907\, United States
END:VEVENT
BEGIN:VEVENT
DTSTART;TZID=America/New_York:20291205T183000
DTEND;TZID=America/New_York:20291205T203000
DTSTAMP:20260419T210327
CREATED:20240205T201550Z
LAST-MODIFIED:20251230T190202Z
UID:10016004-1891189800-1891197000@ourladyofgracechurch.com
SUMMARY:Choir Rehearsal for 9 AM & 4 PM Mass - Church
DESCRIPTION:Please call the church for more information about joining the Music Ministry.
URL:https://ourladyofgracechurch.com/event/choir-rehearsal-for-9-am-4-pm-mass-church/2029-12-05/
LOCATION:Our Lady of Grace Catholic Church\, 300 Malabar Rd\, Palm Bay\, 32907\, United States
END:VEVENT
BEGIN:VEVENT
DTSTART;TZID=America/New_York:20291212T183000
DTEND;TZID=America/New_York:20291212T203000
DTSTAMP:20260419T210327
CREATED:20240205T201550Z
LAST-MODIFIED:20251230T190202Z
UID:10016005-1891794600-1891801800@ourladyofgracechurch.com
SUMMARY:Choir Rehearsal for 9 AM & 4 PM Mass - Church
DESCRIPTION:Please call the church for more information about joining the Music Ministry.
URL:https://ourladyofgracechurch.com/event/choir-rehearsal-for-9-am-4-pm-mass-church/2029-12-12/
LOCATION:Our Lady of Grace Catholic Church\, 300 Malabar Rd\, Palm Bay\, 32907\, United States
END:VEVENT
BEGIN:VEVENT
DTSTART;TZID=America/New_York:20291219T183000
DTEND;TZID=America/New_York:20291219T203000
DTSTAMP:20260419T210327
CREATED:20240205T201550Z
LAST-MODIFIED:20251230T190202Z
UID:10016006-1892399400-1892406600@ourladyofgracechurch.com
SUMMARY:Choir Rehearsal for 9 AM & 4 PM Mass - Church
DESCRIPTION:Please call the church for more information about joining the Music Ministry.
URL:https://ourladyofgracechurch.com/event/choir-rehearsal-for-9-am-4-pm-mass-church/2029-12-19/
LOCATION:Our Lady of Grace Catholic Church\, 300 Malabar Rd\, Palm Bay\, 32907\, United States
END:VEVENT
BEGIN:VEVENT
DTSTART;TZID=America/New_York:20291226T183000
DTEND;TZID=America/New_York:20291226T203000
DTSTAMP:20260419T210327
CREATED:20240205T201550Z
LAST-MODIFIED:20251230T190202Z
UID:10016007-1893004200-1893011400@ourladyofgracechurch.com
SUMMARY:Choir Rehearsal for 9 AM & 4 PM Mass - Church
DESCRIPTION:Please call the church for more information about joining the Music Ministry.
URL:https://ourladyofgracechurch.com/event/choir-rehearsal-for-9-am-4-pm-mass-church/2029-12-26/
LOCATION:Our Lady of Grace Catholic Church\, 300 Malabar Rd\, Palm Bay\, 32907\, United States
END:VEVENT
BEGIN:VEVENT
DTSTART;TZID=America/New_York:20300102T183000
DTEND;TZID=America/New_York:20300102T203000
DTSTAMP:20260419T210327
CREATED:20240205T201550Z
LAST-MODIFIED:20251230T190202Z
UID:10016008-1893609000-1893616200@ourladyofgracechurch.com
SUMMARY:Choir Rehearsal for 9 AM & 4 PM Mass - Church
DESCRIPTION:Please call the church for more information about joining the Music Ministry.
URL:https://ourladyofgracechurch.com/event/choir-rehearsal-for-9-am-4-pm-mass-church/2030-01-02/
LOCATION:Our Lady of Grace Catholic Church\, 300 Malabar Rd\, Palm Bay\, 32907\, United States
END:VEVENT
BEGIN:VEVENT
DTSTART;TZID=America/New_York:20300109T183000
DTEND;TZID=America/New_York:20300109T203000
DTSTAMP:20260419T210327
CREATED:20240205T201550Z
LAST-MODIFIED:20251230T190202Z
UID:10016009-1894213800-1894221000@ourladyofgracechurch.com
SUMMARY:Choir Rehearsal for 9 AM & 4 PM Mass - Church
DESCRIPTION:Please call the church for more information about joining the Music Ministry.
URL:https://ourladyofgracechurch.com/event/choir-rehearsal-for-9-am-4-pm-mass-church/2030-01-09/
LOCATION:Our Lady of Grace Catholic Church\, 300 Malabar Rd\, Palm Bay\, 32907\, United States
END:VEVENT
BEGIN:VEVENT
DTSTART;TZID=America/New_York:20300116T183000
DTEND;TZID=America/New_York:20300116T203000
DTSTAMP:20260419T210327
CREATED:20240205T201550Z
LAST-MODIFIED:20251230T190202Z
UID:10016010-1894818600-1894825800@ourladyofgracechurch.com
SUMMARY:Choir Rehearsal for 9 AM & 4 PM Mass - Church
DESCRIPTION:Please call the church for more information about joining the Music Ministry.
URL:https://ourladyofgracechurch.com/event/choir-rehearsal-for-9-am-4-pm-mass-church/2030-01-16/
LOCATION:Our Lady of Grace Catholic Church\, 300 Malabar Rd\, Palm Bay\, 32907\, United States
END:VEVENT
BEGIN:VEVENT
DTSTART;TZID=America/New_York:20300123T183000
DTEND;TZID=America/New_York:20300123T203000
DTSTAMP:20260419T210327
CREATED:20240205T201550Z
LAST-MODIFIED:20251230T190202Z
UID:10016011-1895423400-1895430600@ourladyofgracechurch.com
SUMMARY:Choir Rehearsal for 9 AM & 4 PM Mass - Church
DESCRIPTION:Please call the church for more information about joining the Music Ministry.
URL:https://ourladyofgracechurch.com/event/choir-rehearsal-for-9-am-4-pm-mass-church/2030-01-23/
LOCATION:Our Lady of Grace Catholic Church\, 300 Malabar Rd\, Palm Bay\, 32907\, United States
END:VEVENT
BEGIN:VEVENT
DTSTART;TZID=America/New_York:20300130T183000
DTEND;TZID=America/New_York:20300130T203000
DTSTAMP:20260419T210327
CREATED:20240205T201550Z
LAST-MODIFIED:20251230T190202Z
UID:10016012-1896028200-1896035400@ourladyofgracechurch.com
SUMMARY:Choir Rehearsal for 9 AM & 4 PM Mass - Church
DESCRIPTION:Please call the church for more information about joining the Music Ministry.
URL:https://ourladyofgracechurch.com/event/choir-rehearsal-for-9-am-4-pm-mass-church/2030-01-30/
LOCATION:Our Lady of Grace Catholic Church\, 300 Malabar Rd\, Palm Bay\, 32907\, United States
END:VEVENT
BEGIN:VEVENT
DTSTART;TZID=America/New_York:20300206T183000
DTEND;TZID=America/New_York:20300206T203000
DTSTAMP:20260419T210327
CREATED:20240205T201550Z
LAST-MODIFIED:20251230T190202Z
UID:10016013-1896633000-1896640200@ourladyofgracechurch.com
SUMMARY:Choir Rehearsal for 9 AM & 4 PM Mass - Church
DESCRIPTION:Please call the church for more information about joining the Music Ministry.
URL:https://ourladyofgracechurch.com/event/choir-rehearsal-for-9-am-4-pm-mass-church/2030-02-06/
LOCATION:Our Lady of Grace Catholic Church\, 300 Malabar Rd\, Palm Bay\, 32907\, United States
END:VEVENT
BEGIN:VEVENT
DTSTART;TZID=America/New_York:20300213T183000
DTEND;TZID=America/New_York:20300213T203000
DTSTAMP:20260419T210327
CREATED:20240205T201550Z
LAST-MODIFIED:20251230T190202Z
UID:10016014-1897237800-1897245000@ourladyofgracechurch.com
SUMMARY:Choir Rehearsal for 9 AM & 4 PM Mass - Church
DESCRIPTION:Please call the church for more information about joining the Music Ministry.
URL:https://ourladyofgracechurch.com/event/choir-rehearsal-for-9-am-4-pm-mass-church/2030-02-13/
LOCATION:Our Lady of Grace Catholic Church\, 300 Malabar Rd\, Palm Bay\, 32907\, United States
END:VEVENT
BEGIN:VEVENT
DTSTART;TZID=America/New_York:20300220T183000
DTEND;TZID=America/New_York:20300220T203000
DTSTAMP:20260419T210327
CREATED:20240205T201550Z
LAST-MODIFIED:20251230T190202Z
UID:10016015-1897842600-1897849800@ourladyofgracechurch.com
SUMMARY:Choir Rehearsal for 9 AM & 4 PM Mass - Church
DESCRIPTION:Please call the church for more information about joining the Music Ministry.
URL:https://ourladyofgracechurch.com/event/choir-rehearsal-for-9-am-4-pm-mass-church/2030-02-20/
LOCATION:Our Lady of Grace Catholic Church\, 300 Malabar Rd\, Palm Bay\, 32907\, United States
END:VEVENT
BEGIN:VEVENT
DTSTART;TZID=America/New_York:20300227T183000
DTEND;TZID=America/New_York:20300227T203000
DTSTAMP:20260419T210327
CREATED:20240205T201550Z
LAST-MODIFIED:20251230T190202Z
UID:10016016-1898447400-1898454600@ourladyofgracechurch.com
SUMMARY:Choir Rehearsal for 9 AM & 4 PM Mass - Church
DESCRIPTION:Please call the church for more information about joining the Music Ministry.
URL:https://ourladyofgracechurch.com/event/choir-rehearsal-for-9-am-4-pm-mass-church/2030-02-27/
LOCATION:Our Lady of Grace Catholic Church\, 300 Malabar Rd\, Palm Bay\, 32907\, United States
END:VEVENT
BEGIN:VEVENT
DTSTART;TZID=America/New_York:20300306T183000
DTEND;TZID=America/New_York:20300306T203000
DTSTAMP:20260419T210327
CREATED:20240205T201550Z
LAST-MODIFIED:20251230T190202Z
UID:10016017-1899052200-1899059400@ourladyofgracechurch.com
SUMMARY:Choir Rehearsal for 9 AM & 4 PM Mass - Church
DESCRIPTION:Please call the church for more information about joining the Music Ministry.
URL:https://ourladyofgracechurch.com/event/choir-rehearsal-for-9-am-4-pm-mass-church/2030-03-06/
LOCATION:Our Lady of Grace Catholic Church\, 300 Malabar Rd\, Palm Bay\, 32907\, United States
END:VEVENT
BEGIN:VEVENT
DTSTART;TZID=America/New_York:20300313T183000
DTEND;TZID=America/New_York:20300313T203000
DTSTAMP:20260419T210327
CREATED:20240205T201550Z
LAST-MODIFIED:20251230T190202Z
UID:10016018-1899657000-1899664200@ourladyofgracechurch.com
SUMMARY:Choir Rehearsal for 9 AM & 4 PM Mass - Church
DESCRIPTION:Please call the church for more information about joining the Music Ministry.
URL:https://ourladyofgracechurch.com/event/choir-rehearsal-for-9-am-4-pm-mass-church/2030-03-13/
LOCATION:Our Lady of Grace Catholic Church\, 300 Malabar Rd\, Palm Bay\, 32907\, United States
END:VEVENT
BEGIN:VEVENT
DTSTART;TZID=America/New_York:20300320T183000
DTEND;TZID=America/New_York:20300320T203000
DTSTAMP:20260419T210327
CREATED:20240205T201550Z
LAST-MODIFIED:20251230T190202Z
UID:10016019-1900261800-1900269000@ourladyofgracechurch.com
SUMMARY:Choir Rehearsal for 9 AM & 4 PM Mass - Church
DESCRIPTION:Please call the church for more information about joining the Music Ministry.
URL:https://ourladyofgracechurch.com/event/choir-rehearsal-for-9-am-4-pm-mass-church/2030-03-20/
LOCATION:Our Lady of Grace Catholic Church\, 300 Malabar Rd\, Palm Bay\, 32907\, United States
END:VEVENT
BEGIN:VEVENT
DTSTART;TZID=America/New_York:20300327T183000
DTEND;TZID=America/New_York:20300327T203000
DTSTAMP:20260419T210327
CREATED:20240205T201550Z
LAST-MODIFIED:20251230T190202Z
UID:10016020-1900866600-1900873800@ourladyofgracechurch.com
SUMMARY:Choir Rehearsal for 9 AM & 4 PM Mass - Church
DESCRIPTION:Please call the church for more information about joining the Music Ministry.
URL:https://ourladyofgracechurch.com/event/choir-rehearsal-for-9-am-4-pm-mass-church/2030-03-27/
LOCATION:Our Lady of Grace Catholic Church\, 300 Malabar Rd\, Palm Bay\, 32907\, United States
END:VEVENT
BEGIN:VEVENT
DTSTART;TZID=America/New_York:20300403T183000
DTEND;TZID=America/New_York:20300403T203000
DTSTAMP:20260419T210327
CREATED:20240205T201550Z
LAST-MODIFIED:20251230T190202Z
UID:10016021-1901471400-1901478600@ourladyofgracechurch.com
SUMMARY:Choir Rehearsal for 9 AM & 4 PM Mass - Church
DESCRIPTION:Please call the church for more information about joining the Music Ministry.
URL:https://ourladyofgracechurch.com/event/choir-rehearsal-for-9-am-4-pm-mass-church/2030-04-03/
LOCATION:Our Lady of Grace Catholic Church\, 300 Malabar Rd\, Palm Bay\, 32907\, United States
END:VEVENT
BEGIN:VEVENT
DTSTART;TZID=America/New_York:20300410T183000
DTEND;TZID=America/New_York:20300410T203000
DTSTAMP:20260419T210327
CREATED:20240205T201550Z
LAST-MODIFIED:20251230T190202Z
UID:10016022-1902076200-1902083400@ourladyofgracechurch.com
SUMMARY:Choir Rehearsal for 9 AM & 4 PM Mass - Church
DESCRIPTION:Please call the church for more information about joining the Music Ministry.
URL:https://ourladyofgracechurch.com/event/choir-rehearsal-for-9-am-4-pm-mass-church/2030-04-10/
LOCATION:Our Lady of Grace Catholic Church\, 300 Malabar Rd\, Palm Bay\, 32907\, United States
END:VEVENT
BEGIN:VEVENT
DTSTART;TZID=America/New_York:20300417T183000
DTEND;TZID=America/New_York:20300417T203000
DTSTAMP:20260419T210327
CREATED:20240205T201550Z
LAST-MODIFIED:20251230T190202Z
UID:10016023-1902681000-1902688200@ourladyofgracechurch.com
SUMMARY:Choir Rehearsal for 9 AM & 4 PM Mass - Church
DESCRIPTION:Please call the church for more information about joining the Music Ministry.
URL:https://ourladyofgracechurch.com/event/choir-rehearsal-for-9-am-4-pm-mass-church/2030-04-17/
LOCATION:Our Lady of Grace Catholic Church\, 300 Malabar Rd\, Palm Bay\, 32907\, United States
END:VEVENT
BEGIN:VEVENT
DTSTART;TZID=America/New_York:20300424T183000
DTEND;TZID=America/New_York:20300424T203000
DTSTAMP:20260419T210327
CREATED:20240205T201550Z
LAST-MODIFIED:20251230T190202Z
UID:10016024-1903285800-1903293000@ourladyofgracechurch.com
SUMMARY:Choir Rehearsal for 9 AM & 4 PM Mass - Church
DESCRIPTION:Please call the church for more information about joining the Music Ministry.
URL:https://ourladyofgracechurch.com/event/choir-rehearsal-for-9-am-4-pm-mass-church/2030-04-24/
LOCATION:Our Lady of Grace Catholic Church\, 300 Malabar Rd\, Palm Bay\, 32907\, United States
END:VEVENT
END:VCALENDAR