BEGIN:VCALENDAR
VERSION:2.0
PRODID:-//Our Lady of Grace Church - ECPv6.15.17//NONSGML v1.0//EN
CALSCALE:GREGORIAN
METHOD:PUBLISH
X-WR-CALNAME:Our Lady of Grace Church
X-ORIGINAL-URL:https://ourladyofgracechurch.com
X-WR-CALDESC:Events for Our Lady of Grace Church
REFRESH-INTERVAL;VALUE=DURATION:PT1H
X-Robots-Tag:noindex
X-PUBLISHED-TTL:PT1H
BEGIN:VTIMEZONE
TZID:America/New_York
BEGIN:DAYLIGHT
TZOFFSETFROM:-0500
TZOFFSETTO:-0400
TZNAME:EDT
DTSTART:20280312T070000
END:DAYLIGHT
BEGIN:STANDARD
TZOFFSETFROM:-0400
TZOFFSETTO:-0500
TZNAME:EST
DTSTART:20281105T060000
END:STANDARD
BEGIN:DAYLIGHT
TZOFFSETFROM:-0500
TZOFFSETTO:-0400
TZNAME:EDT
DTSTART:20290311T070000
END:DAYLIGHT
BEGIN:STANDARD
TZOFFSETFROM:-0400
TZOFFSETTO:-0500
TZNAME:EST
DTSTART:20291104T060000
END:STANDARD
BEGIN:DAYLIGHT
TZOFFSETFROM:-0500
TZOFFSETTO:-0400
TZNAME:EDT
DTSTART:20300310T070000
END:DAYLIGHT
BEGIN:STANDARD
TZOFFSETFROM:-0400
TZOFFSETTO:-0500
TZNAME:EST
DTSTART:20301103T060000
END:STANDARD
END:VTIMEZONE
BEGIN:VEVENT
DTSTART;TZID=America/New_York:20290418T183000
DTEND;TZID=America/New_York:20290418T203000
DTSTAMP:20260419T172020
CREATED:20240205T201550Z
LAST-MODIFIED:20251230T190202Z
UID:10010393-1871231400-1871238600@ourladyofgracechurch.com
SUMMARY:Choir Rehearsal for 9 AM & 4 PM Mass - Church
DESCRIPTION:Please call the church for more information about joining the Music Ministry.
URL:https://ourladyofgracechurch.com/event/choir-rehearsal-for-9-am-4-pm-mass-church/2029-04-18/
LOCATION:Our Lady of Grace Catholic Church\, 300 Malabar Rd\, Palm Bay\, 32907\, United States
END:VEVENT
BEGIN:VEVENT
DTSTART;TZID=America/New_York:20290425T183000
DTEND;TZID=America/New_York:20290425T203000
DTSTAMP:20260419T172020
CREATED:20240205T201550Z
LAST-MODIFIED:20251230T190202Z
UID:10010394-1871836200-1871843400@ourladyofgracechurch.com
SUMMARY:Choir Rehearsal for 9 AM & 4 PM Mass - Church
DESCRIPTION:Please call the church for more information about joining the Music Ministry.
URL:https://ourladyofgracechurch.com/event/choir-rehearsal-for-9-am-4-pm-mass-church/2029-04-25/
LOCATION:Our Lady of Grace Catholic Church\, 300 Malabar Rd\, Palm Bay\, 32907\, United States
END:VEVENT
BEGIN:VEVENT
DTSTART;TZID=America/New_York:20290502T183000
DTEND;TZID=America/New_York:20290502T203000
DTSTAMP:20260419T172020
CREATED:20240205T201550Z
LAST-MODIFIED:20251230T190202Z
UID:10010395-1872441000-1872448200@ourladyofgracechurch.com
SUMMARY:Choir Rehearsal for 9 AM & 4 PM Mass - Church
DESCRIPTION:Please call the church for more information about joining the Music Ministry.
URL:https://ourladyofgracechurch.com/event/choir-rehearsal-for-9-am-4-pm-mass-church/2029-05-02/
LOCATION:Our Lady of Grace Catholic Church\, 300 Malabar Rd\, Palm Bay\, 32907\, United States
END:VEVENT
BEGIN:VEVENT
DTSTART;TZID=America/New_York:20290509T183000
DTEND;TZID=America/New_York:20290509T203000
DTSTAMP:20260419T172020
CREATED:20240205T201550Z
LAST-MODIFIED:20251230T190202Z
UID:10010396-1873045800-1873053000@ourladyofgracechurch.com
SUMMARY:Choir Rehearsal for 9 AM & 4 PM Mass - Church
DESCRIPTION:Please call the church for more information about joining the Music Ministry.
URL:https://ourladyofgracechurch.com/event/choir-rehearsal-for-9-am-4-pm-mass-church/2029-05-09/
LOCATION:Our Lady of Grace Catholic Church\, 300 Malabar Rd\, Palm Bay\, 32907\, United States
END:VEVENT
BEGIN:VEVENT
DTSTART;TZID=America/New_York:20290516T183000
DTEND;TZID=America/New_York:20290516T203000
DTSTAMP:20260419T172020
CREATED:20240205T201550Z
LAST-MODIFIED:20251230T190202Z
UID:10010397-1873650600-1873657800@ourladyofgracechurch.com
SUMMARY:Choir Rehearsal for 9 AM & 4 PM Mass - Church
DESCRIPTION:Please call the church for more information about joining the Music Ministry.
URL:https://ourladyofgracechurch.com/event/choir-rehearsal-for-9-am-4-pm-mass-church/2029-05-16/
LOCATION:Our Lady of Grace Catholic Church\, 300 Malabar Rd\, Palm Bay\, 32907\, United States
END:VEVENT
BEGIN:VEVENT
DTSTART;TZID=America/New_York:20290523T183000
DTEND;TZID=America/New_York:20290523T203000
DTSTAMP:20260419T172020
CREATED:20240205T201550Z
LAST-MODIFIED:20251230T190202Z
UID:10010398-1874255400-1874262600@ourladyofgracechurch.com
SUMMARY:Choir Rehearsal for 9 AM & 4 PM Mass - Church
DESCRIPTION:Please call the church for more information about joining the Music Ministry.
URL:https://ourladyofgracechurch.com/event/choir-rehearsal-for-9-am-4-pm-mass-church/2029-05-23/
LOCATION:Our Lady of Grace Catholic Church\, 300 Malabar Rd\, Palm Bay\, 32907\, United States
END:VEVENT
BEGIN:VEVENT
DTSTART;TZID=America/New_York:20290530T183000
DTEND;TZID=America/New_York:20290530T203000
DTSTAMP:20260419T172020
CREATED:20240205T201550Z
LAST-MODIFIED:20251230T190202Z
UID:10010399-1874860200-1874867400@ourladyofgracechurch.com
SUMMARY:Choir Rehearsal for 9 AM & 4 PM Mass - Church
DESCRIPTION:Please call the church for more information about joining the Music Ministry.
URL:https://ourladyofgracechurch.com/event/choir-rehearsal-for-9-am-4-pm-mass-church/2029-05-30/
LOCATION:Our Lady of Grace Catholic Church\, 300 Malabar Rd\, Palm Bay\, 32907\, United States
END:VEVENT
BEGIN:VEVENT
DTSTART;TZID=America/New_York:20290606T183000
DTEND;TZID=America/New_York:20290606T203000
DTSTAMP:20260419T172020
CREATED:20240205T201550Z
LAST-MODIFIED:20251230T190202Z
UID:10010400-1875465000-1875472200@ourladyofgracechurch.com
SUMMARY:Choir Rehearsal for 9 AM & 4 PM Mass - Church
DESCRIPTION:Please call the church for more information about joining the Music Ministry.
URL:https://ourladyofgracechurch.com/event/choir-rehearsal-for-9-am-4-pm-mass-church/2029-06-06/
LOCATION:Our Lady of Grace Catholic Church\, 300 Malabar Rd\, Palm Bay\, 32907\, United States
END:VEVENT
BEGIN:VEVENT
DTSTART;TZID=America/New_York:20290613T183000
DTEND;TZID=America/New_York:20290613T203000
DTSTAMP:20260419T172020
CREATED:20240205T201550Z
LAST-MODIFIED:20251230T190202Z
UID:10010401-1876069800-1876077000@ourladyofgracechurch.com
SUMMARY:Choir Rehearsal for 9 AM & 4 PM Mass - Church
DESCRIPTION:Please call the church for more information about joining the Music Ministry.
URL:https://ourladyofgracechurch.com/event/choir-rehearsal-for-9-am-4-pm-mass-church/2029-06-13/
LOCATION:Our Lady of Grace Catholic Church\, 300 Malabar Rd\, Palm Bay\, 32907\, United States
END:VEVENT
BEGIN:VEVENT
DTSTART;TZID=America/New_York:20290620T183000
DTEND;TZID=America/New_York:20290620T203000
DTSTAMP:20260419T172020
CREATED:20240205T201550Z
LAST-MODIFIED:20251230T190202Z
UID:10010402-1876674600-1876681800@ourladyofgracechurch.com
SUMMARY:Choir Rehearsal for 9 AM & 4 PM Mass - Church
DESCRIPTION:Please call the church for more information about joining the Music Ministry.
URL:https://ourladyofgracechurch.com/event/choir-rehearsal-for-9-am-4-pm-mass-church/2029-06-20/
LOCATION:Our Lady of Grace Catholic Church\, 300 Malabar Rd\, Palm Bay\, 32907\, United States
END:VEVENT
BEGIN:VEVENT
DTSTART;TZID=America/New_York:20290627T183000
DTEND;TZID=America/New_York:20290627T203000
DTSTAMP:20260419T172020
CREATED:20240205T201550Z
LAST-MODIFIED:20251230T190202Z
UID:10012270-1877279400-1877286600@ourladyofgracechurch.com
SUMMARY:Choir Rehearsal for 9 AM & 4 PM Mass - Church
DESCRIPTION:Please call the church for more information about joining the Music Ministry.
URL:https://ourladyofgracechurch.com/event/choir-rehearsal-for-9-am-4-pm-mass-church/2029-06-27/
LOCATION:Our Lady of Grace Catholic Church\, 300 Malabar Rd\, Palm Bay\, 32907\, United States
END:VEVENT
BEGIN:VEVENT
DTSTART;TZID=America/New_York:20290704T183000
DTEND;TZID=America/New_York:20290704T203000
DTSTAMP:20260419T172020
CREATED:20240205T201550Z
LAST-MODIFIED:20251230T190202Z
UID:10012271-1877884200-1877891400@ourladyofgracechurch.com
SUMMARY:Choir Rehearsal for 9 AM & 4 PM Mass - Church
DESCRIPTION:Please call the church for more information about joining the Music Ministry.
URL:https://ourladyofgracechurch.com/event/choir-rehearsal-for-9-am-4-pm-mass-church/2029-07-04/
LOCATION:Our Lady of Grace Catholic Church\, 300 Malabar Rd\, Palm Bay\, 32907\, United States
END:VEVENT
BEGIN:VEVENT
DTSTART;TZID=America/New_York:20290711T183000
DTEND;TZID=America/New_York:20290711T203000
DTSTAMP:20260419T172020
CREATED:20240205T201550Z
LAST-MODIFIED:20251230T190202Z
UID:10012272-1878489000-1878496200@ourladyofgracechurch.com
SUMMARY:Choir Rehearsal for 9 AM & 4 PM Mass - Church
DESCRIPTION:Please call the church for more information about joining the Music Ministry.
URL:https://ourladyofgracechurch.com/event/choir-rehearsal-for-9-am-4-pm-mass-church/2029-07-11/
LOCATION:Our Lady of Grace Catholic Church\, 300 Malabar Rd\, Palm Bay\, 32907\, United States
END:VEVENT
BEGIN:VEVENT
DTSTART;TZID=America/New_York:20290718T183000
DTEND;TZID=America/New_York:20290718T203000
DTSTAMP:20260419T172020
CREATED:20240205T201550Z
LAST-MODIFIED:20251230T190202Z
UID:10012273-1879093800-1879101000@ourladyofgracechurch.com
SUMMARY:Choir Rehearsal for 9 AM & 4 PM Mass - Church
DESCRIPTION:Please call the church for more information about joining the Music Ministry.
URL:https://ourladyofgracechurch.com/event/choir-rehearsal-for-9-am-4-pm-mass-church/2029-07-18/
LOCATION:Our Lady of Grace Catholic Church\, 300 Malabar Rd\, Palm Bay\, 32907\, United States
END:VEVENT
BEGIN:VEVENT
DTSTART;TZID=America/New_York:20290725T183000
DTEND;TZID=America/New_York:20290725T203000
DTSTAMP:20260419T172020
CREATED:20240205T201550Z
LAST-MODIFIED:20251230T190202Z
UID:10012274-1879698600-1879705800@ourladyofgracechurch.com
SUMMARY:Choir Rehearsal for 9 AM & 4 PM Mass - Church
DESCRIPTION:Please call the church for more information about joining the Music Ministry.
URL:https://ourladyofgracechurch.com/event/choir-rehearsal-for-9-am-4-pm-mass-church/2029-07-25/
LOCATION:Our Lady of Grace Catholic Church\, 300 Malabar Rd\, Palm Bay\, 32907\, United States
END:VEVENT
BEGIN:VEVENT
DTSTART;TZID=America/New_York:20290801T183000
DTEND;TZID=America/New_York:20290801T203000
DTSTAMP:20260419T172020
CREATED:20240205T201550Z
LAST-MODIFIED:20251230T190202Z
UID:10012275-1880303400-1880310600@ourladyofgracechurch.com
SUMMARY:Choir Rehearsal for 9 AM & 4 PM Mass - Church
DESCRIPTION:Please call the church for more information about joining the Music Ministry.
URL:https://ourladyofgracechurch.com/event/choir-rehearsal-for-9-am-4-pm-mass-church/2029-08-01/
LOCATION:Our Lady of Grace Catholic Church\, 300 Malabar Rd\, Palm Bay\, 32907\, United States
END:VEVENT
BEGIN:VEVENT
DTSTART;TZID=America/New_York:20290808T183000
DTEND;TZID=America/New_York:20290808T203000
DTSTAMP:20260419T172020
CREATED:20240205T201550Z
LAST-MODIFIED:20251230T190202Z
UID:10012276-1880908200-1880915400@ourladyofgracechurch.com
SUMMARY:Choir Rehearsal for 9 AM & 4 PM Mass - Church
DESCRIPTION:Please call the church for more information about joining the Music Ministry.
URL:https://ourladyofgracechurch.com/event/choir-rehearsal-for-9-am-4-pm-mass-church/2029-08-08/
LOCATION:Our Lady of Grace Catholic Church\, 300 Malabar Rd\, Palm Bay\, 32907\, United States
END:VEVENT
BEGIN:VEVENT
DTSTART;TZID=America/New_York:20290815T183000
DTEND;TZID=America/New_York:20290815T203000
DTSTAMP:20260419T172020
CREATED:20240205T201550Z
LAST-MODIFIED:20251230T190202Z
UID:10012277-1881513000-1881520200@ourladyofgracechurch.com
SUMMARY:Choir Rehearsal for 9 AM & 4 PM Mass - Church
DESCRIPTION:Please call the church for more information about joining the Music Ministry.
URL:https://ourladyofgracechurch.com/event/choir-rehearsal-for-9-am-4-pm-mass-church/2029-08-15/
LOCATION:Our Lady of Grace Catholic Church\, 300 Malabar Rd\, Palm Bay\, 32907\, United States
END:VEVENT
BEGIN:VEVENT
DTSTART;TZID=America/New_York:20290822T183000
DTEND;TZID=America/New_York:20290822T203000
DTSTAMP:20260419T172021
CREATED:20240205T201550Z
LAST-MODIFIED:20251230T190202Z
UID:10012278-1882117800-1882125000@ourladyofgracechurch.com
SUMMARY:Choir Rehearsal for 9 AM & 4 PM Mass - Church
DESCRIPTION:Please call the church for more information about joining the Music Ministry.
URL:https://ourladyofgracechurch.com/event/choir-rehearsal-for-9-am-4-pm-mass-church/2029-08-22/
LOCATION:Our Lady of Grace Catholic Church\, 300 Malabar Rd\, Palm Bay\, 32907\, United States
END:VEVENT
BEGIN:VEVENT
DTSTART;TZID=America/New_York:20290829T183000
DTEND;TZID=America/New_York:20290829T203000
DTSTAMP:20260419T172021
CREATED:20240205T201550Z
LAST-MODIFIED:20251230T190202Z
UID:10012279-1882722600-1882729800@ourladyofgracechurch.com
SUMMARY:Choir Rehearsal for 9 AM & 4 PM Mass - Church
DESCRIPTION:Please call the church for more information about joining the Music Ministry.
URL:https://ourladyofgracechurch.com/event/choir-rehearsal-for-9-am-4-pm-mass-church/2029-08-29/
LOCATION:Our Lady of Grace Catholic Church\, 300 Malabar Rd\, Palm Bay\, 32907\, United States
END:VEVENT
BEGIN:VEVENT
DTSTART;TZID=America/New_York:20290905T183000
DTEND;TZID=America/New_York:20290905T203000
DTSTAMP:20260419T172021
CREATED:20240205T201550Z
LAST-MODIFIED:20251230T190202Z
UID:10012280-1883327400-1883334600@ourladyofgracechurch.com
SUMMARY:Choir Rehearsal for 9 AM & 4 PM Mass - Church
DESCRIPTION:Please call the church for more information about joining the Music Ministry.
URL:https://ourladyofgracechurch.com/event/choir-rehearsal-for-9-am-4-pm-mass-church/2029-09-05/
LOCATION:Our Lady of Grace Catholic Church\, 300 Malabar Rd\, Palm Bay\, 32907\, United States
END:VEVENT
BEGIN:VEVENT
DTSTART;TZID=America/New_York:20290912T183000
DTEND;TZID=America/New_York:20290912T203000
DTSTAMP:20260419T172021
CREATED:20240205T201550Z
LAST-MODIFIED:20251230T190202Z
UID:10012281-1883932200-1883939400@ourladyofgracechurch.com
SUMMARY:Choir Rehearsal for 9 AM & 4 PM Mass - Church
DESCRIPTION:Please call the church for more information about joining the Music Ministry.
URL:https://ourladyofgracechurch.com/event/choir-rehearsal-for-9-am-4-pm-mass-church/2029-09-12/
LOCATION:Our Lady of Grace Catholic Church\, 300 Malabar Rd\, Palm Bay\, 32907\, United States
END:VEVENT
BEGIN:VEVENT
DTSTART;TZID=America/New_York:20290919T183000
DTEND;TZID=America/New_York:20290919T203000
DTSTAMP:20260419T172021
CREATED:20240205T201550Z
LAST-MODIFIED:20251230T190202Z
UID:10012282-1884537000-1884544200@ourladyofgracechurch.com
SUMMARY:Choir Rehearsal for 9 AM & 4 PM Mass - Church
DESCRIPTION:Please call the church for more information about joining the Music Ministry.
URL:https://ourladyofgracechurch.com/event/choir-rehearsal-for-9-am-4-pm-mass-church/2029-09-19/
LOCATION:Our Lady of Grace Catholic Church\, 300 Malabar Rd\, Palm Bay\, 32907\, United States
END:VEVENT
BEGIN:VEVENT
DTSTART;TZID=America/New_York:20290926T183000
DTEND;TZID=America/New_York:20290926T203000
DTSTAMP:20260419T172021
CREATED:20240205T201550Z
LAST-MODIFIED:20251230T190202Z
UID:10012283-1885141800-1885149000@ourladyofgracechurch.com
SUMMARY:Choir Rehearsal for 9 AM & 4 PM Mass - Church
DESCRIPTION:Please call the church for more information about joining the Music Ministry.
URL:https://ourladyofgracechurch.com/event/choir-rehearsal-for-9-am-4-pm-mass-church/2029-09-26/
LOCATION:Our Lady of Grace Catholic Church\, 300 Malabar Rd\, Palm Bay\, 32907\, United States
END:VEVENT
BEGIN:VEVENT
DTSTART;TZID=America/New_York:20291003T183000
DTEND;TZID=America/New_York:20291003T203000
DTSTAMP:20260419T172021
CREATED:20240205T201550Z
LAST-MODIFIED:20251230T190202Z
UID:10012284-1885746600-1885753800@ourladyofgracechurch.com
SUMMARY:Choir Rehearsal for 9 AM & 4 PM Mass - Church
DESCRIPTION:Please call the church for more information about joining the Music Ministry.
URL:https://ourladyofgracechurch.com/event/choir-rehearsal-for-9-am-4-pm-mass-church/2029-10-03/
LOCATION:Our Lady of Grace Catholic Church\, 300 Malabar Rd\, Palm Bay\, 32907\, United States
END:VEVENT
BEGIN:VEVENT
DTSTART;TZID=America/New_York:20291010T183000
DTEND;TZID=America/New_York:20291010T203000
DTSTAMP:20260419T172021
CREATED:20240205T201550Z
LAST-MODIFIED:20251230T190202Z
UID:10012285-1886351400-1886358600@ourladyofgracechurch.com
SUMMARY:Choir Rehearsal for 9 AM & 4 PM Mass - Church
DESCRIPTION:Please call the church for more information about joining the Music Ministry.
URL:https://ourladyofgracechurch.com/event/choir-rehearsal-for-9-am-4-pm-mass-church/2029-10-10/
LOCATION:Our Lady of Grace Catholic Church\, 300 Malabar Rd\, Palm Bay\, 32907\, United States
END:VEVENT
BEGIN:VEVENT
DTSTART;TZID=America/New_York:20291017T183000
DTEND;TZID=America/New_York:20291017T203000
DTSTAMP:20260419T172021
CREATED:20240205T201550Z
LAST-MODIFIED:20251230T190202Z
UID:10012286-1886956200-1886963400@ourladyofgracechurch.com
SUMMARY:Choir Rehearsal for 9 AM & 4 PM Mass - Church
DESCRIPTION:Please call the church for more information about joining the Music Ministry.
URL:https://ourladyofgracechurch.com/event/choir-rehearsal-for-9-am-4-pm-mass-church/2029-10-17/
LOCATION:Our Lady of Grace Catholic Church\, 300 Malabar Rd\, Palm Bay\, 32907\, United States
END:VEVENT
BEGIN:VEVENT
DTSTART;TZID=America/New_York:20291024T183000
DTEND;TZID=America/New_York:20291024T203000
DTSTAMP:20260419T172021
CREATED:20240205T201550Z
LAST-MODIFIED:20251230T190202Z
UID:10012287-1887561000-1887568200@ourladyofgracechurch.com
SUMMARY:Choir Rehearsal for 9 AM & 4 PM Mass - Church
DESCRIPTION:Please call the church for more information about joining the Music Ministry.
URL:https://ourladyofgracechurch.com/event/choir-rehearsal-for-9-am-4-pm-mass-church/2029-10-24/
LOCATION:Our Lady of Grace Catholic Church\, 300 Malabar Rd\, Palm Bay\, 32907\, United States
END:VEVENT
BEGIN:VEVENT
DTSTART;TZID=America/New_York:20291031T183000
DTEND;TZID=America/New_York:20291031T203000
DTSTAMP:20260419T172021
CREATED:20240205T201550Z
LAST-MODIFIED:20251230T190202Z
UID:10012288-1888165800-1888173000@ourladyofgracechurch.com
SUMMARY:Choir Rehearsal for 9 AM & 4 PM Mass - Church
DESCRIPTION:Please call the church for more information about joining the Music Ministry.
URL:https://ourladyofgracechurch.com/event/choir-rehearsal-for-9-am-4-pm-mass-church/2029-10-31/
LOCATION:Our Lady of Grace Catholic Church\, 300 Malabar Rd\, Palm Bay\, 32907\, United States
END:VEVENT
BEGIN:VEVENT
DTSTART;TZID=America/New_York:20291107T183000
DTEND;TZID=America/New_York:20291107T203000
DTSTAMP:20260419T172021
CREATED:20240205T201550Z
LAST-MODIFIED:20251230T190202Z
UID:10012289-1888770600-1888777800@ourladyofgracechurch.com
SUMMARY:Choir Rehearsal for 9 AM & 4 PM Mass - Church
DESCRIPTION:Please call the church for more information about joining the Music Ministry.
URL:https://ourladyofgracechurch.com/event/choir-rehearsal-for-9-am-4-pm-mass-church/2029-11-07/
LOCATION:Our Lady of Grace Catholic Church\, 300 Malabar Rd\, Palm Bay\, 32907\, United States
END:VEVENT
END:VCALENDAR