BEGIN:VCALENDAR
VERSION:2.0
PRODID:-//Our Lady of Grace Church - ECPv6.15.17//NONSGML v1.0//EN
CALSCALE:GREGORIAN
METHOD:PUBLISH
X-WR-CALNAME:Our Lady of Grace Church
X-ORIGINAL-URL:https://ourladyofgracechurch.com
X-WR-CALDESC:Events for Our Lady of Grace Church
REFRESH-INTERVAL;VALUE=DURATION:PT1H
X-Robots-Tag:noindex
X-PUBLISHED-TTL:PT1H
BEGIN:VTIMEZONE
TZID:America/New_York
BEGIN:DAYLIGHT
TZOFFSETFROM:-0500
TZOFFSETTO:-0400
TZNAME:EDT
DTSTART:20270314T070000
END:DAYLIGHT
BEGIN:STANDARD
TZOFFSETFROM:-0400
TZOFFSETTO:-0500
TZNAME:EST
DTSTART:20271107T060000
END:STANDARD
BEGIN:DAYLIGHT
TZOFFSETFROM:-0500
TZOFFSETTO:-0400
TZNAME:EDT
DTSTART:20280312T070000
END:DAYLIGHT
BEGIN:STANDARD
TZOFFSETFROM:-0400
TZOFFSETTO:-0500
TZNAME:EST
DTSTART:20281105T060000
END:STANDARD
BEGIN:DAYLIGHT
TZOFFSETFROM:-0500
TZOFFSETTO:-0400
TZNAME:EDT
DTSTART:20290311T070000
END:DAYLIGHT
BEGIN:STANDARD
TZOFFSETFROM:-0400
TZOFFSETTO:-0500
TZNAME:EST
DTSTART:20291104T060000
END:STANDARD
END:VTIMEZONE
BEGIN:VEVENT
DTSTART;TZID=America/New_York:20280517T183000
DTEND;TZID=America/New_York:20280517T203000
DTSTAMP:20260419T115927
CREATED:20240205T201550Z
LAST-MODIFIED:20251230T190202Z
UID:10007455-1842201000-1842208200@ourladyofgracechurch.com
SUMMARY:Choir Rehearsal for 9 AM & 4 PM Mass - Church
DESCRIPTION:Please call the church for more information about joining the Music Ministry.
URL:https://ourladyofgracechurch.com/event/choir-rehearsal-for-9-am-4-pm-mass-church/2028-05-17/
LOCATION:Our Lady of Grace Catholic Church\, 300 Malabar Rd\, Palm Bay\, 32907\, United States
END:VEVENT
BEGIN:VEVENT
DTSTART;TZID=America/New_York:20280524T183000
DTEND;TZID=America/New_York:20280524T203000
DTSTAMP:20260419T115927
CREATED:20240205T201550Z
LAST-MODIFIED:20251230T190202Z
UID:10007456-1842805800-1842813000@ourladyofgracechurch.com
SUMMARY:Choir Rehearsal for 9 AM & 4 PM Mass - Church
DESCRIPTION:Please call the church for more information about joining the Music Ministry.
URL:https://ourladyofgracechurch.com/event/choir-rehearsal-for-9-am-4-pm-mass-church/2028-05-24/
LOCATION:Our Lady of Grace Catholic Church\, 300 Malabar Rd\, Palm Bay\, 32907\, United States
END:VEVENT
BEGIN:VEVENT
DTSTART;TZID=America/New_York:20280531T183000
DTEND;TZID=America/New_York:20280531T203000
DTSTAMP:20260419T115927
CREATED:20240205T201550Z
LAST-MODIFIED:20251230T190202Z
UID:10007457-1843410600-1843417800@ourladyofgracechurch.com
SUMMARY:Choir Rehearsal for 9 AM & 4 PM Mass - Church
DESCRIPTION:Please call the church for more information about joining the Music Ministry.
URL:https://ourladyofgracechurch.com/event/choir-rehearsal-for-9-am-4-pm-mass-church/2028-05-31/
LOCATION:Our Lady of Grace Catholic Church\, 300 Malabar Rd\, Palm Bay\, 32907\, United States
END:VEVENT
BEGIN:VEVENT
DTSTART;TZID=America/New_York:20280607T183000
DTEND;TZID=America/New_York:20280607T203000
DTSTAMP:20260419T115927
CREATED:20240205T201550Z
LAST-MODIFIED:20251230T190202Z
UID:10007458-1844015400-1844022600@ourladyofgracechurch.com
SUMMARY:Choir Rehearsal for 9 AM & 4 PM Mass - Church
DESCRIPTION:Please call the church for more information about joining the Music Ministry.
URL:https://ourladyofgracechurch.com/event/choir-rehearsal-for-9-am-4-pm-mass-church/2028-06-07/
LOCATION:Our Lady of Grace Catholic Church\, 300 Malabar Rd\, Palm Bay\, 32907\, United States
END:VEVENT
BEGIN:VEVENT
DTSTART;TZID=America/New_York:20280614T183000
DTEND;TZID=America/New_York:20280614T203000
DTSTAMP:20260419T115927
CREATED:20240205T201550Z
LAST-MODIFIED:20251230T190202Z
UID:10007459-1844620200-1844627400@ourladyofgracechurch.com
SUMMARY:Choir Rehearsal for 9 AM & 4 PM Mass - Church
DESCRIPTION:Please call the church for more information about joining the Music Ministry.
URL:https://ourladyofgracechurch.com/event/choir-rehearsal-for-9-am-4-pm-mass-church/2028-06-14/
LOCATION:Our Lady of Grace Catholic Church\, 300 Malabar Rd\, Palm Bay\, 32907\, United States
END:VEVENT
BEGIN:VEVENT
DTSTART;TZID=America/New_York:20280621T183000
DTEND;TZID=America/New_York:20280621T203000
DTSTAMP:20260419T115927
CREATED:20240205T201550Z
LAST-MODIFIED:20251230T190202Z
UID:10007460-1845225000-1845232200@ourladyofgracechurch.com
SUMMARY:Choir Rehearsal for 9 AM & 4 PM Mass - Church
DESCRIPTION:Please call the church for more information about joining the Music Ministry.
URL:https://ourladyofgracechurch.com/event/choir-rehearsal-for-9-am-4-pm-mass-church/2028-06-21/
LOCATION:Our Lady of Grace Catholic Church\, 300 Malabar Rd\, Palm Bay\, 32907\, United States
END:VEVENT
BEGIN:VEVENT
DTSTART;TZID=America/New_York:20280628T183000
DTEND;TZID=America/New_York:20280628T203000
DTSTAMP:20260419T115927
CREATED:20240205T201550Z
LAST-MODIFIED:20251230T190202Z
UID:10007461-1845829800-1845837000@ourladyofgracechurch.com
SUMMARY:Choir Rehearsal for 9 AM & 4 PM Mass - Church
DESCRIPTION:Please call the church for more information about joining the Music Ministry.
URL:https://ourladyofgracechurch.com/event/choir-rehearsal-for-9-am-4-pm-mass-church/2028-06-28/
LOCATION:Our Lady of Grace Catholic Church\, 300 Malabar Rd\, Palm Bay\, 32907\, United States
END:VEVENT
BEGIN:VEVENT
DTSTART;TZID=America/New_York:20280705T183000
DTEND;TZID=America/New_York:20280705T203000
DTSTAMP:20260419T115927
CREATED:20240205T201550Z
LAST-MODIFIED:20251230T190202Z
UID:10007462-1846434600-1846441800@ourladyofgracechurch.com
SUMMARY:Choir Rehearsal for 9 AM & 4 PM Mass - Church
DESCRIPTION:Please call the church for more information about joining the Music Ministry.
URL:https://ourladyofgracechurch.com/event/choir-rehearsal-for-9-am-4-pm-mass-church/2028-07-05/
LOCATION:Our Lady of Grace Catholic Church\, 300 Malabar Rd\, Palm Bay\, 32907\, United States
END:VEVENT
BEGIN:VEVENT
DTSTART;TZID=America/New_York:20280712T183000
DTEND;TZID=America/New_York:20280712T203000
DTSTAMP:20260419T115927
CREATED:20240205T201550Z
LAST-MODIFIED:20251230T190202Z
UID:10007463-1847039400-1847046600@ourladyofgracechurch.com
SUMMARY:Choir Rehearsal for 9 AM & 4 PM Mass - Church
DESCRIPTION:Please call the church for more information about joining the Music Ministry.
URL:https://ourladyofgracechurch.com/event/choir-rehearsal-for-9-am-4-pm-mass-church/2028-07-12/
LOCATION:Our Lady of Grace Catholic Church\, 300 Malabar Rd\, Palm Bay\, 32907\, United States
END:VEVENT
BEGIN:VEVENT
DTSTART;TZID=America/New_York:20280719T183000
DTEND;TZID=America/New_York:20280719T203000
DTSTAMP:20260419T115927
CREATED:20240205T201550Z
LAST-MODIFIED:20251230T190202Z
UID:10007464-1847644200-1847651400@ourladyofgracechurch.com
SUMMARY:Choir Rehearsal for 9 AM & 4 PM Mass - Church
DESCRIPTION:Please call the church for more information about joining the Music Ministry.
URL:https://ourladyofgracechurch.com/event/choir-rehearsal-for-9-am-4-pm-mass-church/2028-07-19/
LOCATION:Our Lady of Grace Catholic Church\, 300 Malabar Rd\, Palm Bay\, 32907\, United States
END:VEVENT
BEGIN:VEVENT
DTSTART;TZID=America/New_York:20280726T183000
DTEND;TZID=America/New_York:20280726T203000
DTSTAMP:20260419T115927
CREATED:20240205T201550Z
LAST-MODIFIED:20251230T190202Z
UID:10007465-1848249000-1848256200@ourladyofgracechurch.com
SUMMARY:Choir Rehearsal for 9 AM & 4 PM Mass - Church
DESCRIPTION:Please call the church for more information about joining the Music Ministry.
URL:https://ourladyofgracechurch.com/event/choir-rehearsal-for-9-am-4-pm-mass-church/2028-07-26/
LOCATION:Our Lady of Grace Catholic Church\, 300 Malabar Rd\, Palm Bay\, 32907\, United States
END:VEVENT
BEGIN:VEVENT
DTSTART;TZID=America/New_York:20280802T183000
DTEND;TZID=America/New_York:20280802T203000
DTSTAMP:20260419T115927
CREATED:20240205T201550Z
LAST-MODIFIED:20251230T190202Z
UID:10007466-1848853800-1848861000@ourladyofgracechurch.com
SUMMARY:Choir Rehearsal for 9 AM & 4 PM Mass - Church
DESCRIPTION:Please call the church for more information about joining the Music Ministry.
URL:https://ourladyofgracechurch.com/event/choir-rehearsal-for-9-am-4-pm-mass-church/2028-08-02/
LOCATION:Our Lady of Grace Catholic Church\, 300 Malabar Rd\, Palm Bay\, 32907\, United States
END:VEVENT
BEGIN:VEVENT
DTSTART;TZID=America/New_York:20280809T183000
DTEND;TZID=America/New_York:20280809T203000
DTSTAMP:20260419T115927
CREATED:20240205T201550Z
LAST-MODIFIED:20251230T190202Z
UID:10007467-1849458600-1849465800@ourladyofgracechurch.com
SUMMARY:Choir Rehearsal for 9 AM & 4 PM Mass - Church
DESCRIPTION:Please call the church for more information about joining the Music Ministry.
URL:https://ourladyofgracechurch.com/event/choir-rehearsal-for-9-am-4-pm-mass-church/2028-08-09/
LOCATION:Our Lady of Grace Catholic Church\, 300 Malabar Rd\, Palm Bay\, 32907\, United States
END:VEVENT
BEGIN:VEVENT
DTSTART;TZID=America/New_York:20280816T183000
DTEND;TZID=America/New_York:20280816T203000
DTSTAMP:20260419T115927
CREATED:20240205T201550Z
LAST-MODIFIED:20251230T190202Z
UID:10007468-1850063400-1850070600@ourladyofgracechurch.com
SUMMARY:Choir Rehearsal for 9 AM & 4 PM Mass - Church
DESCRIPTION:Please call the church for more information about joining the Music Ministry.
URL:https://ourladyofgracechurch.com/event/choir-rehearsal-for-9-am-4-pm-mass-church/2028-08-16/
LOCATION:Our Lady of Grace Catholic Church\, 300 Malabar Rd\, Palm Bay\, 32907\, United States
END:VEVENT
BEGIN:VEVENT
DTSTART;TZID=America/New_York:20280823T183000
DTEND;TZID=America/New_York:20280823T203000
DTSTAMP:20260419T115927
CREATED:20240205T201550Z
LAST-MODIFIED:20251230T190202Z
UID:10007469-1850668200-1850675400@ourladyofgracechurch.com
SUMMARY:Choir Rehearsal for 9 AM & 4 PM Mass - Church
DESCRIPTION:Please call the church for more information about joining the Music Ministry.
URL:https://ourladyofgracechurch.com/event/choir-rehearsal-for-9-am-4-pm-mass-church/2028-08-23/
LOCATION:Our Lady of Grace Catholic Church\, 300 Malabar Rd\, Palm Bay\, 32907\, United States
END:VEVENT
BEGIN:VEVENT
DTSTART;TZID=America/New_York:20280830T183000
DTEND;TZID=America/New_York:20280830T203000
DTSTAMP:20260419T115927
CREATED:20240205T201550Z
LAST-MODIFIED:20251230T190202Z
UID:10007470-1851273000-1851280200@ourladyofgracechurch.com
SUMMARY:Choir Rehearsal for 9 AM & 4 PM Mass - Church
DESCRIPTION:Please call the church for more information about joining the Music Ministry.
URL:https://ourladyofgracechurch.com/event/choir-rehearsal-for-9-am-4-pm-mass-church/2028-08-30/
LOCATION:Our Lady of Grace Catholic Church\, 300 Malabar Rd\, Palm Bay\, 32907\, United States
END:VEVENT
BEGIN:VEVENT
DTSTART;TZID=America/New_York:20280906T183000
DTEND;TZID=America/New_York:20280906T203000
DTSTAMP:20260419T115927
CREATED:20240205T201550Z
LAST-MODIFIED:20251230T190202Z
UID:10007471-1851877800-1851885000@ourladyofgracechurch.com
SUMMARY:Choir Rehearsal for 9 AM & 4 PM Mass - Church
DESCRIPTION:Please call the church for more information about joining the Music Ministry.
URL:https://ourladyofgracechurch.com/event/choir-rehearsal-for-9-am-4-pm-mass-church/2028-09-06/
LOCATION:Our Lady of Grace Catholic Church\, 300 Malabar Rd\, Palm Bay\, 32907\, United States
END:VEVENT
BEGIN:VEVENT
DTSTART;TZID=America/New_York:20280913T183000
DTEND;TZID=America/New_York:20280913T203000
DTSTAMP:20260419T115927
CREATED:20240205T201550Z
LAST-MODIFIED:20251230T190202Z
UID:10007472-1852482600-1852489800@ourladyofgracechurch.com
SUMMARY:Choir Rehearsal for 9 AM & 4 PM Mass - Church
DESCRIPTION:Please call the church for more information about joining the Music Ministry.
URL:https://ourladyofgracechurch.com/event/choir-rehearsal-for-9-am-4-pm-mass-church/2028-09-13/
LOCATION:Our Lady of Grace Catholic Church\, 300 Malabar Rd\, Palm Bay\, 32907\, United States
END:VEVENT
BEGIN:VEVENT
DTSTART;TZID=America/New_York:20280920T183000
DTEND;TZID=America/New_York:20280920T203000
DTSTAMP:20260419T115927
CREATED:20240205T201550Z
LAST-MODIFIED:20251230T190202Z
UID:10007473-1853087400-1853094600@ourladyofgracechurch.com
SUMMARY:Choir Rehearsal for 9 AM & 4 PM Mass - Church
DESCRIPTION:Please call the church for more information about joining the Music Ministry.
URL:https://ourladyofgracechurch.com/event/choir-rehearsal-for-9-am-4-pm-mass-church/2028-09-20/
LOCATION:Our Lady of Grace Catholic Church\, 300 Malabar Rd\, Palm Bay\, 32907\, United States
END:VEVENT
BEGIN:VEVENT
DTSTART;TZID=America/New_York:20280927T183000
DTEND;TZID=America/New_York:20280927T203000
DTSTAMP:20260419T115927
CREATED:20240205T201550Z
LAST-MODIFIED:20251230T190202Z
UID:10007474-1853692200-1853699400@ourladyofgracechurch.com
SUMMARY:Choir Rehearsal for 9 AM & 4 PM Mass - Church
DESCRIPTION:Please call the church for more information about joining the Music Ministry.
URL:https://ourladyofgracechurch.com/event/choir-rehearsal-for-9-am-4-pm-mass-church/2028-09-27/
LOCATION:Our Lady of Grace Catholic Church\, 300 Malabar Rd\, Palm Bay\, 32907\, United States
END:VEVENT
BEGIN:VEVENT
DTSTART;TZID=America/New_York:20281004T183000
DTEND;TZID=America/New_York:20281004T203000
DTSTAMP:20260419T115927
CREATED:20240205T201550Z
LAST-MODIFIED:20251230T190202Z
UID:10007475-1854297000-1854304200@ourladyofgracechurch.com
SUMMARY:Choir Rehearsal for 9 AM & 4 PM Mass - Church
DESCRIPTION:Please call the church for more information about joining the Music Ministry.
URL:https://ourladyofgracechurch.com/event/choir-rehearsal-for-9-am-4-pm-mass-church/2028-10-04/
LOCATION:Our Lady of Grace Catholic Church\, 300 Malabar Rd\, Palm Bay\, 32907\, United States
END:VEVENT
BEGIN:VEVENT
DTSTART;TZID=America/New_York:20281011T183000
DTEND;TZID=America/New_York:20281011T203000
DTSTAMP:20260419T115927
CREATED:20240205T201550Z
LAST-MODIFIED:20251230T190202Z
UID:10007476-1854901800-1854909000@ourladyofgracechurch.com
SUMMARY:Choir Rehearsal for 9 AM & 4 PM Mass - Church
DESCRIPTION:Please call the church for more information about joining the Music Ministry.
URL:https://ourladyofgracechurch.com/event/choir-rehearsal-for-9-am-4-pm-mass-church/2028-10-11/
LOCATION:Our Lady of Grace Catholic Church\, 300 Malabar Rd\, Palm Bay\, 32907\, United States
END:VEVENT
BEGIN:VEVENT
DTSTART;TZID=America/New_York:20281018T183000
DTEND;TZID=America/New_York:20281018T203000
DTSTAMP:20260419T115927
CREATED:20240205T201550Z
LAST-MODIFIED:20251230T190202Z
UID:10007477-1855506600-1855513800@ourladyofgracechurch.com
SUMMARY:Choir Rehearsal for 9 AM & 4 PM Mass - Church
DESCRIPTION:Please call the church for more information about joining the Music Ministry.
URL:https://ourladyofgracechurch.com/event/choir-rehearsal-for-9-am-4-pm-mass-church/2028-10-18/
LOCATION:Our Lady of Grace Catholic Church\, 300 Malabar Rd\, Palm Bay\, 32907\, United States
END:VEVENT
BEGIN:VEVENT
DTSTART;TZID=America/New_York:20281025T183000
DTEND;TZID=America/New_York:20281025T203000
DTSTAMP:20260419T115927
CREATED:20240205T201550Z
LAST-MODIFIED:20251230T190202Z
UID:10007478-1856111400-1856118600@ourladyofgracechurch.com
SUMMARY:Choir Rehearsal for 9 AM & 4 PM Mass - Church
DESCRIPTION:Please call the church for more information about joining the Music Ministry.
URL:https://ourladyofgracechurch.com/event/choir-rehearsal-for-9-am-4-pm-mass-church/2028-10-25/
LOCATION:Our Lady of Grace Catholic Church\, 300 Malabar Rd\, Palm Bay\, 32907\, United States
END:VEVENT
BEGIN:VEVENT
DTSTART;TZID=America/New_York:20281101T183000
DTEND;TZID=America/New_York:20281101T203000
DTSTAMP:20260419T115927
CREATED:20240205T201550Z
LAST-MODIFIED:20251230T190202Z
UID:10007479-1856716200-1856723400@ourladyofgracechurch.com
SUMMARY:Choir Rehearsal for 9 AM & 4 PM Mass - Church
DESCRIPTION:Please call the church for more information about joining the Music Ministry.
URL:https://ourladyofgracechurch.com/event/choir-rehearsal-for-9-am-4-pm-mass-church/2028-11-01/
LOCATION:Our Lady of Grace Catholic Church\, 300 Malabar Rd\, Palm Bay\, 32907\, United States
END:VEVENT
BEGIN:VEVENT
DTSTART;TZID=America/New_York:20281108T183000
DTEND;TZID=America/New_York:20281108T203000
DTSTAMP:20260419T115927
CREATED:20240205T201550Z
LAST-MODIFIED:20251230T190202Z
UID:10007480-1857321000-1857328200@ourladyofgracechurch.com
SUMMARY:Choir Rehearsal for 9 AM & 4 PM Mass - Church
DESCRIPTION:Please call the church for more information about joining the Music Ministry.
URL:https://ourladyofgracechurch.com/event/choir-rehearsal-for-9-am-4-pm-mass-church/2028-11-08/
LOCATION:Our Lady of Grace Catholic Church\, 300 Malabar Rd\, Palm Bay\, 32907\, United States
END:VEVENT
BEGIN:VEVENT
DTSTART;TZID=America/New_York:20281115T183000
DTEND;TZID=America/New_York:20281115T203000
DTSTAMP:20260419T115927
CREATED:20240205T201550Z
LAST-MODIFIED:20251230T190202Z
UID:10007481-1857925800-1857933000@ourladyofgracechurch.com
SUMMARY:Choir Rehearsal for 9 AM & 4 PM Mass - Church
DESCRIPTION:Please call the church for more information about joining the Music Ministry.
URL:https://ourladyofgracechurch.com/event/choir-rehearsal-for-9-am-4-pm-mass-church/2028-11-15/
LOCATION:Our Lady of Grace Catholic Church\, 300 Malabar Rd\, Palm Bay\, 32907\, United States
END:VEVENT
BEGIN:VEVENT
DTSTART;TZID=America/New_York:20281122T183000
DTEND;TZID=America/New_York:20281122T203000
DTSTAMP:20260419T115927
CREATED:20240205T201550Z
LAST-MODIFIED:20251230T190202Z
UID:10007482-1858530600-1858537800@ourladyofgracechurch.com
SUMMARY:Choir Rehearsal for 9 AM & 4 PM Mass - Church
DESCRIPTION:Please call the church for more information about joining the Music Ministry.
URL:https://ourladyofgracechurch.com/event/choir-rehearsal-for-9-am-4-pm-mass-church/2028-11-22/
LOCATION:Our Lady of Grace Catholic Church\, 300 Malabar Rd\, Palm Bay\, 32907\, United States
END:VEVENT
BEGIN:VEVENT
DTSTART;TZID=America/New_York:20281129T183000
DTEND;TZID=America/New_York:20281129T203000
DTSTAMP:20260419T115927
CREATED:20240205T201550Z
LAST-MODIFIED:20251230T190202Z
UID:10007483-1859135400-1859142600@ourladyofgracechurch.com
SUMMARY:Choir Rehearsal for 9 AM & 4 PM Mass - Church
DESCRIPTION:Please call the church for more information about joining the Music Ministry.
URL:https://ourladyofgracechurch.com/event/choir-rehearsal-for-9-am-4-pm-mass-church/2028-11-29/
LOCATION:Our Lady of Grace Catholic Church\, 300 Malabar Rd\, Palm Bay\, 32907\, United States
END:VEVENT
BEGIN:VEVENT
DTSTART;TZID=America/New_York:20281206T183000
DTEND;TZID=America/New_York:20281206T203000
DTSTAMP:20260419T115927
CREATED:20240205T201550Z
LAST-MODIFIED:20251230T190202Z
UID:10007484-1859740200-1859747400@ourladyofgracechurch.com
SUMMARY:Choir Rehearsal for 9 AM & 4 PM Mass - Church
DESCRIPTION:Please call the church for more information about joining the Music Ministry.
URL:https://ourladyofgracechurch.com/event/choir-rehearsal-for-9-am-4-pm-mass-church/2028-12-06/
LOCATION:Our Lady of Grace Catholic Church\, 300 Malabar Rd\, Palm Bay\, 32907\, United States
END:VEVENT
END:VCALENDAR