BEGIN:VCALENDAR
VERSION:2.0
PRODID:-//Our Lady of Grace Church - ECPv6.15.17//NONSGML v1.0//EN
CALSCALE:GREGORIAN
METHOD:PUBLISH
X-ORIGINAL-URL:https://ourladyofgracechurch.com
X-WR-CALDESC:Events for Our Lady of Grace Church
REFRESH-INTERVAL;VALUE=DURATION:PT1H
X-Robots-Tag:noindex
X-PUBLISHED-TTL:PT1H
BEGIN:VTIMEZONE
TZID:America/New_York
BEGIN:DAYLIGHT
TZOFFSETFROM:-0500
TZOFFSETTO:-0400
TZNAME:EDT
DTSTART:20290311T070000
END:DAYLIGHT
BEGIN:STANDARD
TZOFFSETFROM:-0400
TZOFFSETTO:-0500
TZNAME:EST
DTSTART:20291104T060000
END:STANDARD
BEGIN:DAYLIGHT
TZOFFSETFROM:-0500
TZOFFSETTO:-0400
TZNAME:EDT
DTSTART:20300310T070000
END:DAYLIGHT
BEGIN:STANDARD
TZOFFSETFROM:-0400
TZOFFSETTO:-0500
TZNAME:EST
DTSTART:20301103T060000
END:STANDARD
BEGIN:DAYLIGHT
TZOFFSETFROM:-0500
TZOFFSETTO:-0400
TZNAME:EDT
DTSTART:20310309T070000
END:DAYLIGHT
BEGIN:STANDARD
TZOFFSETFROM:-0400
TZOFFSETTO:-0500
TZNAME:EST
DTSTART:20311102T060000
END:STANDARD
BEGIN:DAYLIGHT
TZOFFSETFROM:-0500
TZOFFSETTO:-0400
TZNAME:EDT
DTSTART:20320314T070000
END:DAYLIGHT
BEGIN:STANDARD
TZOFFSETFROM:-0400
TZOFFSETTO:-0500
TZNAME:EST
DTSTART:20321107T060000
END:STANDARD
END:VTIMEZONE
BEGIN:VEVENT
DTSTART;TZID=America/New_York:20301124T130000
DTEND;TZID=America/New_York:20301124T140000
DTSTAMP:20260419T082042
CREATED:20230817T200520Z
LAST-MODIFIED:20260311T035411Z
UID:10016718-1921755600-1921759200@ourladyofgracechurch.com
SUMMARY:Misa de Pascua en Español (Mass in English)
DESCRIPTION:
URL:https://ourladyofgracechurch.com/event/misa-en-espanol-mass-in-english/2030-11-24/
LOCATION:Our Lady of Grace Catholic Church\, 300 Malabar Rd\, Palm Bay\, 32907\, United States
ATTACH;FMTTYPE=image/png:https://ourladyofgracechurch.com/wp-content/uploads/2023/08/Untitled-design-6.png
END:VEVENT
BEGIN:VEVENT
DTSTART;TZID=America/New_York:20301201T130000
DTEND;TZID=America/New_York:20301201T140000
DTSTAMP:20260419T082042
CREATED:20230817T200520Z
LAST-MODIFIED:20260311T035411Z
UID:10016719-1922360400-1922364000@ourladyofgracechurch.com
SUMMARY:Misa de Pascua en Español (Mass in English)
DESCRIPTION:
URL:https://ourladyofgracechurch.com/event/misa-en-espanol-mass-in-english/2030-12-01/
LOCATION:Our Lady of Grace Catholic Church\, 300 Malabar Rd\, Palm Bay\, 32907\, United States
ATTACH;FMTTYPE=image/png:https://ourladyofgracechurch.com/wp-content/uploads/2023/08/Untitled-design-6.png
END:VEVENT
BEGIN:VEVENT
DTSTART;TZID=America/New_York:20301208T130000
DTEND;TZID=America/New_York:20301208T140000
DTSTAMP:20260419T082042
CREATED:20230817T200520Z
LAST-MODIFIED:20260311T035411Z
UID:10016720-1922965200-1922968800@ourladyofgracechurch.com
SUMMARY:Misa de Pascua en Español (Mass in English)
DESCRIPTION:
URL:https://ourladyofgracechurch.com/event/misa-en-espanol-mass-in-english/2030-12-08/
LOCATION:Our Lady of Grace Catholic Church\, 300 Malabar Rd\, Palm Bay\, 32907\, United States
ATTACH;FMTTYPE=image/png:https://ourladyofgracechurch.com/wp-content/uploads/2023/08/Untitled-design-6.png
END:VEVENT
BEGIN:VEVENT
DTSTART;TZID=America/New_York:20301215T130000
DTEND;TZID=America/New_York:20301215T140000
DTSTAMP:20260419T082042
CREATED:20230817T200520Z
LAST-MODIFIED:20260311T035411Z
UID:10016721-1923570000-1923573600@ourladyofgracechurch.com
SUMMARY:Misa de Pascua en Español (Mass in English)
DESCRIPTION:
URL:https://ourladyofgracechurch.com/event/misa-en-espanol-mass-in-english/2030-12-15/
LOCATION:Our Lady of Grace Catholic Church\, 300 Malabar Rd\, Palm Bay\, 32907\, United States
ATTACH;FMTTYPE=image/png:https://ourladyofgracechurch.com/wp-content/uploads/2023/08/Untitled-design-6.png
END:VEVENT
BEGIN:VEVENT
DTSTART;TZID=America/New_York:20301222T130000
DTEND;TZID=America/New_York:20301222T140000
DTSTAMP:20260419T082042
CREATED:20230817T200520Z
LAST-MODIFIED:20260311T035411Z
UID:10016722-1924174800-1924178400@ourladyofgracechurch.com
SUMMARY:Misa de Pascua en Español (Mass in English)
DESCRIPTION:
URL:https://ourladyofgracechurch.com/event/misa-en-espanol-mass-in-english/2030-12-22/
LOCATION:Our Lady of Grace Catholic Church\, 300 Malabar Rd\, Palm Bay\, 32907\, United States
ATTACH;FMTTYPE=image/png:https://ourladyofgracechurch.com/wp-content/uploads/2023/08/Untitled-design-6.png
END:VEVENT
BEGIN:VEVENT
DTSTART;TZID=America/New_York:20301229T130000
DTEND;TZID=America/New_York:20301229T140000
DTSTAMP:20260419T082042
CREATED:20230817T200520Z
LAST-MODIFIED:20260311T035411Z
UID:10016723-1924779600-1924783200@ourladyofgracechurch.com
SUMMARY:Misa de Pascua en Español (Mass in English)
DESCRIPTION:
URL:https://ourladyofgracechurch.com/event/misa-en-espanol-mass-in-english/2030-12-29/
LOCATION:Our Lady of Grace Catholic Church\, 300 Malabar Rd\, Palm Bay\, 32907\, United States
ATTACH;FMTTYPE=image/png:https://ourladyofgracechurch.com/wp-content/uploads/2023/08/Untitled-design-6.png
END:VEVENT
BEGIN:VEVENT
DTSTART;TZID=America/New_York:20310105T130000
DTEND;TZID=America/New_York:20310105T140000
DTSTAMP:20260419T082042
CREATED:20230817T200520Z
LAST-MODIFIED:20260311T035411Z
UID:10016724-1925384400-1925388000@ourladyofgracechurch.com
SUMMARY:Misa de Pascua en Español (Mass in English)
DESCRIPTION:
URL:https://ourladyofgracechurch.com/event/misa-en-espanol-mass-in-english/2031-01-05/
LOCATION:Our Lady of Grace Catholic Church\, 300 Malabar Rd\, Palm Bay\, 32907\, United States
ATTACH;FMTTYPE=image/png:https://ourladyofgracechurch.com/wp-content/uploads/2023/08/Untitled-design-6.png
END:VEVENT
BEGIN:VEVENT
DTSTART;TZID=America/New_York:20310112T130000
DTEND;TZID=America/New_York:20310112T140000
DTSTAMP:20260419T082042
CREATED:20230817T200520Z
LAST-MODIFIED:20260311T035411Z
UID:10016725-1925989200-1925992800@ourladyofgracechurch.com
SUMMARY:Misa de Pascua en Español (Mass in English)
DESCRIPTION:
URL:https://ourladyofgracechurch.com/event/misa-en-espanol-mass-in-english/2031-01-12/
LOCATION:Our Lady of Grace Catholic Church\, 300 Malabar Rd\, Palm Bay\, 32907\, United States
ATTACH;FMTTYPE=image/png:https://ourladyofgracechurch.com/wp-content/uploads/2023/08/Untitled-design-6.png
END:VEVENT
BEGIN:VEVENT
DTSTART;TZID=America/New_York:20310119T130000
DTEND;TZID=America/New_York:20310119T140000
DTSTAMP:20260419T082042
CREATED:20230817T200520Z
LAST-MODIFIED:20260311T035411Z
UID:10016726-1926594000-1926597600@ourladyofgracechurch.com
SUMMARY:Misa de Pascua en Español (Mass in English)
DESCRIPTION:
URL:https://ourladyofgracechurch.com/event/misa-en-espanol-mass-in-english/2031-01-19/
LOCATION:Our Lady of Grace Catholic Church\, 300 Malabar Rd\, Palm Bay\, 32907\, United States
ATTACH;FMTTYPE=image/png:https://ourladyofgracechurch.com/wp-content/uploads/2023/08/Untitled-design-6.png
END:VEVENT
BEGIN:VEVENT
DTSTART;TZID=America/New_York:20310126T130000
DTEND;TZID=America/New_York:20310126T140000
DTSTAMP:20260419T082042
CREATED:20230817T200520Z
LAST-MODIFIED:20260311T035411Z
UID:10016727-1927198800-1927202400@ourladyofgracechurch.com
SUMMARY:Misa de Pascua en Español (Mass in English)
DESCRIPTION:
URL:https://ourladyofgracechurch.com/event/misa-en-espanol-mass-in-english/2031-01-26/
LOCATION:Our Lady of Grace Catholic Church\, 300 Malabar Rd\, Palm Bay\, 32907\, United States
ATTACH;FMTTYPE=image/png:https://ourladyofgracechurch.com/wp-content/uploads/2023/08/Untitled-design-6.png
END:VEVENT
BEGIN:VEVENT
DTSTART;TZID=America/New_York:20310202T130000
DTEND;TZID=America/New_York:20310202T140000
DTSTAMP:20260419T082042
CREATED:20230817T200520Z
LAST-MODIFIED:20260311T035411Z
UID:10016728-1927803600-1927807200@ourladyofgracechurch.com
SUMMARY:Misa de Pascua en Español (Mass in English)
DESCRIPTION:
URL:https://ourladyofgracechurch.com/event/misa-en-espanol-mass-in-english/2031-02-02/
LOCATION:Our Lady of Grace Catholic Church\, 300 Malabar Rd\, Palm Bay\, 32907\, United States
ATTACH;FMTTYPE=image/png:https://ourladyofgracechurch.com/wp-content/uploads/2023/08/Untitled-design-6.png
END:VEVENT
BEGIN:VEVENT
DTSTART;TZID=America/New_York:20310209T130000
DTEND;TZID=America/New_York:20310209T140000
DTSTAMP:20260419T082042
CREATED:20230817T200520Z
LAST-MODIFIED:20260311T035411Z
UID:10016729-1928408400-1928412000@ourladyofgracechurch.com
SUMMARY:Misa de Pascua en Español (Mass in English)
DESCRIPTION:
URL:https://ourladyofgracechurch.com/event/misa-en-espanol-mass-in-english/2031-02-09/
LOCATION:Our Lady of Grace Catholic Church\, 300 Malabar Rd\, Palm Bay\, 32907\, United States
ATTACH;FMTTYPE=image/png:https://ourladyofgracechurch.com/wp-content/uploads/2023/08/Untitled-design-6.png
END:VEVENT
BEGIN:VEVENT
DTSTART;TZID=America/New_York:20310216T130000
DTEND;TZID=America/New_York:20310216T140000
DTSTAMP:20260419T082042
CREATED:20230817T200520Z
LAST-MODIFIED:20260311T035411Z
UID:10016730-1929013200-1929016800@ourladyofgracechurch.com
SUMMARY:Misa de Pascua en Español (Mass in English)
DESCRIPTION:
URL:https://ourladyofgracechurch.com/event/misa-en-espanol-mass-in-english/2031-02-16/
LOCATION:Our Lady of Grace Catholic Church\, 300 Malabar Rd\, Palm Bay\, 32907\, United States
ATTACH;FMTTYPE=image/png:https://ourladyofgracechurch.com/wp-content/uploads/2023/08/Untitled-design-6.png
END:VEVENT
BEGIN:VEVENT
DTSTART;TZID=America/New_York:20310223T130000
DTEND;TZID=America/New_York:20310223T140000
DTSTAMP:20260419T082042
CREATED:20230817T200520Z
LAST-MODIFIED:20260311T035411Z
UID:10016731-1929618000-1929621600@ourladyofgracechurch.com
SUMMARY:Misa de Pascua en Español (Mass in English)
DESCRIPTION:
URL:https://ourladyofgracechurch.com/event/misa-en-espanol-mass-in-english/2031-02-23/
LOCATION:Our Lady of Grace Catholic Church\, 300 Malabar Rd\, Palm Bay\, 32907\, United States
ATTACH;FMTTYPE=image/png:https://ourladyofgracechurch.com/wp-content/uploads/2023/08/Untitled-design-6.png
END:VEVENT
BEGIN:VEVENT
DTSTART;TZID=America/New_York:20310302T130000
DTEND;TZID=America/New_York:20310302T140000
DTSTAMP:20260419T082042
CREATED:20230817T200520Z
LAST-MODIFIED:20260311T035411Z
UID:10016732-1930222800-1930226400@ourladyofgracechurch.com
SUMMARY:Misa de Pascua en Español (Mass in English)
DESCRIPTION:
URL:https://ourladyofgracechurch.com/event/misa-en-espanol-mass-in-english/2031-03-02/
LOCATION:Our Lady of Grace Catholic Church\, 300 Malabar Rd\, Palm Bay\, 32907\, United States
ATTACH;FMTTYPE=image/png:https://ourladyofgracechurch.com/wp-content/uploads/2023/08/Untitled-design-6.png
END:VEVENT
BEGIN:VEVENT
DTSTART;TZID=America/New_York:20310309T130000
DTEND;TZID=America/New_York:20310309T140000
DTSTAMP:20260419T082042
CREATED:20230817T200520Z
LAST-MODIFIED:20260311T035411Z
UID:10016733-1930827600-1930831200@ourladyofgracechurch.com
SUMMARY:Misa de Pascua en Español (Mass in English)
DESCRIPTION:
URL:https://ourladyofgracechurch.com/event/misa-en-espanol-mass-in-english/2031-03-09/
LOCATION:Our Lady of Grace Catholic Church\, 300 Malabar Rd\, Palm Bay\, 32907\, United States
ATTACH;FMTTYPE=image/png:https://ourladyofgracechurch.com/wp-content/uploads/2023/08/Untitled-design-6.png
END:VEVENT
END:VCALENDAR