BEGIN:VCALENDAR
VERSION:2.0
PRODID:-//Our Lady of Grace Church - ECPv6.15.17//NONSGML v1.0//EN
CALSCALE:GREGORIAN
METHOD:PUBLISH
X-ORIGINAL-URL:https://ourladyofgracechurch.com
X-WR-CALDESC:Events for Our Lady of Grace Church
REFRESH-INTERVAL;VALUE=DURATION:PT1H
X-Robots-Tag:noindex
X-PUBLISHED-TTL:PT1H
BEGIN:VTIMEZONE
TZID:America/New_York
BEGIN:DAYLIGHT
TZOFFSETFROM:-0500
TZOFFSETTO:-0400
TZNAME:EDT
DTSTART:20250309T070000
END:DAYLIGHT
BEGIN:STANDARD
TZOFFSETFROM:-0400
TZOFFSETTO:-0500
TZNAME:EST
DTSTART:20251102T060000
END:STANDARD
BEGIN:DAYLIGHT
TZOFFSETFROM:-0500
TZOFFSETTO:-0400
TZNAME:EDT
DTSTART:20260308T070000
END:DAYLIGHT
BEGIN:STANDARD
TZOFFSETFROM:-0400
TZOFFSETTO:-0500
TZNAME:EST
DTSTART:20261101T060000
END:STANDARD
BEGIN:DAYLIGHT
TZOFFSETFROM:-0500
TZOFFSETTO:-0400
TZNAME:EDT
DTSTART:20270314T070000
END:DAYLIGHT
BEGIN:STANDARD
TZOFFSETFROM:-0400
TZOFFSETTO:-0500
TZNAME:EST
DTSTART:20271107T060000
END:STANDARD
END:VTIMEZONE
BEGIN:VEVENT
DTSTART;TZID=America/New_York:20260906T170000
DTEND;TZID=America/New_York:20260906T180000
DTSTAMP:20260422T000511
CREATED:20230817T200627Z
LAST-MODIFIED:20250405T013234Z
UID:10004333-1788714000-1788717600@ourladyofgracechurch.com
SUMMARY:Mass in English
DESCRIPTION:
URL:https://ourladyofgracechurch.com/event/mass-in-english-5/2026-09-06/
LOCATION:Our Lady of Grace Catholic Church\, 300 Malabar Rd\, Palm Bay\, 32907\, United States
ATTACH;FMTTYPE=image/png:https://ourladyofgracechurch.com/wp-content/uploads/2023/08/Untitled-design-6.png
END:VEVENT
BEGIN:VEVENT
DTSTART;TZID=America/New_York:20260907T090000
DTEND;TZID=America/New_York:20260907T100000
DTSTAMP:20260422T000511
CREATED:20241108T172543Z
LAST-MODIFIED:20260311T031647Z
UID:10001343-1788771600-1788775200@ourladyofgracechurch.com
SUMMARY:Weekday Mass in English
DESCRIPTION:
URL:https://ourladyofgracechurch.com/event/mass-in-english-2-2-2/2026-09-07/
LOCATION:Our Lady of Grace Catholic Church\, 300 Malabar Rd\, Palm Bay\, 32907\, United States
ATTACH;FMTTYPE=image/png:https://ourladyofgracechurch.com/wp-content/uploads/2023/10/Website-Mass-icon.png
END:VEVENT
BEGIN:VEVENT
DTSTART;TZID=America/New_York:20260907T120000
DTEND;TZID=America/New_York:20260907T123000
DTSTAMP:20260422T000511
CREATED:20250826T181333Z
LAST-MODIFIED:20260311T031945Z
UID:10013615-1788782400-1788784200@ourladyofgracechurch.com
SUMMARY:Daily Mass at 12 Noon
DESCRIPTION:Daily Mass Monday through Friday at \n9 AM and 12 Noon \n(Subject to change depending on Holy Days of obligation and holidays.)
URL:https://ourladyofgracechurch.com/event/daily-mass-at-12-noon/2026-09-07/
LOCATION:Our Lady of Grace Catholic Church\, 300 Malabar Rd\, Palm Bay\, 32907\, United States
ATTACH;FMTTYPE=image/png:https://ourladyofgracechurch.com/wp-content/uploads/2023/10/Website-Mass-icon.png
END:VEVENT
BEGIN:VEVENT
DTSTART;TZID=America/New_York:20260907T180000
DTEND;TZID=America/New_York:20260907T210000
DTSTAMP:20260422T000511
CREATED:20250908T143745Z
LAST-MODIFIED:20250908T143746Z
UID:10015116-1788804000-1788814800@ourladyofgracechurch.com
SUMMARY:Spanish Charismatic Prayer Group
DESCRIPTION:Group Leader: Maria Fernandez (Angie) \nOngoing schedule for 7/1/2025-6/30/2026 is:\nROOMS 12 and 13 from 6:00 pm – 9:00 pm \nExceptions: \nExcept when the church is closed
URL:https://ourladyofgracechurch.com/event/spanish-charismatic-prayer-group-3-2-2/2026-09-07/
LOCATION:Our Lady of Grace Catholic Church\, 300 Malabar Rd\, Palm Bay\, 32907\, United States
END:VEVENT
BEGIN:VEVENT
DTSTART;TZID=America/New_York:20260908T090000
DTEND;TZID=America/New_York:20260908T100000
DTSTAMP:20260422T000511
CREATED:20230301T173744Z
LAST-MODIFIED:20241113T042626Z
UID:10002130-1788858000-1788861600@ourladyofgracechurch.com
SUMMARY:Misa en Español
DESCRIPTION:Misa en Español (Weekday Mass in Spanish)
URL:https://ourladyofgracechurch.com/event/misa-en-espanol/2026-09-08/
LOCATION:Our Lady of Grace Catholic Church\, 300 Malabar Rd\, Palm Bay\, 32907\, United States
ATTACH;FMTTYPE=image/png:https://ourladyofgracechurch.com/wp-content/uploads/2023/10/Website-Mass-icon.png
END:VEVENT
BEGIN:VEVENT
DTSTART;TZID=America/New_York:20260908T100000
DTEND;TZID=America/New_York:20260908T113000
DTSTAMP:20260422T000511
CREATED:20251202T183834Z
LAST-MODIFIED:20260311T031856Z
UID:10002871-1788861600-1788867000@ourladyofgracechurch.com
SUMMARY:Exposition of the Blessed Sacrament
DESCRIPTION:Come visit every Tuesday\, Wednesday and Friday from 10:00 AM – 11:30 AM.  \n*Schedule subject to change due to a funeral. Please contact the parish office 321-725-3066.
URL:https://ourladyofgracechurch.com/event/exposition-of-the-blessed-sacrament-2-2-2-2/2026-09-08/
LOCATION:Our Lady of Grace Catholic Church\, 300 Malabar Rd\, Palm Bay\, 32907\, United States
END:VEVENT
BEGIN:VEVENT
DTSTART;TZID=America/New_York:20260908T103000
DTEND;TZID=America/New_York:20260908T113000
DTSTAMP:20260422T000511
CREATED:20240205T195658Z
LAST-MODIFIED:20241113T042406Z
UID:10006322-1788863400-1788867000@ourladyofgracechurch.com
SUMMARY:Estudio de la Biblia en español
DESCRIPTION:Spanish Bible Study
URL:https://ourladyofgracechurch.com/event/estudio-de-la-biblia-en-espanol/2026-09-08/
LOCATION:Our Lady of Grace Catholic Church\, 300 Malabar Rd\, Palm Bay\, 32907\, United States
END:VEVENT
BEGIN:VEVENT
DTSTART;TZID=America/New_York:20260908T120000
DTEND;TZID=America/New_York:20260908T123000
DTSTAMP:20260422T000511
CREATED:20250826T181333Z
LAST-MODIFIED:20260311T031945Z
UID:10013616-1788868800-1788870600@ourladyofgracechurch.com
SUMMARY:Daily Mass at 12 Noon
DESCRIPTION:Daily Mass Monday through Friday at \n9 AM and 12 Noon \n(Subject to change depending on Holy Days of obligation and holidays.)
URL:https://ourladyofgracechurch.com/event/daily-mass-at-12-noon/2026-09-08/
LOCATION:Our Lady of Grace Catholic Church\, 300 Malabar Rd\, Palm Bay\, 32907\, United States
ATTACH;FMTTYPE=image/png:https://ourladyofgracechurch.com/wp-content/uploads/2023/10/Website-Mass-icon.png
END:VEVENT
BEGIN:VEVENT
DTSTART;TZID=America/New_York:20260908T190000
DTEND;TZID=America/New_York:20260908T210000
DTSTAMP:20260422T000511
CREATED:20240205T200239Z
LAST-MODIFIED:20241113T042544Z
UID:10006845-1788894000-1788901200@ourladyofgracechurch.com
SUMMARY:Haitian Charismatic Prayer Group
DESCRIPTION:
URL:https://ourladyofgracechurch.com/event/haitian-charismatic-prayer-group/2026-09-08/
LOCATION:Our Lady of Grace Catholic Church\, 300 Malabar Rd\, Palm Bay\, 32907\, United States
END:VEVENT
BEGIN:VEVENT
DTSTART;TZID=America/New_York:20260909T090000
DTEND;TZID=America/New_York:20260909T100000
DTSTAMP:20260422T000511
CREATED:20241108T172543Z
LAST-MODIFIED:20260311T031647Z
UID:10001344-1788944400-1788948000@ourladyofgracechurch.com
SUMMARY:Weekday Mass in English
DESCRIPTION:
URL:https://ourladyofgracechurch.com/event/mass-in-english-2-2-2/2026-09-09/
LOCATION:Our Lady of Grace Catholic Church\, 300 Malabar Rd\, Palm Bay\, 32907\, United States
ATTACH;FMTTYPE=image/png:https://ourladyofgracechurch.com/wp-content/uploads/2023/10/Website-Mass-icon.png
END:VEVENT
BEGIN:VEVENT
DTSTART;TZID=America/New_York:20260909T100000
DTEND;TZID=America/New_York:20260909T110000
DTSTAMP:20260422T000511
CREATED:20251202T183954Z
LAST-MODIFIED:20251202T183955Z
UID:10007105-1788948000-1788951600@ourladyofgracechurch.com
SUMMARY:Coffee with the Knights of Columbus
DESCRIPTION:Join the Knights of Columbus and fellow parishioners after the 9 AM Mass for coffee and donuts. We read and talk about the Gospel for the next Sunday.  Everyone is welcome; please join us.
URL:https://ourladyofgracechurch.com/event/knights-of-columbus-coffee-donuts-2/2026-09-09/
LOCATION:Our Lady of Grace Catholic Church\, 300 Malabar Rd\, Palm Bay\, 32907\, United States
ATTACH;FMTTYPE=image/jpeg:https://ourladyofgracechurch.com/wp-content/uploads/2023/11/Knights-Coffee-and-donuts.jpg
END:VEVENT
BEGIN:VEVENT
DTSTART;TZID=America/New_York:20260909T100000
DTEND;TZID=America/New_York:20260909T113000
DTSTAMP:20260422T000511
CREATED:20251202T183834Z
LAST-MODIFIED:20260311T031856Z
UID:10002872-1788948000-1788953400@ourladyofgracechurch.com
SUMMARY:Exposition of the Blessed Sacrament
DESCRIPTION:Come visit every Tuesday\, Wednesday and Friday from 10:00 AM – 11:30 AM.  \n*Schedule subject to change due to a funeral. Please contact the parish office 321-725-3066.
URL:https://ourladyofgracechurch.com/event/exposition-of-the-blessed-sacrament-2-2-2-2/2026-09-09/
LOCATION:Our Lady of Grace Catholic Church\, 300 Malabar Rd\, Palm Bay\, 32907\, United States
END:VEVENT
BEGIN:VEVENT
DTSTART;TZID=America/New_York:20260909T120000
DTEND;TZID=America/New_York:20260909T123000
DTSTAMP:20260422T000511
CREATED:20250826T181333Z
LAST-MODIFIED:20260311T031945Z
UID:10013617-1788955200-1788957000@ourladyofgracechurch.com
SUMMARY:Daily Mass at 12 Noon
DESCRIPTION:Daily Mass Monday through Friday at \n9 AM and 12 Noon \n(Subject to change depending on Holy Days of obligation and holidays.)
URL:https://ourladyofgracechurch.com/event/daily-mass-at-12-noon/2026-09-09/
LOCATION:Our Lady of Grace Catholic Church\, 300 Malabar Rd\, Palm Bay\, 32907\, United States
ATTACH;FMTTYPE=image/png:https://ourladyofgracechurch.com/wp-content/uploads/2023/10/Website-Mass-icon.png
END:VEVENT
BEGIN:VEVENT
DTSTART;TZID=America/New_York:20260909T180000
DTEND;TZID=America/New_York:20260909T193000
DTSTAMP:20260422T000511
CREATED:20240627T020929Z
LAST-MODIFIED:20240627T040754Z
UID:10009975-1788976800-1788982200@ourladyofgracechurch.com
SUMMARY:Confession on Wednesday evenings
DESCRIPTION:
URL:https://ourladyofgracechurch.com/event/confession-on-wednesday-evenings/2026-09-09/
LOCATION:Our Lady of Grace Catholic Church\, 300 Malabar Rd\, Palm Bay\, 32907\, United States
ATTACH;FMTTYPE=image/jpeg:https://ourladyofgracechurch.com/wp-content/uploads/2024/06/getresult.jpg
END:VEVENT
BEGIN:VEVENT
DTSTART;TZID=America/New_York:20260909T183000
DTEND;TZID=America/New_York:20260909T203000
DTSTAMP:20260422T000511
CREATED:20240205T201550Z
LAST-MODIFIED:20251230T190202Z
UID:10007367-1788978600-1788985800@ourladyofgracechurch.com
SUMMARY:Choir Rehearsal for 9 AM & 4 PM Mass - Church
DESCRIPTION:Please call the church for more information about joining the Music Ministry.
URL:https://ourladyofgracechurch.com/event/choir-rehearsal-for-9-am-4-pm-mass-church/2026-09-09/
LOCATION:Our Lady of Grace Catholic Church\, 300 Malabar Rd\, Palm Bay\, 32907\, United States
END:VEVENT
BEGIN:VEVENT
DTSTART;TZID=America/New_York:20260910T090000
DTEND;TZID=America/New_York:20260910T100000
DTSTAMP:20260422T000511
CREATED:20231118T163611Z
LAST-MODIFIED:20260311T031542Z
UID:10011515-1789030800-1789034400@ourladyofgracechurch.com
SUMMARY:Mass in English
DESCRIPTION:
URL:https://ourladyofgracechurch.com/event/communion-service-2/2026-09-10/
LOCATION:Our Lady of Grace Catholic Church\, 300 Malabar Rd\, Palm Bay\, 32907\, United States
END:VEVENT
BEGIN:VEVENT
DTSTART;TZID=America/New_York:20260910T120000
DTEND;TZID=America/New_York:20260910T123000
DTSTAMP:20260422T000511
CREATED:20250826T181333Z
LAST-MODIFIED:20260311T031945Z
UID:10013618-1789041600-1789043400@ourladyofgracechurch.com
SUMMARY:Daily Mass at 12 Noon
DESCRIPTION:Daily Mass Monday through Friday at \n9 AM and 12 Noon \n(Subject to change depending on Holy Days of obligation and holidays.)
URL:https://ourladyofgracechurch.com/event/daily-mass-at-12-noon/2026-09-10/
LOCATION:Our Lady of Grace Catholic Church\, 300 Malabar Rd\, Palm Bay\, 32907\, United States
ATTACH;FMTTYPE=image/png:https://ourladyofgracechurch.com/wp-content/uploads/2023/10/Website-Mass-icon.png
END:VEVENT
BEGIN:VEVENT
DTSTART;TZID=America/New_York:20260910T180000
DTEND;TZID=America/New_York:20260910T200000
DTSTAMP:20260422T000511
CREATED:20251118T181649Z
LAST-MODIFIED:20260311T032925Z
UID:10007888-1789063200-1789070400@ourladyofgracechurch.com
SUMMARY:Estudio de las Biblia con Sister Angeles
DESCRIPTION:
URL:https://ourladyofgracechurch.com/event/estudio-de-las-biblia-con-sister-angeles-2/2026-09-10/
LOCATION:Our Lady of Grace Catholic Church\, 300 Malabar Rd\, Palm Bay\, 32907\, United States
END:VEVENT
BEGIN:VEVENT
DTSTART;TZID=America/New_York:20260910T183000
DTEND;TZID=America/New_York:20260910T200000
DTSTAMP:20260422T000511
CREATED:20241108T165232Z
LAST-MODIFIED:20260311T031814Z
UID:10008537-1789065000-1789070400@ourladyofgracechurch.com
SUMMARY:Spanish Choir Rehearsal
DESCRIPTION:
URL:https://ourladyofgracechurch.com/event/spanish-choir-rehearsal-3/2026-09-10/
LOCATION:Our Lady of Grace Catholic Church\, 300 Malabar Rd\, Palm Bay\, 32907\, United States
END:VEVENT
BEGIN:VEVENT
DTSTART;TZID=America/New_York:20260910T183000
DTEND;TZID=America/New_York:20260910T200000
DTSTAMP:20260422T000511
CREATED:20241108T170338Z
LAST-MODIFIED:20260311T033106Z
UID:10011877-1789065000-1789070400@ourladyofgracechurch.com
SUMMARY:Bible Study with Theresa
DESCRIPTION:
URL:https://ourladyofgracechurch.com/event/bible-study-with-theresa-3/2026-09-10/
LOCATION:Our Lady of Grace Catholic Church\, 300 Malabar Rd\, Palm Bay\, 32907\, United States
END:VEVENT
BEGIN:VEVENT
DTSTART;TZID=America/New_York:20260910T190000
DTEND;TZID=America/New_York:20260910T210000
DTSTAMP:20260422T000511
CREATED:20241108T172305Z
LAST-MODIFIED:20260311T033439Z
UID:10010709-1789066800-1789074000@ourladyofgracechurch.com
SUMMARY:Holy Family Haitian Ministry
DESCRIPTION:
URL:https://ourladyofgracechurch.com/event/holy-family-haitian-ministry-2/2026-09-10/
LOCATION:Our Lady of Grace Catholic Church\, 300 Malabar Rd\, Palm Bay\, 32907\, United States
END:VEVENT
BEGIN:VEVENT
DTSTART;TZID=America/New_York:20260911T090000
DTEND;TZID=America/New_York:20260911T100000
DTSTAMP:20260422T000511
CREATED:20241108T172543Z
LAST-MODIFIED:20260311T031647Z
UID:10001345-1789117200-1789120800@ourladyofgracechurch.com
SUMMARY:Weekday Mass in English
DESCRIPTION:
URL:https://ourladyofgracechurch.com/event/mass-in-english-2-2-2/2026-09-11/
LOCATION:Our Lady of Grace Catholic Church\, 300 Malabar Rd\, Palm Bay\, 32907\, United States
ATTACH;FMTTYPE=image/png:https://ourladyofgracechurch.com/wp-content/uploads/2023/10/Website-Mass-icon.png
END:VEVENT
BEGIN:VEVENT
DTSTART;TZID=America/New_York:20260911T100000
DTEND;TZID=America/New_York:20260911T113000
DTSTAMP:20260422T000511
CREATED:20251202T183834Z
LAST-MODIFIED:20260311T031856Z
UID:10002873-1789120800-1789126200@ourladyofgracechurch.com
SUMMARY:Exposition of the Blessed Sacrament
DESCRIPTION:Come visit every Tuesday\, Wednesday and Friday from 10:00 AM – 11:30 AM.  \n*Schedule subject to change due to a funeral. Please contact the parish office 321-725-3066.
URL:https://ourladyofgracechurch.com/event/exposition-of-the-blessed-sacrament-2-2-2-2/2026-09-11/
LOCATION:Our Lady of Grace Catholic Church\, 300 Malabar Rd\, Palm Bay\, 32907\, United States
END:VEVENT
BEGIN:VEVENT
DTSTART;TZID=America/New_York:20260911T120000
DTEND;TZID=America/New_York:20260911T123000
DTSTAMP:20260422T000511
CREATED:20250826T181333Z
LAST-MODIFIED:20260311T031945Z
UID:10013619-1789128000-1789129800@ourladyofgracechurch.com
SUMMARY:Daily Mass at 12 Noon
DESCRIPTION:Daily Mass Monday through Friday at \n9 AM and 12 Noon \n(Subject to change depending on Holy Days of obligation and holidays.)
URL:https://ourladyofgracechurch.com/event/daily-mass-at-12-noon/2026-09-11/
LOCATION:Our Lady of Grace Catholic Church\, 300 Malabar Rd\, Palm Bay\, 32907\, United States
ATTACH;FMTTYPE=image/png:https://ourladyofgracechurch.com/wp-content/uploads/2023/10/Website-Mass-icon.png
END:VEVENT
BEGIN:VEVENT
DTSTART;TZID=America/New_York:20260911T120000
DTEND;TZID=America/New_York:20260911T143000
DTSTAMP:20260422T000511
CREATED:20240627T004704Z
LAST-MODIFIED:20251118T183148Z
UID:10009477-1789128000-1789137000@ourladyofgracechurch.com
SUMMARY:Loaves & Fishes
DESCRIPTION:Please note: \nThere will be no Loaves and Fishes on 11/28/25.
URL:https://ourladyofgracechurch.com/event/loaves-fishes/2026-09-11/
LOCATION:Our Lady of Grace Catholic Church\, 300 Malabar Rd\, Palm Bay\, 32907\, United States
END:VEVENT
BEGIN:VEVENT
DTSTART;TZID=America/New_York:20260912T100000
DTEND;TZID=America/New_York:20260912T113000
DTSTAMP:20260422T000511
CREATED:20240627T025118Z
LAST-MODIFIED:20260311T033724Z
UID:10010217-1789207200-1789212600@ourladyofgracechurch.com
SUMMARY:Confession on Saturday
DESCRIPTION:There will be no Saturday confession if there is a funeral service on a Saturday or if a Priest is unavailable. \nPlease see the home page for additional information regarding confessions.
URL:https://ourladyofgracechurch.com/event/confession-on-saturday/2026-09-12/
LOCATION:Our Lady of Grace Catholic Church\, 300 Malabar Rd\, Palm Bay\, 32907\, United States
ATTACH;FMTTYPE=image/png:https://ourladyofgracechurch.com/wp-content/uploads/2023/10/Website-Mass-icon-2.png
END:VEVENT
BEGIN:VEVENT
DTSTART;TZID=America/New_York:20260912T160000
DTEND;TZID=America/New_York:20260912T170000
DTSTAMP:20260422T000511
CREATED:20230817T192802Z
LAST-MODIFIED:20260311T033810Z
UID:10003290-1789228800-1789232400@ourladyofgracechurch.com
SUMMARY:Mass in English
DESCRIPTION:Please note: On Saturday\, April 17\, 2025\, there will not be a 4 PM Mass. During the Easter Triduum\, Mass on Holy Saturday begins at 8:30 PM.
URL:https://ourladyofgracechurch.com/event/mass-in-english/2026-09-12/
LOCATION:Our Lady of Grace Catholic Church\, 300 Malabar Rd\, Palm Bay\, 32907\, United States
ATTACH;FMTTYPE=image/png:https://ourladyofgracechurch.com/wp-content/uploads/2023/08/Untitled-design-6.png
END:VEVENT
BEGIN:VEVENT
DTSTART;TZID=America/New_York:20260913T090000
DTEND;TZID=America/New_York:20260913T100000
DTSTAMP:20260422T000511
CREATED:20230817T192942Z
LAST-MODIFIED:20230818T164120Z
UID:10003551-1789290000-1789293600@ourladyofgracechurch.com
SUMMARY:Mass in English
DESCRIPTION:
URL:https://ourladyofgracechurch.com/event/mass-in-english-4/2026-09-13/
LOCATION:Our Lady of Grace Catholic Church\, 300 Malabar Rd\, Palm Bay\, 32907\, United States
ATTACH;FMTTYPE=image/png:https://ourladyofgracechurch.com/wp-content/uploads/2023/08/Untitled-design-6.png
END:VEVENT
BEGIN:VEVENT
DTSTART;TZID=America/New_York:20260913T104500
DTEND;TZID=America/New_York:20260913T110000
DTSTAMP:20260422T000511
CREATED:20230817T200348Z
LAST-MODIFIED:20240203T132047Z
UID:10003812-1789296300-1789297200@ourladyofgracechurch.com
SUMMARY:Mass in French/Creole
DESCRIPTION:
URL:https://ourladyofgracechurch.com/event/mass-in-french-creole-2/2026-09-13/
LOCATION:Our Lady of Grace Catholic Church\, 300 Malabar Rd\, Palm Bay\, 32907\, United States
ATTACH;FMTTYPE=image/png:https://ourladyofgracechurch.com/wp-content/uploads/2023/08/Untitled-design-6.png
END:VEVENT
BEGIN:VEVENT
DTSTART;TZID=America/New_York:20260913T130000
DTEND;TZID=America/New_York:20260913T140000
DTSTAMP:20260422T000511
CREATED:20230817T200520Z
LAST-MODIFIED:20260311T035411Z
UID:10004073-1789304400-1789308000@ourladyofgracechurch.com
SUMMARY:Misa de Pascua en Español (Mass in English)
DESCRIPTION:
URL:https://ourladyofgracechurch.com/event/misa-en-espanol-mass-in-english/2026-09-13/
LOCATION:Our Lady of Grace Catholic Church\, 300 Malabar Rd\, Palm Bay\, 32907\, United States
ATTACH;FMTTYPE=image/png:https://ourladyofgracechurch.com/wp-content/uploads/2023/08/Untitled-design-6.png
END:VEVENT
END:VCALENDAR