BEGIN:VCALENDAR
VERSION:2.0
PRODID:-//Our Lady of Grace Church - ECPv6.15.17//NONSGML v1.0//EN
CALSCALE:GREGORIAN
METHOD:PUBLISH
X-ORIGINAL-URL:https://ourladyofgracechurch.com
X-WR-CALDESC:Events for Our Lady of Grace Church
REFRESH-INTERVAL;VALUE=DURATION:PT1H
X-Robots-Tag:noindex
X-PUBLISHED-TTL:PT1H
BEGIN:VTIMEZONE
TZID:America/New_York
BEGIN:DAYLIGHT
TZOFFSETFROM:-0500
TZOFFSETTO:-0400
TZNAME:EDT
DTSTART:20260308T070000
END:DAYLIGHT
BEGIN:STANDARD
TZOFFSETFROM:-0400
TZOFFSETTO:-0500
TZNAME:EST
DTSTART:20261101T060000
END:STANDARD
BEGIN:DAYLIGHT
TZOFFSETFROM:-0500
TZOFFSETTO:-0400
TZNAME:EDT
DTSTART:20270314T070000
END:DAYLIGHT
BEGIN:STANDARD
TZOFFSETFROM:-0400
TZOFFSETTO:-0500
TZNAME:EST
DTSTART:20271107T060000
END:STANDARD
BEGIN:DAYLIGHT
TZOFFSETFROM:-0500
TZOFFSETTO:-0400
TZNAME:EDT
DTSTART:20280312T070000
END:DAYLIGHT
BEGIN:STANDARD
TZOFFSETFROM:-0400
TZOFFSETTO:-0500
TZNAME:EST
DTSTART:20281105T060000
END:STANDARD
END:VTIMEZONE
BEGIN:VEVENT
DTSTART;TZID=America/New_York:20270110T170000
DTEND;TZID=America/New_York:20270110T180000
DTSTAMP:20260423T044947
CREATED:20230817T200627Z
LAST-MODIFIED:20250405T013234Z
UID:10004351-1799600400-1799604000@ourladyofgracechurch.com
SUMMARY:Mass in English
DESCRIPTION:
URL:https://ourladyofgracechurch.com/event/mass-in-english-5/2027-01-10/
LOCATION:Our Lady of Grace Catholic Church\, 300 Malabar Rd\, Palm Bay\, 32907\, United States
ATTACH;FMTTYPE=image/png:https://ourladyofgracechurch.com/wp-content/uploads/2023/08/Untitled-design-6.png
END:VEVENT
BEGIN:VEVENT
DTSTART;TZID=America/New_York:20270111T090000
DTEND;TZID=America/New_York:20270111T100000
DTSTAMP:20260423T044947
CREATED:20241108T172543Z
LAST-MODIFIED:20260311T031647Z
UID:10001397-1799658000-1799661600@ourladyofgracechurch.com
SUMMARY:Weekday Mass in English
DESCRIPTION:
URL:https://ourladyofgracechurch.com/event/mass-in-english-2-2-2/2027-01-11/
LOCATION:Our Lady of Grace Catholic Church\, 300 Malabar Rd\, Palm Bay\, 32907\, United States
ATTACH;FMTTYPE=image/png:https://ourladyofgracechurch.com/wp-content/uploads/2023/10/Website-Mass-icon.png
END:VEVENT
BEGIN:VEVENT
DTSTART;TZID=America/New_York:20270111T120000
DTEND;TZID=America/New_York:20270111T123000
DTSTAMP:20260423T044947
CREATED:20250826T181333Z
LAST-MODIFIED:20260311T031945Z
UID:10013705-1799668800-1799670600@ourladyofgracechurch.com
SUMMARY:Daily Mass at 12 Noon
DESCRIPTION:Daily Mass Monday through Friday at \n9 AM and 12 Noon \n(Subject to change depending on Holy Days of obligation and holidays.)
URL:https://ourladyofgracechurch.com/event/daily-mass-at-12-noon/2027-01-11/
LOCATION:Our Lady of Grace Catholic Church\, 300 Malabar Rd\, Palm Bay\, 32907\, United States
ATTACH;FMTTYPE=image/png:https://ourladyofgracechurch.com/wp-content/uploads/2023/10/Website-Mass-icon.png
END:VEVENT
BEGIN:VEVENT
DTSTART;TZID=America/New_York:20270111T180000
DTEND;TZID=America/New_York:20270111T210000
DTSTAMP:20260423T044947
CREATED:20250908T143745Z
LAST-MODIFIED:20250908T143746Z
UID:10015134-1799690400-1799701200@ourladyofgracechurch.com
SUMMARY:Spanish Charismatic Prayer Group
DESCRIPTION:Group Leader: Maria Fernandez (Angie) \nOngoing schedule for 7/1/2025-6/30/2026 is:\nROOMS 12 and 13 from 6:00 pm – 9:00 pm \nExceptions: \nExcept when the church is closed
URL:https://ourladyofgracechurch.com/event/spanish-charismatic-prayer-group-3-2-2/2027-01-11/
LOCATION:Our Lady of Grace Catholic Church\, 300 Malabar Rd\, Palm Bay\, 32907\, United States
END:VEVENT
BEGIN:VEVENT
DTSTART;TZID=America/New_York:20270112T090000
DTEND;TZID=America/New_York:20270112T100000
DTSTAMP:20260423T044947
CREATED:20230301T173744Z
LAST-MODIFIED:20241113T042626Z
UID:10002148-1799744400-1799748000@ourladyofgracechurch.com
SUMMARY:Misa en Español
DESCRIPTION:Misa en Español (Weekday Mass in Spanish)
URL:https://ourladyofgracechurch.com/event/misa-en-espanol/2027-01-12/
LOCATION:Our Lady of Grace Catholic Church\, 300 Malabar Rd\, Palm Bay\, 32907\, United States
ATTACH;FMTTYPE=image/png:https://ourladyofgracechurch.com/wp-content/uploads/2023/10/Website-Mass-icon.png
END:VEVENT
BEGIN:VEVENT
DTSTART;TZID=America/New_York:20270112T100000
DTEND;TZID=America/New_York:20270112T113000
DTSTAMP:20260423T044947
CREATED:20251202T183834Z
LAST-MODIFIED:20260311T031856Z
UID:10002925-1799748000-1799753400@ourladyofgracechurch.com
SUMMARY:Exposition of the Blessed Sacrament
DESCRIPTION:Come visit every Tuesday\, Wednesday and Friday from 10:00 AM – 11:30 AM.  \n*Schedule subject to change due to a funeral. Please contact the parish office 321-725-3066.
URL:https://ourladyofgracechurch.com/event/exposition-of-the-blessed-sacrament-2-2-2-2/2027-01-12/
LOCATION:Our Lady of Grace Catholic Church\, 300 Malabar Rd\, Palm Bay\, 32907\, United States
END:VEVENT
BEGIN:VEVENT
DTSTART;TZID=America/New_York:20270112T103000
DTEND;TZID=America/New_York:20270112T113000
DTSTAMP:20260423T044947
CREATED:20240205T195658Z
LAST-MODIFIED:20241113T042406Z
UID:10006340-1799749800-1799753400@ourladyofgracechurch.com
SUMMARY:Estudio de la Biblia en español
DESCRIPTION:Spanish Bible Study
URL:https://ourladyofgracechurch.com/event/estudio-de-la-biblia-en-espanol/2027-01-12/
LOCATION:Our Lady of Grace Catholic Church\, 300 Malabar Rd\, Palm Bay\, 32907\, United States
END:VEVENT
BEGIN:VEVENT
DTSTART;TZID=America/New_York:20270112T120000
DTEND;TZID=America/New_York:20270112T123000
DTSTAMP:20260423T044947
CREATED:20250826T181333Z
LAST-MODIFIED:20260311T031945Z
UID:10013706-1799755200-1799757000@ourladyofgracechurch.com
SUMMARY:Daily Mass at 12 Noon
DESCRIPTION:Daily Mass Monday through Friday at \n9 AM and 12 Noon \n(Subject to change depending on Holy Days of obligation and holidays.)
URL:https://ourladyofgracechurch.com/event/daily-mass-at-12-noon/2027-01-12/
LOCATION:Our Lady of Grace Catholic Church\, 300 Malabar Rd\, Palm Bay\, 32907\, United States
ATTACH;FMTTYPE=image/png:https://ourladyofgracechurch.com/wp-content/uploads/2023/10/Website-Mass-icon.png
END:VEVENT
BEGIN:VEVENT
DTSTART;TZID=America/New_York:20270112T190000
DTEND;TZID=America/New_York:20270112T210000
DTSTAMP:20260423T044947
CREATED:20240205T200239Z
LAST-MODIFIED:20241113T042544Z
UID:10006863-1799780400-1799787600@ourladyofgracechurch.com
SUMMARY:Haitian Charismatic Prayer Group
DESCRIPTION:
URL:https://ourladyofgracechurch.com/event/haitian-charismatic-prayer-group/2027-01-12/
LOCATION:Our Lady of Grace Catholic Church\, 300 Malabar Rd\, Palm Bay\, 32907\, United States
END:VEVENT
BEGIN:VEVENT
DTSTART;TZID=America/New_York:20270113T090000
DTEND;TZID=America/New_York:20270113T100000
DTSTAMP:20260423T044947
CREATED:20241108T172543Z
LAST-MODIFIED:20260311T031647Z
UID:10001398-1799830800-1799834400@ourladyofgracechurch.com
SUMMARY:Weekday Mass in English
DESCRIPTION:
URL:https://ourladyofgracechurch.com/event/mass-in-english-2-2-2/2027-01-13/
LOCATION:Our Lady of Grace Catholic Church\, 300 Malabar Rd\, Palm Bay\, 32907\, United States
ATTACH;FMTTYPE=image/png:https://ourladyofgracechurch.com/wp-content/uploads/2023/10/Website-Mass-icon.png
END:VEVENT
BEGIN:VEVENT
DTSTART;TZID=America/New_York:20270113T100000
DTEND;TZID=America/New_York:20270113T110000
DTSTAMP:20260423T044947
CREATED:20251202T183954Z
LAST-MODIFIED:20251202T183955Z
UID:10007123-1799834400-1799838000@ourladyofgracechurch.com
SUMMARY:Coffee with the Knights of Columbus
DESCRIPTION:Join the Knights of Columbus and fellow parishioners after the 9 AM Mass for coffee and donuts. We read and talk about the Gospel for the next Sunday.  Everyone is welcome; please join us.
URL:https://ourladyofgracechurch.com/event/knights-of-columbus-coffee-donuts-2/2027-01-13/
LOCATION:Our Lady of Grace Catholic Church\, 300 Malabar Rd\, Palm Bay\, 32907\, United States
ATTACH;FMTTYPE=image/jpeg:https://ourladyofgracechurch.com/wp-content/uploads/2023/11/Knights-Coffee-and-donuts.jpg
END:VEVENT
BEGIN:VEVENT
DTSTART;TZID=America/New_York:20270113T100000
DTEND;TZID=America/New_York:20270113T113000
DTSTAMP:20260423T044947
CREATED:20251202T183834Z
LAST-MODIFIED:20260311T031856Z
UID:10002926-1799834400-1799839800@ourladyofgracechurch.com
SUMMARY:Exposition of the Blessed Sacrament
DESCRIPTION:Come visit every Tuesday\, Wednesday and Friday from 10:00 AM – 11:30 AM.  \n*Schedule subject to change due to a funeral. Please contact the parish office 321-725-3066.
URL:https://ourladyofgracechurch.com/event/exposition-of-the-blessed-sacrament-2-2-2-2/2027-01-13/
LOCATION:Our Lady of Grace Catholic Church\, 300 Malabar Rd\, Palm Bay\, 32907\, United States
END:VEVENT
BEGIN:VEVENT
DTSTART;TZID=America/New_York:20270113T120000
DTEND;TZID=America/New_York:20270113T123000
DTSTAMP:20260423T044947
CREATED:20250826T181333Z
LAST-MODIFIED:20260311T031945Z
UID:10013707-1799841600-1799843400@ourladyofgracechurch.com
SUMMARY:Daily Mass at 12 Noon
DESCRIPTION:Daily Mass Monday through Friday at \n9 AM and 12 Noon \n(Subject to change depending on Holy Days of obligation and holidays.)
URL:https://ourladyofgracechurch.com/event/daily-mass-at-12-noon/2027-01-13/
LOCATION:Our Lady of Grace Catholic Church\, 300 Malabar Rd\, Palm Bay\, 32907\, United States
ATTACH;FMTTYPE=image/png:https://ourladyofgracechurch.com/wp-content/uploads/2023/10/Website-Mass-icon.png
END:VEVENT
BEGIN:VEVENT
DTSTART;TZID=America/New_York:20270113T180000
DTEND;TZID=America/New_York:20270113T193000
DTSTAMP:20260423T044947
CREATED:20240627T020929Z
LAST-MODIFIED:20240627T040754Z
UID:10009979-1799863200-1799868600@ourladyofgracechurch.com
SUMMARY:Confession on Wednesday evenings
DESCRIPTION:
URL:https://ourladyofgracechurch.com/event/confession-on-wednesday-evenings/2027-01-13/
LOCATION:Our Lady of Grace Catholic Church\, 300 Malabar Rd\, Palm Bay\, 32907\, United States
ATTACH;FMTTYPE=image/jpeg:https://ourladyofgracechurch.com/wp-content/uploads/2024/06/getresult.jpg
END:VEVENT
BEGIN:VEVENT
DTSTART;TZID=America/New_York:20270113T183000
DTEND;TZID=America/New_York:20270113T203000
DTSTAMP:20260423T044947
CREATED:20240205T201550Z
LAST-MODIFIED:20251230T190202Z
UID:10007385-1799865000-1799872200@ourladyofgracechurch.com
SUMMARY:Choir Rehearsal for 9 AM & 4 PM Mass - Church
DESCRIPTION:Please call the church for more information about joining the Music Ministry.
URL:https://ourladyofgracechurch.com/event/choir-rehearsal-for-9-am-4-pm-mass-church/2027-01-13/
LOCATION:Our Lady of Grace Catholic Church\, 300 Malabar Rd\, Palm Bay\, 32907\, United States
END:VEVENT
BEGIN:VEVENT
DTSTART;TZID=America/New_York:20270114T090000
DTEND;TZID=America/New_York:20270114T100000
DTSTAMP:20260423T044947
CREATED:20231118T163611Z
LAST-MODIFIED:20260311T031542Z
UID:10011533-1799917200-1799920800@ourladyofgracechurch.com
SUMMARY:Mass in English
DESCRIPTION:
URL:https://ourladyofgracechurch.com/event/communion-service-2/2027-01-14/
LOCATION:Our Lady of Grace Catholic Church\, 300 Malabar Rd\, Palm Bay\, 32907\, United States
END:VEVENT
BEGIN:VEVENT
DTSTART;TZID=America/New_York:20270114T120000
DTEND;TZID=America/New_York:20270114T123000
DTSTAMP:20260423T044947
CREATED:20250826T181333Z
LAST-MODIFIED:20260311T031945Z
UID:10013708-1799928000-1799929800@ourladyofgracechurch.com
SUMMARY:Daily Mass at 12 Noon
DESCRIPTION:Daily Mass Monday through Friday at \n9 AM and 12 Noon \n(Subject to change depending on Holy Days of obligation and holidays.)
URL:https://ourladyofgracechurch.com/event/daily-mass-at-12-noon/2027-01-14/
LOCATION:Our Lady of Grace Catholic Church\, 300 Malabar Rd\, Palm Bay\, 32907\, United States
ATTACH;FMTTYPE=image/png:https://ourladyofgracechurch.com/wp-content/uploads/2023/10/Website-Mass-icon.png
END:VEVENT
BEGIN:VEVENT
DTSTART;TZID=America/New_York:20270114T180000
DTEND;TZID=America/New_York:20270114T200000
DTSTAMP:20260423T044947
CREATED:20251118T181649Z
LAST-MODIFIED:20260311T032925Z
UID:10007906-1799949600-1799956800@ourladyofgracechurch.com
SUMMARY:Estudio de las Biblia con Sister Angeles
DESCRIPTION:
URL:https://ourladyofgracechurch.com/event/estudio-de-las-biblia-con-sister-angeles-2/2027-01-14/
LOCATION:Our Lady of Grace Catholic Church\, 300 Malabar Rd\, Palm Bay\, 32907\, United States
END:VEVENT
BEGIN:VEVENT
DTSTART;TZID=America/New_York:20270114T183000
DTEND;TZID=America/New_York:20270114T200000
DTSTAMP:20260423T044947
CREATED:20241108T165232Z
LAST-MODIFIED:20260311T031814Z
UID:10008555-1799951400-1799956800@ourladyofgracechurch.com
SUMMARY:Spanish Choir Rehearsal
DESCRIPTION:
URL:https://ourladyofgracechurch.com/event/spanish-choir-rehearsal-3/2027-01-14/
LOCATION:Our Lady of Grace Catholic Church\, 300 Malabar Rd\, Palm Bay\, 32907\, United States
END:VEVENT
BEGIN:VEVENT
DTSTART;TZID=America/New_York:20270114T183000
DTEND;TZID=America/New_York:20270114T200000
DTSTAMP:20260423T044947
CREATED:20241108T170338Z
LAST-MODIFIED:20260311T033106Z
UID:10011895-1799951400-1799956800@ourladyofgracechurch.com
SUMMARY:Bible Study with Theresa
DESCRIPTION:
URL:https://ourladyofgracechurch.com/event/bible-study-with-theresa-3/2027-01-14/
LOCATION:Our Lady of Grace Catholic Church\, 300 Malabar Rd\, Palm Bay\, 32907\, United States
END:VEVENT
BEGIN:VEVENT
DTSTART;TZID=America/New_York:20270114T190000
DTEND;TZID=America/New_York:20270114T210000
DTSTAMP:20260423T044947
CREATED:20241108T172305Z
LAST-MODIFIED:20260311T033439Z
UID:10010727-1799953200-1799960400@ourladyofgracechurch.com
SUMMARY:Holy Family Haitian Ministry
DESCRIPTION:
URL:https://ourladyofgracechurch.com/event/holy-family-haitian-ministry-2/2027-01-14/
LOCATION:Our Lady of Grace Catholic Church\, 300 Malabar Rd\, Palm Bay\, 32907\, United States
END:VEVENT
BEGIN:VEVENT
DTSTART;TZID=America/New_York:20270115T090000
DTEND;TZID=America/New_York:20270115T100000
DTSTAMP:20260423T044947
CREATED:20241108T172543Z
LAST-MODIFIED:20260311T031647Z
UID:10001399-1800003600-1800007200@ourladyofgracechurch.com
SUMMARY:Weekday Mass in English
DESCRIPTION:
URL:https://ourladyofgracechurch.com/event/mass-in-english-2-2-2/2027-01-15/
LOCATION:Our Lady of Grace Catholic Church\, 300 Malabar Rd\, Palm Bay\, 32907\, United States
ATTACH;FMTTYPE=image/png:https://ourladyofgracechurch.com/wp-content/uploads/2023/10/Website-Mass-icon.png
END:VEVENT
BEGIN:VEVENT
DTSTART;TZID=America/New_York:20270115T100000
DTEND;TZID=America/New_York:20270115T113000
DTSTAMP:20260423T044947
CREATED:20251202T183834Z
LAST-MODIFIED:20260311T031856Z
UID:10002927-1800007200-1800012600@ourladyofgracechurch.com
SUMMARY:Exposition of the Blessed Sacrament
DESCRIPTION:Come visit every Tuesday\, Wednesday and Friday from 10:00 AM – 11:30 AM.  \n*Schedule subject to change due to a funeral. Please contact the parish office 321-725-3066.
URL:https://ourladyofgracechurch.com/event/exposition-of-the-blessed-sacrament-2-2-2-2/2027-01-15/
LOCATION:Our Lady of Grace Catholic Church\, 300 Malabar Rd\, Palm Bay\, 32907\, United States
END:VEVENT
BEGIN:VEVENT
DTSTART;TZID=America/New_York:20270115T120000
DTEND;TZID=America/New_York:20270115T123000
DTSTAMP:20260423T044947
CREATED:20250826T181333Z
LAST-MODIFIED:20260311T031945Z
UID:10013709-1800014400-1800016200@ourladyofgracechurch.com
SUMMARY:Daily Mass at 12 Noon
DESCRIPTION:Daily Mass Monday through Friday at \n9 AM and 12 Noon \n(Subject to change depending on Holy Days of obligation and holidays.)
URL:https://ourladyofgracechurch.com/event/daily-mass-at-12-noon/2027-01-15/
LOCATION:Our Lady of Grace Catholic Church\, 300 Malabar Rd\, Palm Bay\, 32907\, United States
ATTACH;FMTTYPE=image/png:https://ourladyofgracechurch.com/wp-content/uploads/2023/10/Website-Mass-icon.png
END:VEVENT
BEGIN:VEVENT
DTSTART;TZID=America/New_York:20270115T120000
DTEND;TZID=America/New_York:20270115T143000
DTSTAMP:20260423T044947
CREATED:20240627T004704Z
LAST-MODIFIED:20251118T183148Z
UID:10009495-1800014400-1800023400@ourladyofgracechurch.com
SUMMARY:Loaves & Fishes
DESCRIPTION:Please note: \nThere will be no Loaves and Fishes on 11/28/25.
URL:https://ourladyofgracechurch.com/event/loaves-fishes/2027-01-15/
LOCATION:Our Lady of Grace Catholic Church\, 300 Malabar Rd\, Palm Bay\, 32907\, United States
END:VEVENT
BEGIN:VEVENT
DTSTART;TZID=America/New_York:20270116T100000
DTEND;TZID=America/New_York:20270116T113000
DTSTAMP:20260423T044947
CREATED:20240627T025118Z
LAST-MODIFIED:20260311T033724Z
UID:10010235-1800093600-1800099000@ourladyofgracechurch.com
SUMMARY:Confession on Saturday
DESCRIPTION:There will be no Saturday confession if there is a funeral service on a Saturday or if a Priest is unavailable. \nPlease see the home page for additional information regarding confessions.
URL:https://ourladyofgracechurch.com/event/confession-on-saturday/2027-01-16/
LOCATION:Our Lady of Grace Catholic Church\, 300 Malabar Rd\, Palm Bay\, 32907\, United States
ATTACH;FMTTYPE=image/png:https://ourladyofgracechurch.com/wp-content/uploads/2023/10/Website-Mass-icon-2.png
END:VEVENT
BEGIN:VEVENT
DTSTART;TZID=America/New_York:20270116T160000
DTEND;TZID=America/New_York:20270116T170000
DTSTAMP:20260423T044947
CREATED:20230817T192802Z
LAST-MODIFIED:20260311T033810Z
UID:10003308-1800115200-1800118800@ourladyofgracechurch.com
SUMMARY:Mass in English
DESCRIPTION:Please note: On Saturday\, April 17\, 2025\, there will not be a 4 PM Mass. During the Easter Triduum\, Mass on Holy Saturday begins at 8:30 PM.
URL:https://ourladyofgracechurch.com/event/mass-in-english/2027-01-16/
LOCATION:Our Lady of Grace Catholic Church\, 300 Malabar Rd\, Palm Bay\, 32907\, United States
ATTACH;FMTTYPE=image/png:https://ourladyofgracechurch.com/wp-content/uploads/2023/08/Untitled-design-6.png
END:VEVENT
BEGIN:VEVENT
DTSTART;TZID=America/New_York:20270117T090000
DTEND;TZID=America/New_York:20270117T100000
DTSTAMP:20260423T044947
CREATED:20230817T192942Z
LAST-MODIFIED:20230818T164120Z
UID:10003569-1800176400-1800180000@ourladyofgracechurch.com
SUMMARY:Mass in English
DESCRIPTION:
URL:https://ourladyofgracechurch.com/event/mass-in-english-4/2027-01-17/
LOCATION:Our Lady of Grace Catholic Church\, 300 Malabar Rd\, Palm Bay\, 32907\, United States
ATTACH;FMTTYPE=image/png:https://ourladyofgracechurch.com/wp-content/uploads/2023/08/Untitled-design-6.png
END:VEVENT
BEGIN:VEVENT
DTSTART;TZID=America/New_York:20270117T104500
DTEND;TZID=America/New_York:20270117T110000
DTSTAMP:20260423T044947
CREATED:20230817T200348Z
LAST-MODIFIED:20240203T132047Z
UID:10003830-1800182700-1800183600@ourladyofgracechurch.com
SUMMARY:Mass in French/Creole
DESCRIPTION:
URL:https://ourladyofgracechurch.com/event/mass-in-french-creole-2/2027-01-17/
LOCATION:Our Lady of Grace Catholic Church\, 300 Malabar Rd\, Palm Bay\, 32907\, United States
ATTACH;FMTTYPE=image/png:https://ourladyofgracechurch.com/wp-content/uploads/2023/08/Untitled-design-6.png
END:VEVENT
BEGIN:VEVENT
DTSTART;TZID=America/New_York:20270117T130000
DTEND;TZID=America/New_York:20270117T140000
DTSTAMP:20260423T044947
CREATED:20230817T200520Z
LAST-MODIFIED:20260311T035411Z
UID:10004091-1800190800-1800194400@ourladyofgracechurch.com
SUMMARY:Misa de Pascua en Español (Mass in English)
DESCRIPTION:
URL:https://ourladyofgracechurch.com/event/misa-en-espanol-mass-in-english/2027-01-17/
LOCATION:Our Lady of Grace Catholic Church\, 300 Malabar Rd\, Palm Bay\, 32907\, United States
ATTACH;FMTTYPE=image/png:https://ourladyofgracechurch.com/wp-content/uploads/2023/08/Untitled-design-6.png
END:VEVENT
END:VCALENDAR