BEGIN:VCALENDAR
VERSION:2.0
PRODID:-//Our Lady of Grace Church - ECPv6.15.17//NONSGML v1.0//EN
CALSCALE:GREGORIAN
METHOD:PUBLISH
X-WR-CALNAME:Our Lady of Grace Church
X-ORIGINAL-URL:https://ourladyofgracechurch.com
X-WR-CALDESC:Events for Our Lady of Grace Church
REFRESH-INTERVAL;VALUE=DURATION:PT1H
X-Robots-Tag:noindex
X-PUBLISHED-TTL:PT1H
BEGIN:VTIMEZONE
TZID:America/New_York
BEGIN:DAYLIGHT
TZOFFSETFROM:-0500
TZOFFSETTO:-0400
TZNAME:EDT
DTSTART:20250309T070000
END:DAYLIGHT
BEGIN:STANDARD
TZOFFSETFROM:-0400
TZOFFSETTO:-0500
TZNAME:EST
DTSTART:20251102T060000
END:STANDARD
BEGIN:DAYLIGHT
TZOFFSETFROM:-0500
TZOFFSETTO:-0400
TZNAME:EDT
DTSTART:20260308T070000
END:DAYLIGHT
BEGIN:STANDARD
TZOFFSETFROM:-0400
TZOFFSETTO:-0500
TZNAME:EST
DTSTART:20261101T060000
END:STANDARD
BEGIN:DAYLIGHT
TZOFFSETFROM:-0500
TZOFFSETTO:-0400
TZNAME:EDT
DTSTART:20270314T070000
END:DAYLIGHT
BEGIN:STANDARD
TZOFFSETFROM:-0400
TZOFFSETTO:-0500
TZNAME:EST
DTSTART:20271107T060000
END:STANDARD
END:VTIMEZONE
BEGIN:VEVENT
DTSTART;TZID=America/New_York:20260809T170000
DTEND;TZID=America/New_York:20260809T180000
DTSTAMP:20260420T000637
CREATED:20230817T200627Z
LAST-MODIFIED:20250405T013234Z
UID:10004329-1786294800-1786298400@ourladyofgracechurch.com
SUMMARY:Mass in English
DESCRIPTION:
URL:https://ourladyofgracechurch.com/event/mass-in-english-5/2026-08-09/
LOCATION:Our Lady of Grace Catholic Church\, 300 Malabar Rd\, Palm Bay\, 32907\, United States
ATTACH;FMTTYPE=image/png:https://ourladyofgracechurch.com/wp-content/uploads/2023/08/Untitled-design-6.png
END:VEVENT
BEGIN:VEVENT
DTSTART;TZID=America/New_York:20260810T090000
DTEND;TZID=America/New_York:20260810T100000
DTSTAMP:20260420T000638
CREATED:20241108T172543Z
LAST-MODIFIED:20260311T031647Z
UID:10001331-1786352400-1786356000@ourladyofgracechurch.com
SUMMARY:Weekday Mass in English
DESCRIPTION:
URL:https://ourladyofgracechurch.com/event/mass-in-english-2-2-2/2026-08-10/
LOCATION:Our Lady of Grace Catholic Church\, 300 Malabar Rd\, Palm Bay\, 32907\, United States
ATTACH;FMTTYPE=image/png:https://ourladyofgracechurch.com/wp-content/uploads/2023/10/Website-Mass-icon.png
END:VEVENT
BEGIN:VEVENT
DTSTART;TZID=America/New_York:20260810T120000
DTEND;TZID=America/New_York:20260810T123000
DTSTAMP:20260420T000638
CREATED:20250826T181333Z
LAST-MODIFIED:20260311T031945Z
UID:10013595-1786363200-1786365000@ourladyofgracechurch.com
SUMMARY:Daily Mass at 12 Noon
DESCRIPTION:Daily Mass Monday through Friday at \n9 AM and 12 Noon \n(Subject to change depending on Holy Days of obligation and holidays.)
URL:https://ourladyofgracechurch.com/event/daily-mass-at-12-noon/2026-08-10/
LOCATION:Our Lady of Grace Catholic Church\, 300 Malabar Rd\, Palm Bay\, 32907\, United States
ATTACH;FMTTYPE=image/png:https://ourladyofgracechurch.com/wp-content/uploads/2023/10/Website-Mass-icon.png
END:VEVENT
BEGIN:VEVENT
DTSTART;TZID=America/New_York:20260810T180000
DTEND;TZID=America/New_York:20260810T210000
DTSTAMP:20260420T000638
CREATED:20250908T143745Z
LAST-MODIFIED:20250908T143746Z
UID:10015112-1786384800-1786395600@ourladyofgracechurch.com
SUMMARY:Spanish Charismatic Prayer Group
DESCRIPTION:Group Leader: Maria Fernandez (Angie) \nOngoing schedule for 7/1/2025-6/30/2026 is:\nROOMS 12 and 13 from 6:00 pm – 9:00 pm \nExceptions: \nExcept when the church is closed
URL:https://ourladyofgracechurch.com/event/spanish-charismatic-prayer-group-3-2-2/2026-08-10/
LOCATION:Our Lady of Grace Catholic Church\, 300 Malabar Rd\, Palm Bay\, 32907\, United States
END:VEVENT
BEGIN:VEVENT
DTSTART;TZID=America/New_York:20260811T090000
DTEND;TZID=America/New_York:20260811T100000
DTSTAMP:20260420T000638
CREATED:20230301T173744Z
LAST-MODIFIED:20241113T042626Z
UID:10002126-1786438800-1786442400@ourladyofgracechurch.com
SUMMARY:Misa en Español
DESCRIPTION:Misa en Español (Weekday Mass in Spanish)
URL:https://ourladyofgracechurch.com/event/misa-en-espanol/2026-08-11/
LOCATION:Our Lady of Grace Catholic Church\, 300 Malabar Rd\, Palm Bay\, 32907\, United States
ATTACH;FMTTYPE=image/png:https://ourladyofgracechurch.com/wp-content/uploads/2023/10/Website-Mass-icon.png
END:VEVENT
BEGIN:VEVENT
DTSTART;TZID=America/New_York:20260811T100000
DTEND;TZID=America/New_York:20260811T113000
DTSTAMP:20260420T000638
CREATED:20251202T183834Z
LAST-MODIFIED:20260311T031856Z
UID:10002859-1786442400-1786447800@ourladyofgracechurch.com
SUMMARY:Exposition of the Blessed Sacrament
DESCRIPTION:Come visit every Tuesday\, Wednesday and Friday from 10:00 AM – 11:30 AM.  \n*Schedule subject to change due to a funeral. Please contact the parish office 321-725-3066.
URL:https://ourladyofgracechurch.com/event/exposition-of-the-blessed-sacrament-2-2-2-2/2026-08-11/
LOCATION:Our Lady of Grace Catholic Church\, 300 Malabar Rd\, Palm Bay\, 32907\, United States
END:VEVENT
BEGIN:VEVENT
DTSTART;TZID=America/New_York:20260811T103000
DTEND;TZID=America/New_York:20260811T113000
DTSTAMP:20260420T000638
CREATED:20240205T195658Z
LAST-MODIFIED:20241113T042406Z
UID:10006318-1786444200-1786447800@ourladyofgracechurch.com
SUMMARY:Estudio de la Biblia en español
DESCRIPTION:Spanish Bible Study
URL:https://ourladyofgracechurch.com/event/estudio-de-la-biblia-en-espanol/2026-08-11/
LOCATION:Our Lady of Grace Catholic Church\, 300 Malabar Rd\, Palm Bay\, 32907\, United States
END:VEVENT
BEGIN:VEVENT
DTSTART;TZID=America/New_York:20260811T120000
DTEND;TZID=America/New_York:20260811T123000
DTSTAMP:20260420T000638
CREATED:20250826T181333Z
LAST-MODIFIED:20260311T031945Z
UID:10013596-1786449600-1786451400@ourladyofgracechurch.com
SUMMARY:Daily Mass at 12 Noon
DESCRIPTION:Daily Mass Monday through Friday at \n9 AM and 12 Noon \n(Subject to change depending on Holy Days of obligation and holidays.)
URL:https://ourladyofgracechurch.com/event/daily-mass-at-12-noon/2026-08-11/
LOCATION:Our Lady of Grace Catholic Church\, 300 Malabar Rd\, Palm Bay\, 32907\, United States
ATTACH;FMTTYPE=image/png:https://ourladyofgracechurch.com/wp-content/uploads/2023/10/Website-Mass-icon.png
END:VEVENT
BEGIN:VEVENT
DTSTART;TZID=America/New_York:20260811T190000
DTEND;TZID=America/New_York:20260811T210000
DTSTAMP:20260420T000638
CREATED:20240205T200239Z
LAST-MODIFIED:20241113T042544Z
UID:10006841-1786474800-1786482000@ourladyofgracechurch.com
SUMMARY:Haitian Charismatic Prayer Group
DESCRIPTION:
URL:https://ourladyofgracechurch.com/event/haitian-charismatic-prayer-group/2026-08-11/
LOCATION:Our Lady of Grace Catholic Church\, 300 Malabar Rd\, Palm Bay\, 32907\, United States
END:VEVENT
BEGIN:VEVENT
DTSTART;TZID=America/New_York:20260812T090000
DTEND;TZID=America/New_York:20260812T100000
DTSTAMP:20260420T000638
CREATED:20241108T172543Z
LAST-MODIFIED:20260311T031647Z
UID:10001332-1786525200-1786528800@ourladyofgracechurch.com
SUMMARY:Weekday Mass in English
DESCRIPTION:
URL:https://ourladyofgracechurch.com/event/mass-in-english-2-2-2/2026-08-12/
LOCATION:Our Lady of Grace Catholic Church\, 300 Malabar Rd\, Palm Bay\, 32907\, United States
ATTACH;FMTTYPE=image/png:https://ourladyofgracechurch.com/wp-content/uploads/2023/10/Website-Mass-icon.png
END:VEVENT
BEGIN:VEVENT
DTSTART;TZID=America/New_York:20260812T100000
DTEND;TZID=America/New_York:20260812T110000
DTSTAMP:20260420T000638
CREATED:20251202T183954Z
LAST-MODIFIED:20251202T183955Z
UID:10007101-1786528800-1786532400@ourladyofgracechurch.com
SUMMARY:Coffee with the Knights of Columbus
DESCRIPTION:Join the Knights of Columbus and fellow parishioners after the 9 AM Mass for coffee and donuts. We read and talk about the Gospel for the next Sunday.  Everyone is welcome; please join us.
URL:https://ourladyofgracechurch.com/event/knights-of-columbus-coffee-donuts-2/2026-08-12/
LOCATION:Our Lady of Grace Catholic Church\, 300 Malabar Rd\, Palm Bay\, 32907\, United States
ATTACH;FMTTYPE=image/jpeg:https://ourladyofgracechurch.com/wp-content/uploads/2023/11/Knights-Coffee-and-donuts.jpg
END:VEVENT
BEGIN:VEVENT
DTSTART;TZID=America/New_York:20260812T100000
DTEND;TZID=America/New_York:20260812T113000
DTSTAMP:20260420T000638
CREATED:20251202T183834Z
LAST-MODIFIED:20260311T031856Z
UID:10002860-1786528800-1786534200@ourladyofgracechurch.com
SUMMARY:Exposition of the Blessed Sacrament
DESCRIPTION:Come visit every Tuesday\, Wednesday and Friday from 10:00 AM – 11:30 AM.  \n*Schedule subject to change due to a funeral. Please contact the parish office 321-725-3066.
URL:https://ourladyofgracechurch.com/event/exposition-of-the-blessed-sacrament-2-2-2-2/2026-08-12/
LOCATION:Our Lady of Grace Catholic Church\, 300 Malabar Rd\, Palm Bay\, 32907\, United States
END:VEVENT
BEGIN:VEVENT
DTSTART;TZID=America/New_York:20260812T120000
DTEND;TZID=America/New_York:20260812T123000
DTSTAMP:20260420T000638
CREATED:20250826T181333Z
LAST-MODIFIED:20260311T031945Z
UID:10013597-1786536000-1786537800@ourladyofgracechurch.com
SUMMARY:Daily Mass at 12 Noon
DESCRIPTION:Daily Mass Monday through Friday at \n9 AM and 12 Noon \n(Subject to change depending on Holy Days of obligation and holidays.)
URL:https://ourladyofgracechurch.com/event/daily-mass-at-12-noon/2026-08-12/
LOCATION:Our Lady of Grace Catholic Church\, 300 Malabar Rd\, Palm Bay\, 32907\, United States
ATTACH;FMTTYPE=image/png:https://ourladyofgracechurch.com/wp-content/uploads/2023/10/Website-Mass-icon.png
END:VEVENT
BEGIN:VEVENT
DTSTART;TZID=America/New_York:20260812T180000
DTEND;TZID=America/New_York:20260812T193000
DTSTAMP:20260420T000638
CREATED:20240627T020929Z
LAST-MODIFIED:20240627T040754Z
UID:10009974-1786557600-1786563000@ourladyofgracechurch.com
SUMMARY:Confession on Wednesday evenings
DESCRIPTION:
URL:https://ourladyofgracechurch.com/event/confession-on-wednesday-evenings/2026-08-12/
LOCATION:Our Lady of Grace Catholic Church\, 300 Malabar Rd\, Palm Bay\, 32907\, United States
ATTACH;FMTTYPE=image/jpeg:https://ourladyofgracechurch.com/wp-content/uploads/2024/06/getresult.jpg
END:VEVENT
BEGIN:VEVENT
DTSTART;TZID=America/New_York:20260812T183000
DTEND;TZID=America/New_York:20260812T203000
DTSTAMP:20260420T000638
CREATED:20240205T201550Z
LAST-MODIFIED:20251230T190202Z
UID:10007363-1786559400-1786566600@ourladyofgracechurch.com
SUMMARY:Choir Rehearsal for 9 AM & 4 PM Mass - Church
DESCRIPTION:Please call the church for more information about joining the Music Ministry.
URL:https://ourladyofgracechurch.com/event/choir-rehearsal-for-9-am-4-pm-mass-church/2026-08-12/
LOCATION:Our Lady of Grace Catholic Church\, 300 Malabar Rd\, Palm Bay\, 32907\, United States
END:VEVENT
BEGIN:VEVENT
DTSTART;TZID=America/New_York:20260813T090000
DTEND;TZID=America/New_York:20260813T100000
DTSTAMP:20260420T000638
CREATED:20231118T163611Z
LAST-MODIFIED:20260311T031542Z
UID:10011511-1786611600-1786615200@ourladyofgracechurch.com
SUMMARY:Mass in English
DESCRIPTION:
URL:https://ourladyofgracechurch.com/event/communion-service-2/2026-08-13/
LOCATION:Our Lady of Grace Catholic Church\, 300 Malabar Rd\, Palm Bay\, 32907\, United States
END:VEVENT
BEGIN:VEVENT
DTSTART;TZID=America/New_York:20260813T120000
DTEND;TZID=America/New_York:20260813T123000
DTSTAMP:20260420T000638
CREATED:20250826T181333Z
LAST-MODIFIED:20260311T031945Z
UID:10013598-1786622400-1786624200@ourladyofgracechurch.com
SUMMARY:Daily Mass at 12 Noon
DESCRIPTION:Daily Mass Monday through Friday at \n9 AM and 12 Noon \n(Subject to change depending on Holy Days of obligation and holidays.)
URL:https://ourladyofgracechurch.com/event/daily-mass-at-12-noon/2026-08-13/
LOCATION:Our Lady of Grace Catholic Church\, 300 Malabar Rd\, Palm Bay\, 32907\, United States
ATTACH;FMTTYPE=image/png:https://ourladyofgracechurch.com/wp-content/uploads/2023/10/Website-Mass-icon.png
END:VEVENT
BEGIN:VEVENT
DTSTART;TZID=America/New_York:20260813T180000
DTEND;TZID=America/New_York:20260813T200000
DTSTAMP:20260420T000638
CREATED:20251118T181649Z
LAST-MODIFIED:20260311T032925Z
UID:10007884-1786644000-1786651200@ourladyofgracechurch.com
SUMMARY:Estudio de las Biblia con Sister Angeles
DESCRIPTION:
URL:https://ourladyofgracechurch.com/event/estudio-de-las-biblia-con-sister-angeles-2/2026-08-13/
LOCATION:Our Lady of Grace Catholic Church\, 300 Malabar Rd\, Palm Bay\, 32907\, United States
END:VEVENT
BEGIN:VEVENT
DTSTART;TZID=America/New_York:20260813T183000
DTEND;TZID=America/New_York:20260813T200000
DTSTAMP:20260420T000638
CREATED:20241108T165232Z
LAST-MODIFIED:20260311T031814Z
UID:10008533-1786645800-1786651200@ourladyofgracechurch.com
SUMMARY:Spanish Choir Rehearsal
DESCRIPTION:
URL:https://ourladyofgracechurch.com/event/spanish-choir-rehearsal-3/2026-08-13/
LOCATION:Our Lady of Grace Catholic Church\, 300 Malabar Rd\, Palm Bay\, 32907\, United States
END:VEVENT
BEGIN:VEVENT
DTSTART;TZID=America/New_York:20260813T183000
DTEND;TZID=America/New_York:20260813T200000
DTSTAMP:20260420T000638
CREATED:20241108T170338Z
LAST-MODIFIED:20260311T033106Z
UID:10011873-1786645800-1786651200@ourladyofgracechurch.com
SUMMARY:Bible Study with Theresa
DESCRIPTION:
URL:https://ourladyofgracechurch.com/event/bible-study-with-theresa-3/2026-08-13/
LOCATION:Our Lady of Grace Catholic Church\, 300 Malabar Rd\, Palm Bay\, 32907\, United States
END:VEVENT
BEGIN:VEVENT
DTSTART;TZID=America/New_York:20260813T190000
DTEND;TZID=America/New_York:20260813T210000
DTSTAMP:20260420T000638
CREATED:20241108T172305Z
LAST-MODIFIED:20260311T033439Z
UID:10010705-1786647600-1786654800@ourladyofgracechurch.com
SUMMARY:Holy Family Haitian Ministry
DESCRIPTION:
URL:https://ourladyofgracechurch.com/event/holy-family-haitian-ministry-2/2026-08-13/
LOCATION:Our Lady of Grace Catholic Church\, 300 Malabar Rd\, Palm Bay\, 32907\, United States
END:VEVENT
BEGIN:VEVENT
DTSTART;TZID=America/New_York:20260814T090000
DTEND;TZID=America/New_York:20260814T100000
DTSTAMP:20260420T000638
CREATED:20241108T172543Z
LAST-MODIFIED:20260311T031647Z
UID:10001333-1786698000-1786701600@ourladyofgracechurch.com
SUMMARY:Weekday Mass in English
DESCRIPTION:
URL:https://ourladyofgracechurch.com/event/mass-in-english-2-2-2/2026-08-14/
LOCATION:Our Lady of Grace Catholic Church\, 300 Malabar Rd\, Palm Bay\, 32907\, United States
ATTACH;FMTTYPE=image/png:https://ourladyofgracechurch.com/wp-content/uploads/2023/10/Website-Mass-icon.png
END:VEVENT
BEGIN:VEVENT
DTSTART;TZID=America/New_York:20260814T100000
DTEND;TZID=America/New_York:20260814T113000
DTSTAMP:20260420T000638
CREATED:20251202T183834Z
LAST-MODIFIED:20260311T031856Z
UID:10002861-1786701600-1786707000@ourladyofgracechurch.com
SUMMARY:Exposition of the Blessed Sacrament
DESCRIPTION:Come visit every Tuesday\, Wednesday and Friday from 10:00 AM – 11:30 AM.  \n*Schedule subject to change due to a funeral. Please contact the parish office 321-725-3066.
URL:https://ourladyofgracechurch.com/event/exposition-of-the-blessed-sacrament-2-2-2-2/2026-08-14/
LOCATION:Our Lady of Grace Catholic Church\, 300 Malabar Rd\, Palm Bay\, 32907\, United States
END:VEVENT
BEGIN:VEVENT
DTSTART;TZID=America/New_York:20260814T120000
DTEND;TZID=America/New_York:20260814T123000
DTSTAMP:20260420T000638
CREATED:20250826T181333Z
LAST-MODIFIED:20260311T031945Z
UID:10013599-1786708800-1786710600@ourladyofgracechurch.com
SUMMARY:Daily Mass at 12 Noon
DESCRIPTION:Daily Mass Monday through Friday at \n9 AM and 12 Noon \n(Subject to change depending on Holy Days of obligation and holidays.)
URL:https://ourladyofgracechurch.com/event/daily-mass-at-12-noon/2026-08-14/
LOCATION:Our Lady of Grace Catholic Church\, 300 Malabar Rd\, Palm Bay\, 32907\, United States
ATTACH;FMTTYPE=image/png:https://ourladyofgracechurch.com/wp-content/uploads/2023/10/Website-Mass-icon.png
END:VEVENT
BEGIN:VEVENT
DTSTART;TZID=America/New_York:20260814T120000
DTEND;TZID=America/New_York:20260814T143000
DTSTAMP:20260420T000638
CREATED:20240627T004704Z
LAST-MODIFIED:20251118T183148Z
UID:10009473-1786708800-1786717800@ourladyofgracechurch.com
SUMMARY:Loaves & Fishes
DESCRIPTION:Please note: \nThere will be no Loaves and Fishes on 11/28/25.
URL:https://ourladyofgracechurch.com/event/loaves-fishes/2026-08-14/
LOCATION:Our Lady of Grace Catholic Church\, 300 Malabar Rd\, Palm Bay\, 32907\, United States
END:VEVENT
BEGIN:VEVENT
DTSTART;TZID=America/New_York:20260815T100000
DTEND;TZID=America/New_York:20260815T113000
DTSTAMP:20260420T000638
CREATED:20240627T025118Z
LAST-MODIFIED:20260311T033724Z
UID:10010213-1786788000-1786793400@ourladyofgracechurch.com
SUMMARY:Confession on Saturday
DESCRIPTION:There will be no Saturday confession if there is a funeral service on a Saturday or if a Priest is unavailable. \nPlease see the home page for additional information regarding confessions.
URL:https://ourladyofgracechurch.com/event/confession-on-saturday/2026-08-15/
LOCATION:Our Lady of Grace Catholic Church\, 300 Malabar Rd\, Palm Bay\, 32907\, United States
ATTACH;FMTTYPE=image/png:https://ourladyofgracechurch.com/wp-content/uploads/2023/10/Website-Mass-icon-2.png
END:VEVENT
BEGIN:VEVENT
DTSTART;TZID=America/New_York:20260815T160000
DTEND;TZID=America/New_York:20260815T170000
DTSTAMP:20260420T000638
CREATED:20230817T192802Z
LAST-MODIFIED:20260311T033810Z
UID:10003286-1786809600-1786813200@ourladyofgracechurch.com
SUMMARY:Mass in English
DESCRIPTION:Please note: On Saturday\, April 17\, 2025\, there will not be a 4 PM Mass. During the Easter Triduum\, Mass on Holy Saturday begins at 8:30 PM.
URL:https://ourladyofgracechurch.com/event/mass-in-english/2026-08-15/
LOCATION:Our Lady of Grace Catholic Church\, 300 Malabar Rd\, Palm Bay\, 32907\, United States
ATTACH;FMTTYPE=image/png:https://ourladyofgracechurch.com/wp-content/uploads/2023/08/Untitled-design-6.png
END:VEVENT
BEGIN:VEVENT
DTSTART;TZID=America/New_York:20260816T090000
DTEND;TZID=America/New_York:20260816T100000
DTSTAMP:20260420T000638
CREATED:20230817T192942Z
LAST-MODIFIED:20230818T164120Z
UID:10003547-1786870800-1786874400@ourladyofgracechurch.com
SUMMARY:Mass in English
DESCRIPTION:
URL:https://ourladyofgracechurch.com/event/mass-in-english-4/2026-08-16/
LOCATION:Our Lady of Grace Catholic Church\, 300 Malabar Rd\, Palm Bay\, 32907\, United States
ATTACH;FMTTYPE=image/png:https://ourladyofgracechurch.com/wp-content/uploads/2023/08/Untitled-design-6.png
END:VEVENT
BEGIN:VEVENT
DTSTART;TZID=America/New_York:20260816T104500
DTEND;TZID=America/New_York:20260816T110000
DTSTAMP:20260420T000638
CREATED:20230817T200348Z
LAST-MODIFIED:20240203T132047Z
UID:10003808-1786877100-1786878000@ourladyofgracechurch.com
SUMMARY:Mass in French/Creole
DESCRIPTION:
URL:https://ourladyofgracechurch.com/event/mass-in-french-creole-2/2026-08-16/
LOCATION:Our Lady of Grace Catholic Church\, 300 Malabar Rd\, Palm Bay\, 32907\, United States
ATTACH;FMTTYPE=image/png:https://ourladyofgracechurch.com/wp-content/uploads/2023/08/Untitled-design-6.png
END:VEVENT
BEGIN:VEVENT
DTSTART;TZID=America/New_York:20260816T130000
DTEND;TZID=America/New_York:20260816T140000
DTSTAMP:20260420T000638
CREATED:20230817T200520Z
LAST-MODIFIED:20260311T035411Z
UID:10004069-1786885200-1786888800@ourladyofgracechurch.com
SUMMARY:Misa de Pascua en Español (Mass in English)
DESCRIPTION:
URL:https://ourladyofgracechurch.com/event/misa-en-espanol-mass-in-english/2026-08-16/
LOCATION:Our Lady of Grace Catholic Church\, 300 Malabar Rd\, Palm Bay\, 32907\, United States
ATTACH;FMTTYPE=image/png:https://ourladyofgracechurch.com/wp-content/uploads/2023/08/Untitled-design-6.png
END:VEVENT
END:VCALENDAR