BEGIN:VCALENDAR
VERSION:2.0
PRODID:-//Our Lady of Grace Church - ECPv6.15.17//NONSGML v1.0//EN
CALSCALE:GREGORIAN
METHOD:PUBLISH
X-ORIGINAL-URL:https://ourladyofgracechurch.com
X-WR-CALDESC:Events for Our Lady of Grace Church
REFRESH-INTERVAL;VALUE=DURATION:PT1H
X-Robots-Tag:noindex
X-PUBLISHED-TTL:PT1H
BEGIN:VTIMEZONE
TZID:America/New_York
BEGIN:DAYLIGHT
TZOFFSETFROM:-0500
TZOFFSETTO:-0400
TZNAME:EDT
DTSTART:20250309T070000
END:DAYLIGHT
BEGIN:STANDARD
TZOFFSETFROM:-0400
TZOFFSETTO:-0500
TZNAME:EST
DTSTART:20251102T060000
END:STANDARD
BEGIN:DAYLIGHT
TZOFFSETFROM:-0500
TZOFFSETTO:-0400
TZNAME:EDT
DTSTART:20260308T070000
END:DAYLIGHT
BEGIN:STANDARD
TZOFFSETFROM:-0400
TZOFFSETTO:-0500
TZNAME:EST
DTSTART:20261101T060000
END:STANDARD
BEGIN:DAYLIGHT
TZOFFSETFROM:-0500
TZOFFSETTO:-0400
TZNAME:EDT
DTSTART:20270314T070000
END:DAYLIGHT
BEGIN:STANDARD
TZOFFSETFROM:-0400
TZOFFSETTO:-0500
TZNAME:EST
DTSTART:20271107T060000
END:STANDARD
END:VTIMEZONE
BEGIN:VEVENT
DTSTART;TZID=America/New_York:20260910T090000
DTEND;TZID=America/New_York:20260910T100000
DTSTAMP:20260422T115148
CREATED:20231118T163611Z
LAST-MODIFIED:20260311T031542Z
UID:10011515-1789030800-1789034400@ourladyofgracechurch.com
SUMMARY:Mass in English
DESCRIPTION:
URL:https://ourladyofgracechurch.com/event/communion-service-2/2026-09-10/
LOCATION:Our Lady of Grace Catholic Church\, 300 Malabar Rd\, Palm Bay\, 32907\, United States
END:VEVENT
BEGIN:VEVENT
DTSTART;TZID=America/New_York:20260910T120000
DTEND;TZID=America/New_York:20260910T123000
DTSTAMP:20260422T115148
CREATED:20250826T181333Z
LAST-MODIFIED:20260311T031945Z
UID:10013618-1789041600-1789043400@ourladyofgracechurch.com
SUMMARY:Daily Mass at 12 Noon
DESCRIPTION:Daily Mass Monday through Friday at \n9 AM and 12 Noon \n(Subject to change depending on Holy Days of obligation and holidays.)
URL:https://ourladyofgracechurch.com/event/daily-mass-at-12-noon/2026-09-10/
LOCATION:Our Lady of Grace Catholic Church\, 300 Malabar Rd\, Palm Bay\, 32907\, United States
ATTACH;FMTTYPE=image/png:https://ourladyofgracechurch.com/wp-content/uploads/2023/10/Website-Mass-icon.png
END:VEVENT
BEGIN:VEVENT
DTSTART;TZID=America/New_York:20260910T180000
DTEND;TZID=America/New_York:20260910T200000
DTSTAMP:20260422T115148
CREATED:20251118T181649Z
LAST-MODIFIED:20260311T032925Z
UID:10007888-1789063200-1789070400@ourladyofgracechurch.com
SUMMARY:Estudio de las Biblia con Sister Angeles
DESCRIPTION:
URL:https://ourladyofgracechurch.com/event/estudio-de-las-biblia-con-sister-angeles-2/2026-09-10/
LOCATION:Our Lady of Grace Catholic Church\, 300 Malabar Rd\, Palm Bay\, 32907\, United States
END:VEVENT
BEGIN:VEVENT
DTSTART;TZID=America/New_York:20260910T183000
DTEND;TZID=America/New_York:20260910T200000
DTSTAMP:20260422T115148
CREATED:20241108T165232Z
LAST-MODIFIED:20260311T031814Z
UID:10008537-1789065000-1789070400@ourladyofgracechurch.com
SUMMARY:Spanish Choir Rehearsal
DESCRIPTION:
URL:https://ourladyofgracechurch.com/event/spanish-choir-rehearsal-3/2026-09-10/
LOCATION:Our Lady of Grace Catholic Church\, 300 Malabar Rd\, Palm Bay\, 32907\, United States
END:VEVENT
BEGIN:VEVENT
DTSTART;TZID=America/New_York:20260910T183000
DTEND;TZID=America/New_York:20260910T200000
DTSTAMP:20260422T115148
CREATED:20241108T170338Z
LAST-MODIFIED:20260311T033106Z
UID:10011877-1789065000-1789070400@ourladyofgracechurch.com
SUMMARY:Bible Study with Theresa
DESCRIPTION:
URL:https://ourladyofgracechurch.com/event/bible-study-with-theresa-3/2026-09-10/
LOCATION:Our Lady of Grace Catholic Church\, 300 Malabar Rd\, Palm Bay\, 32907\, United States
END:VEVENT
BEGIN:VEVENT
DTSTART;TZID=America/New_York:20260910T190000
DTEND;TZID=America/New_York:20260910T210000
DTSTAMP:20260422T115148
CREATED:20241108T172305Z
LAST-MODIFIED:20260311T033439Z
UID:10010709-1789066800-1789074000@ourladyofgracechurch.com
SUMMARY:Holy Family Haitian Ministry
DESCRIPTION:
URL:https://ourladyofgracechurch.com/event/holy-family-haitian-ministry-2/2026-09-10/
LOCATION:Our Lady of Grace Catholic Church\, 300 Malabar Rd\, Palm Bay\, 32907\, United States
END:VEVENT
END:VCALENDAR