BEGIN:VCALENDAR
VERSION:2.0
PRODID:-//Our Lady of Grace Church - ECPv6.15.17//NONSGML v1.0//EN
CALSCALE:GREGORIAN
METHOD:PUBLISH
X-ORIGINAL-URL:https://ourladyofgracechurch.com
X-WR-CALDESC:Events for Our Lady of Grace Church
REFRESH-INTERVAL;VALUE=DURATION:PT1H
X-Robots-Tag:noindex
X-PUBLISHED-TTL:PT1H
BEGIN:VTIMEZONE
TZID:America/New_York
BEGIN:DAYLIGHT
TZOFFSETFROM:-0500
TZOFFSETTO:-0400
TZNAME:EDT
DTSTART:20250309T070000
END:DAYLIGHT
BEGIN:STANDARD
TZOFFSETFROM:-0400
TZOFFSETTO:-0500
TZNAME:EST
DTSTART:20251102T060000
END:STANDARD
BEGIN:DAYLIGHT
TZOFFSETFROM:-0500
TZOFFSETTO:-0400
TZNAME:EDT
DTSTART:20260308T070000
END:DAYLIGHT
BEGIN:STANDARD
TZOFFSETFROM:-0400
TZOFFSETTO:-0500
TZNAME:EST
DTSTART:20261101T060000
END:STANDARD
BEGIN:DAYLIGHT
TZOFFSETFROM:-0500
TZOFFSETTO:-0400
TZNAME:EDT
DTSTART:20270314T070000
END:DAYLIGHT
BEGIN:STANDARD
TZOFFSETFROM:-0400
TZOFFSETTO:-0500
TZNAME:EST
DTSTART:20271107T060000
END:STANDARD
END:VTIMEZONE
BEGIN:VEVENT
DTSTART;TZID=America/New_York:20260731T090000
DTEND;TZID=America/New_York:20260731T100000
DTSTAMP:20260419T153012
CREATED:20241108T172543Z
LAST-MODIFIED:20260311T031647Z
UID:10001327-1785488400-1785492000@ourladyofgracechurch.com
SUMMARY:Weekday Mass in English
DESCRIPTION:
URL:https://ourladyofgracechurch.com/event/mass-in-english-2-2-2/2026-07-31/
LOCATION:Our Lady of Grace Catholic Church\, 300 Malabar Rd\, Palm Bay\, 32907\, United States
ATTACH;FMTTYPE=image/png:https://ourladyofgracechurch.com/wp-content/uploads/2023/10/Website-Mass-icon.png
END:VEVENT
BEGIN:VEVENT
DTSTART;TZID=America/New_York:20260731T100000
DTEND;TZID=America/New_York:20260731T113000
DTSTAMP:20260419T153012
CREATED:20251202T183834Z
LAST-MODIFIED:20260311T031856Z
UID:10002855-1785492000-1785497400@ourladyofgracechurch.com
SUMMARY:Exposition of the Blessed Sacrament
DESCRIPTION:Come visit every Tuesday\, Wednesday and Friday from 10:00 AM – 11:30 AM.  \n*Schedule subject to change due to a funeral. Please contact the parish office 321-725-3066.
URL:https://ourladyofgracechurch.com/event/exposition-of-the-blessed-sacrament-2-2-2-2/2026-07-31/
LOCATION:Our Lady of Grace Catholic Church\, 300 Malabar Rd\, Palm Bay\, 32907\, United States
END:VEVENT
BEGIN:VEVENT
DTSTART;TZID=America/New_York:20260731T120000
DTEND;TZID=America/New_York:20260731T123000
DTSTAMP:20260419T153012
CREATED:20250826T181333Z
LAST-MODIFIED:20260311T031945Z
UID:10013589-1785499200-1785501000@ourladyofgracechurch.com
SUMMARY:Daily Mass at 12 Noon
DESCRIPTION:Daily Mass Monday through Friday at \n9 AM and 12 Noon \n(Subject to change depending on Holy Days of obligation and holidays.)
URL:https://ourladyofgracechurch.com/event/daily-mass-at-12-noon/2026-07-31/
LOCATION:Our Lady of Grace Catholic Church\, 300 Malabar Rd\, Palm Bay\, 32907\, United States
ATTACH;FMTTYPE=image/png:https://ourladyofgracechurch.com/wp-content/uploads/2023/10/Website-Mass-icon.png
END:VEVENT
BEGIN:VEVENT
DTSTART;TZID=America/New_York:20260731T120000
DTEND;TZID=America/New_York:20260731T143000
DTSTAMP:20260419T153012
CREATED:20240627T004704Z
LAST-MODIFIED:20251118T183148Z
UID:10009471-1785499200-1785508200@ourladyofgracechurch.com
SUMMARY:Loaves & Fishes
DESCRIPTION:Please note: \nThere will be no Loaves and Fishes on 11/28/25.
URL:https://ourladyofgracechurch.com/event/loaves-fishes/2026-07-31/
LOCATION:Our Lady of Grace Catholic Church\, 300 Malabar Rd\, Palm Bay\, 32907\, United States
END:VEVENT
END:VCALENDAR