BEGIN:VCALENDAR
VERSION:2.0
PRODID:-//Our Lady of Grace Church - ECPv6.15.17//NONSGML v1.0//EN
CALSCALE:GREGORIAN
METHOD:PUBLISH
X-ORIGINAL-URL:https://ourladyofgracechurch.com
X-WR-CALDESC:Events for Our Lady of Grace Church
REFRESH-INTERVAL;VALUE=DURATION:PT1H
X-Robots-Tag:noindex
X-PUBLISHED-TTL:PT1H
BEGIN:VTIMEZONE
TZID:America/New_York
BEGIN:DAYLIGHT
TZOFFSETFROM:-0500
TZOFFSETTO:-0400
TZNAME:EDT
DTSTART:20250309T070000
END:DAYLIGHT
BEGIN:STANDARD
TZOFFSETFROM:-0400
TZOFFSETTO:-0500
TZNAME:EST
DTSTART:20251102T060000
END:STANDARD
BEGIN:DAYLIGHT
TZOFFSETFROM:-0500
TZOFFSETTO:-0400
TZNAME:EDT
DTSTART:20260308T070000
END:DAYLIGHT
BEGIN:STANDARD
TZOFFSETFROM:-0400
TZOFFSETTO:-0500
TZNAME:EST
DTSTART:20261101T060000
END:STANDARD
BEGIN:DAYLIGHT
TZOFFSETFROM:-0500
TZOFFSETTO:-0400
TZNAME:EDT
DTSTART:20270314T070000
END:DAYLIGHT
BEGIN:STANDARD
TZOFFSETFROM:-0400
TZOFFSETTO:-0500
TZNAME:EST
DTSTART:20271107T060000
END:STANDARD
END:VTIMEZONE
BEGIN:VEVENT
DTSTART;TZID=America/New_York:20260602T090000
DTEND;TZID=America/New_York:20260602T100000
DTSTAMP:20260419T132608
CREATED:20230301T173744Z
LAST-MODIFIED:20241113T042626Z
UID:10002116-1780390800-1780394400@ourladyofgracechurch.com
SUMMARY:Misa en Español
DESCRIPTION:Misa en Español (Weekday Mass in Spanish)
URL:https://ourladyofgracechurch.com/event/misa-en-espanol/2026-06-02/
LOCATION:Our Lady of Grace Catholic Church\, 300 Malabar Rd\, Palm Bay\, 32907\, United States
ATTACH;FMTTYPE=image/png:https://ourladyofgracechurch.com/wp-content/uploads/2023/10/Website-Mass-icon.png
END:VEVENT
BEGIN:VEVENT
DTSTART;TZID=America/New_York:20260602T100000
DTEND;TZID=America/New_York:20260602T113000
DTSTAMP:20260419T132608
CREATED:20251202T183834Z
LAST-MODIFIED:20260311T031856Z
UID:10002829-1780394400-1780399800@ourladyofgracechurch.com
SUMMARY:Exposition of the Blessed Sacrament
DESCRIPTION:Come visit every Tuesday\, Wednesday and Friday from 10:00 AM – 11:30 AM.  \n*Schedule subject to change due to a funeral. Please contact the parish office 321-725-3066.
URL:https://ourladyofgracechurch.com/event/exposition-of-the-blessed-sacrament-2-2-2-2/2026-06-02/
LOCATION:Our Lady of Grace Catholic Church\, 300 Malabar Rd\, Palm Bay\, 32907\, United States
END:VEVENT
BEGIN:VEVENT
DTSTART;TZID=America/New_York:20260602T103000
DTEND;TZID=America/New_York:20260602T113000
DTSTAMP:20260419T132608
CREATED:20240205T195658Z
LAST-MODIFIED:20241113T042406Z
UID:10006308-1780396200-1780399800@ourladyofgracechurch.com
SUMMARY:Estudio de la Biblia en español
DESCRIPTION:Spanish Bible Study
URL:https://ourladyofgracechurch.com/event/estudio-de-la-biblia-en-espanol/2026-06-02/
LOCATION:Our Lady of Grace Catholic Church\, 300 Malabar Rd\, Palm Bay\, 32907\, United States
END:VEVENT
BEGIN:VEVENT
DTSTART;TZID=America/New_York:20260602T120000
DTEND;TZID=America/New_York:20260602T123000
DTSTAMP:20260419T132608
CREATED:20250826T181333Z
LAST-MODIFIED:20260311T031945Z
UID:10013546-1780401600-1780403400@ourladyofgracechurch.com
SUMMARY:Daily Mass at 12 Noon
DESCRIPTION:Daily Mass Monday through Friday at \n9 AM and 12 Noon \n(Subject to change depending on Holy Days of obligation and holidays.)
URL:https://ourladyofgracechurch.com/event/daily-mass-at-12-noon/2026-06-02/
LOCATION:Our Lady of Grace Catholic Church\, 300 Malabar Rd\, Palm Bay\, 32907\, United States
ATTACH;FMTTYPE=image/png:https://ourladyofgracechurch.com/wp-content/uploads/2023/10/Website-Mass-icon.png
END:VEVENT
BEGIN:VEVENT
DTSTART;TZID=America/New_York:20260602T190000
DTEND;TZID=America/New_York:20260602T210000
DTSTAMP:20260419T132608
CREATED:20240205T200239Z
LAST-MODIFIED:20241113T042544Z
UID:10006831-1780426800-1780434000@ourladyofgracechurch.com
SUMMARY:Haitian Charismatic Prayer Group
DESCRIPTION:
URL:https://ourladyofgracechurch.com/event/haitian-charismatic-prayer-group/2026-06-02/
LOCATION:Our Lady of Grace Catholic Church\, 300 Malabar Rd\, Palm Bay\, 32907\, United States
END:VEVENT
END:VCALENDAR